BEGIN:VCALENDAR
VERSION:2.0
PRODID:-//Champlain College - ECPv6.15.18//NONSGML v1.0//EN
CALSCALE:GREGORIAN
METHOD:PUBLISH
X-WR-CALNAME:Champlain College
X-ORIGINAL-URL:https://www.champlain.edu
X-WR-CALDESC:Events for Champlain College
REFRESH-INTERVAL;VALUE=DURATION:PT1H
X-Robots-Tag:noindex
X-PUBLISHED-TTL:PT1H
BEGIN:VTIMEZONE
TZID:America/New_York
BEGIN:DAYLIGHT
TZOFFSETFROM:-0500
TZOFFSETTO:-0400
TZNAME:EDT
DTSTART:20230312T070000
END:DAYLIGHT
BEGIN:STANDARD
TZOFFSETFROM:-0400
TZOFFSETTO:-0500
TZNAME:EST
DTSTART:20231105T060000
END:STANDARD
BEGIN:DAYLIGHT
TZOFFSETFROM:-0500
TZOFFSETTO:-0400
TZNAME:EDT
DTSTART:20240310T070000
END:DAYLIGHT
BEGIN:STANDARD
TZOFFSETFROM:-0400
TZOFFSETTO:-0500
TZNAME:EST
DTSTART:20241103T060000
END:STANDARD
BEGIN:DAYLIGHT
TZOFFSETFROM:-0500
TZOFFSETTO:-0400
TZNAME:EDT
DTSTART:20250309T070000
END:DAYLIGHT
BEGIN:STANDARD
TZOFFSETFROM:-0400
TZOFFSETTO:-0500
TZNAME:EST
DTSTART:20251102T060000
END:STANDARD
END:VTIMEZONE
BEGIN:VEVENT
DTSTART;TZID=America/New_York:20240828T133000
DTEND;TZID=America/New_York:20240828T163000
DTSTAMP:20260422T085525
CREATED:20240821T212346Z
LAST-MODIFIED:20240821T212501Z
UID:10001377-1724851800-1724862600@www.champlain.edu
SUMMARY:Work-Study & Part-time Job Fair
DESCRIPTION:Campus departments and off-campus employers will be eager to meet you! Visit each table to learn about part-time employment opportunities. Many of the off-campus employers are located within walking or biking distance or on the bus line (your Champlain College ID allows you to ride the local buses for free.) \nFirst time attending a fair? Don’t stress. Career coaches and our team of peer coaches will be on hand to assist you. \nBring a resume if you have one\, and have easy access to your course schedule to know when you have open blocks of time. \n\nReview posted positions on Handshake (on- and off-campus\, work-study\, non-work-study)\nPrepare your resume\nPractice your introductory pitch\nBring your best self\n\nAttending the event fulfills InSight CAREERtalk milestone for first-year students. Does NOT fulfill the Career fair attendance milestone for juniors or seniors.
URL:https://www.champlain.edu/event/work-study-part-time-job-fair/
LOCATION:Champlain Room\, Center for Communication & Creative Media (CCM)\, 375 Maple Street\, Burlington\, VT\, 05401\, United States
CATEGORIES:Career & InSight
ATTACH;FMTTYPE=image/jpeg:https://www.champlain.edu/app/uploads/2023/08/career-fair_student_conversation.jpg
ORGANIZER;CN="Career Collaborative":MAILTO:careercollaborative@champlain.edu
GEO:44.4736955;-73.2041466
X-APPLE-STRUCTURED-LOCATION;VALUE=URI;X-ADDRESS=Champlain Room Center for Communication & Creative Media (CCM) 375 Maple Street Burlington VT 05401 United States;X-APPLE-RADIUS=500;X-TITLE=375 Maple Street:geo:-73.2041466,44.4736955
END:VEVENT
BEGIN:VEVENT
DTSTART;TZID=America/New_York:20240828T203000
DTEND;TZID=America/New_York:20240828T230000
DTSTAMP:20260422T085525
CREATED:20240723T141518Z
LAST-MODIFIED:20250130T200211Z
UID:10000514-1724877000-1724886000@www.champlain.edu
SUMMARY:The Grind Open Mic Coffeehouse
DESCRIPTION:Join us every Wednesday for The Grind Open Mic Coffeehouse! Perform music\, stand-up comedy\, poetry\, and more while enjoying snacks and hanging out with friends. Is the limelight not your thing? Come listen\, support your peers\, and take in the good music and good company!
URL:https://www.champlain.edu/event/the-grind-open-mic-coffeehouse/2024-08-28/
LOCATION:Fireside Lounge\, IDX Student Life Center\, 262 S Willard St\, Burlington\, 05401
CATEGORIES:Art & Music,Student Activities
ATTACH;FMTTYPE=image/jpeg:https://www.champlain.edu/app/uploads/2023/08/fireside_the-grind_students-preforming.jpg
GEO:44.4725946;-73.2044524
X-APPLE-STRUCTURED-LOCATION;VALUE=URI;X-ADDRESS=Fireside Lounge IDX Student Life Center 262 S Willard St Burlington 05401;X-APPLE-RADIUS=500;X-TITLE=262 S Willard St:geo:-73.2044524,44.4725946
END:VEVENT
END:VCALENDAR