BEGIN:VCALENDAR
VERSION:2.0
PRODID:-//Champlain College - ECPv6.15.3//NONSGML v1.0//EN
CALSCALE:GREGORIAN
METHOD:PUBLISH
X-WR-CALNAME:Champlain College
X-ORIGINAL-URL:https://www.champlain.edu
X-WR-CALDESC:Events for Champlain College
REFRESH-INTERVAL;VALUE=DURATION:PT1H
X-Robots-Tag:noindex
X-PUBLISHED-TTL:PT1H
BEGIN:VTIMEZONE
TZID:America/New_York
BEGIN:DAYLIGHT
TZOFFSETFROM:-0500
TZOFFSETTO:-0400
TZNAME:EDT
DTSTART:20240310T070000
END:DAYLIGHT
BEGIN:STANDARD
TZOFFSETFROM:-0400
TZOFFSETTO:-0500
TZNAME:EST
DTSTART:20241103T060000
END:STANDARD
END:VTIMEZONE
BEGIN:VEVENT
DTSTART;VALUE=DATE:20241002
DTEND;VALUE=DATE:20241028
DTSTAMP:20260420T153314
CREATED:20241003T182411Z
LAST-MODIFIED:20241003T200049Z
UID:10005384-1727827200-1730073599@www.champlain.edu
SUMMARY:Another History: Alternative Stories in Game Development
DESCRIPTION:Another History: Alternative Stories in Game Development spotlights the overlooked pioneers whose work has been instrumental in shaping a more inclusive gaming industry. Through a diverse array of voices\, these developers have challenged the norms of representation\, broadening the narrative scope of video games and pushing for equity in both character diversity and development environments. This exhibition celebrates their contributions\, highlighting the power of alternative stories in an industry often dominated by a single narrative. Their innovations not only expand our understanding of what games can be\, but also pave the way for a future where all players and creators are seen\, heard\, and valued. \nAnother History also highlights Champlain College’s Game History Collection. In bi-weekly rotations\, original consoles from various generations of game development are on display. We encourage you to relive the past and experience playing video games using their original hardware—consoles\, controllers—hooked up to original vintage CRT TVs. Once you get a feel for playing a game as it was intended\, we then invite you to play our re-implemented games courtesy of the MiSTer Project. Started in 2017 by Alexey “Sorgelig” Melnikov\, the MiSTer FPGA Project is an open-source initiative that uses core devices to re-implement classic video games on modern FPGA-based hardware. This allows vintage games to run on modern devices such as mice\, keyboards\, controllers\, and flat-screens. The MiSTer Project is ongoing and supports most game console and arcade system cores\, contributing to the digital preservation of game history. \nAnother History is up until October 27th in the Main Gallery located on the second floor of the Center for Creative Media at Champlain College. Gallery hours are Monday through Friday 10am-4pm or by appointment. If you would like to contact us please email: gallery@champlain.edu.
URL:https://www.champlain.edu/event/another-history/
LOCATION:Champlain Art Gallery\, Center for Communication & Creative Media (CCM)\, 375 Maple Street\, Burlington\, VT\, 05401\, United States
GEO:44.4736955;-73.2041466
X-APPLE-STRUCTURED-LOCATION;VALUE=URI;X-ADDRESS=Champlain Art Gallery Center for Communication & Creative Media (CCM) 375 Maple Street Burlington VT 05401 United States;X-APPLE-RADIUS=500;X-TITLE=375 Maple Street:geo:-73.2041466,44.4736955
END:VEVENT
BEGIN:VEVENT
DTSTART;TZID=America/New_York:20241002T133000
DTEND;TZID=America/New_York:20241002T163000
DTSTAMP:20260420T153314
CREATED:20240514T052725Z
LAST-MODIFIED:20240725T185933Z
UID:10000009-1727875800-1727886600@www.champlain.edu
SUMMARY:Fall Career Fair '24
DESCRIPTION:More than 60 employers come to campus each fall and spring to meet students and even host on-the-spot interviews. You can expect to find information about full- and part-time jobs\, internships\, seasonal jobs\, and professional development opportunities while you network with recruiters and alumni.
URL:https://www.champlain.edu/event/fall-career-fair-24/
LOCATION:Argosy Gym\, IDX Student Life Center\, 262 S Willard St\, Burlington\, VT\, United States
CATEGORIES:Career & InSight
ATTACH;FMTTYPE=image/jpeg:https://www.champlain.edu/app/uploads/2023/08/idx-auditorium_crowd_career-fair-event.jpg
ORGANIZER;CN="Career Collaborative":MAILTO:careercollaborative@champlain.edu
GEO:44.4725946;-73.2044524
X-APPLE-STRUCTURED-LOCATION;VALUE=URI;X-ADDRESS=Argosy Gym IDX Student Life Center 262 S Willard St Burlington VT United States;X-APPLE-RADIUS=500;X-TITLE=262 S Willard St:geo:-73.2044524,44.4725946
END:VEVENT
BEGIN:VEVENT
DTSTART;TZID=America/New_York:20241002T170000
DTEND;TZID=America/New_York:20241002T180000
DTSTAMP:20260420T153314
CREATED:20241002T173759Z
LAST-MODIFIED:20241002T173759Z
UID:10003292-1727888400-1727892000@www.champlain.edu
SUMMARY:Building Resilient Friendships: Supporting Each Other Through College Challenges
DESCRIPTION:Join us to discuss the importance of building strong\, supportive friendships during college. We will explore how students can care for one another\, especially during stressful times like exams or personal struggles. Open to all! \nCounts as a Second-Year InSight CAREtalk. Must attend the full program to receive InSight credit.
URL:https://www.champlain.edu/event/building-resilient-friendships-supporting-each-other-through-college-challenges/
LOCATION:Common Room\, Juniper Hall\, 197 S Willard St\, Burlington\, VT\, 05401\, United States
CATEGORIES:Career & InSight,Dare to CARE: Wellbeing
ATTACH;FMTTYPE=image/jpeg:https://www.champlain.edu/app/uploads/2024/05/quad_students_orientation-bbq-lunch.jpg
ORGANIZER;CN="Dare to CARE":MAILTO:daretocare@champlain.edu
GEO:44.4748792;-73.2057677
X-APPLE-STRUCTURED-LOCATION;VALUE=URI;X-ADDRESS=Common Room Juniper Hall 197 S Willard St Burlington VT 05401 United States;X-APPLE-RADIUS=500;X-TITLE=197 S Willard St:geo:-73.2057677,44.4748792
END:VEVENT
BEGIN:VEVENT
DTSTART;TZID=America/New_York:20241002T203000
DTEND;TZID=America/New_York:20241002T230000
DTSTAMP:20260420T153314
CREATED:20240723T141518Z
LAST-MODIFIED:20250130T200211Z
UID:10000579-1727901000-1727910000@www.champlain.edu
SUMMARY:The Grind Open Mic Coffeehouse
DESCRIPTION:Join us every Wednesday for The Grind Open Mic Coffeehouse! Perform music\, stand-up comedy\, poetry\, and more while enjoying snacks and hanging out with friends. Is the limelight not your thing? Come listen\, support your peers\, and take in the good music and good company!
URL:https://www.champlain.edu/event/the-grind-open-mic-coffeehouse/2024-10-02/
LOCATION:Fireside Lounge\, IDX Student Life Center\, 262 S Willard St\, Burlington\, 05401
CATEGORIES:Art & Music,Student Activities
ATTACH;FMTTYPE=image/jpeg:https://www.champlain.edu/app/uploads/2023/08/fireside_the-grind_students-preforming.jpg
GEO:44.4725946;-73.2044524
X-APPLE-STRUCTURED-LOCATION;VALUE=URI;X-ADDRESS=Fireside Lounge IDX Student Life Center 262 S Willard St Burlington 05401;X-APPLE-RADIUS=500;X-TITLE=262 S Willard St:geo:-73.2044524,44.4725946
END:VEVENT
END:VCALENDAR