BEGIN:VCALENDAR
VERSION:2.0
PRODID:-//Champlain College - ECPv6.15.3//NONSGML v1.0//EN
CALSCALE:GREGORIAN
METHOD:PUBLISH
X-WR-CALNAME:Champlain College
X-ORIGINAL-URL:https://www.champlain.edu
X-WR-CALDESC:Events for Champlain College
REFRESH-INTERVAL;VALUE=DURATION:PT1H
X-Robots-Tag:noindex
X-PUBLISHED-TTL:PT1H
BEGIN:VTIMEZONE
TZID:America/New_York
BEGIN:DAYLIGHT
TZOFFSETFROM:-0500
TZOFFSETTO:-0400
TZNAME:EDT
DTSTART:20240310T070000
END:DAYLIGHT
BEGIN:STANDARD
TZOFFSETFROM:-0400
TZOFFSETTO:-0500
TZNAME:EST
DTSTART:20241103T060000
END:STANDARD
END:VTIMEZONE
BEGIN:VEVENT
DTSTART;VALUE=DATE:20241003
DTEND;VALUE=DATE:20241221
DTSTAMP:20260420T201626
CREATED:20241003T193954Z
LAST-MODIFIED:20241003T193954Z
UID:10003578-1727913600-1734739199@www.champlain.edu
SUMMARY:Lakescape
DESCRIPTION:Lakescape is a large-scale permanent installation featuring a mural and sound experience in homage to Lake Champlain. Located in the lower-level hallway of the Center for Communication & Creative Media\, this project is an immersive experience that highlights both the visual and audio uniqueness of the lake from both sides: Vermont and New York. Corresponding with the literal map of the Lake Champlain water basin\, the lower-level hallway becomes a metaphor for the lake and the sights and sounds one might experience while standing in the middle of it. With murals on both walls of the hallway\, the installation will also feature sound samples from selected locations along the shoreline to create a soundtrack that plays through speakers embedded throughout the hallway ceiling. The goal of this project is to merge the visual experience of seeing the lake with the audio experience of the shoreline to create a unique and playful encounter with the waterway from one end of the hallway to the other. \nAbout the Artists: \nJake Barakat is an emerging artist and independent production-based freelancer who has a material-curious studio practice that ranges from painting to woodworking to textile design. \nFrom Jake: Fascinated by aerial views of the earth and our relationship to it\, I am inspired by how people’s connection to the mundane and everyday changes with age. When I was younger\, I would use my imagination to picture the “cracks in the sky.” These cracks are symbolic of how everyday ideas shift based on one’s perception or understanding of any given place or time. For me\, the idea is rooted in wonder and curiosity. I want my work to connect my audience with their inner child. As both an artist and a human\, it is important to me to help rebuild that bridge to finding beauty in simple pleasures. I believe that\, as artists\, we have the opportunity to speak to and reflect our interpretation of the world around us. Using joy as an act of resistance\, I continuously explore how art can help us access a variety of relational experiences. As a queer American-Arab\, there are many facets of my identity that often get lost in stereotypes\, and my art seeks to challenge that. As an emerging artist\, I am pushing myself to stay open to the process. I believe that my work can be both visually accessible and contribute to a larger\, pertinent contemporary conversation. \nJohn Thomas Levee is Program Director and Professor of Game Sound Design at Champlain College. He is also the Program Coordinator for the Pre-College Audio Engineering\, Sound Design\, and Music Academy. He received his MFA in Sound Art from Columbia University and his BA in Digital Arts and BS in Audio Technology and Industry from Stetson University. As an artist and composer whose work often involves sound\, installation\, video\, performance\, and sculpture\, John has exhibited both domestically and internationally. His artistic work has been featured in a variety of galleries in New York City\, notably the Jewish Museum and Fridman Gallery. \nLakescape is currently in process through the end of September in the lower level of the Center for Communication & Creative Media building at Champlain College. Located on the corner of Maple Street and South Willard Street. The hallway is open for viewing during the process and we welcome visitors. If you’d like to learn more about the project\, please contact: gallery@champlain.edu.
URL:https://www.champlain.edu/event/lakescape/
LOCATION:Champlain Art Gallery\, Center for Communication & Creative Media (CCM)\, 375 Maple Street\, Burlington\, VT\, 05401\, United States
ATTACH;FMTTYPE=image/jpeg:https://www.champlain.edu/app/uploads/2024/10/paint-pallette-stock.jpg
GEO:44.4736955;-73.2041466
X-APPLE-STRUCTURED-LOCATION;VALUE=URI;X-ADDRESS=Champlain Art Gallery Center for Communication & Creative Media (CCM) 375 Maple Street Burlington VT 05401 United States;X-APPLE-RADIUS=500;X-TITLE=375 Maple Street:geo:-73.2041466,44.4736955
END:VEVENT
BEGIN:VEVENT
DTSTART;TZID=America/New_York:20241115T130000
DTEND;TZID=America/New_York:20241115T193000
DTSTAMP:20260420T201626
CREATED:20241112T142129Z
LAST-MODIFIED:20241112T142129Z
UID:10005984-1731675600-1731699000@www.champlain.edu
SUMMARY:DREAM Bake Sale!
DESCRIPTION:DREAM is a non-profit mentorship program that works with youth from low-income households. Our mission is to help close the opportunity gap. We hold an annual bake sale to raise funds for our end-of-year trip. All baked goods are by donation. We accept cash or Venmo!
URL:https://www.champlain.edu/event/dream-bake-sale/
LOCATION:Atrium\, IDX Student Life Center\, 262 S Willard St\, Burlington\, VT\, 05401\, United States
CATEGORIES:Service & Civic Engagement,Student Activities
ATTACH;FMTTYPE=image/jpeg:https://www.champlain.edu/app/uploads/2024/11/cookies-dessert-bake-sale-stock.jpg
GEO:44.4725946;-73.2044524
X-APPLE-STRUCTURED-LOCATION;VALUE=URI;X-ADDRESS=Atrium IDX Student Life Center 262 S Willard St Burlington VT 05401 United States;X-APPLE-RADIUS=500;X-TITLE=262 S Willard St:geo:-73.2044524,44.4725946
END:VEVENT
BEGIN:VEVENT
DTSTART;TZID=America/New_York:20241115T160000
DTEND;TZID=America/New_York:20241115T190000
DTSTAMP:20260420T201626
CREATED:20241108T134232Z
LAST-MODIFIED:20241108T134232Z
UID:10005966-1731686400-1731697200@www.champlain.edu
SUMMARY:Champ Simracing Workshop II
DESCRIPTION:Stop by the CCM Commuter Lounge and have a go on our portable racing rig\, enjoy a slice of pizza\, and hang out with fellow students while you cheer each other on to post fast times and learn something new about motor racing.
URL:https://www.champlain.edu/event/champ-simracing-workshop-ii/
LOCATION:Commuter Lounge\, Center for Communication & Creative Media (CCM)\, 375 Maple Street\, Burlington\, VT\, 05401\, United States
CATEGORIES:Student Activities
ATTACH;FMTTYPE=image/jpeg:https://www.champlain.edu/app/uploads/2024/11/Autodromo-Nazionale-Monza__2.jpeg
GEO:44.4736955;-73.2041466
X-APPLE-STRUCTURED-LOCATION;VALUE=URI;X-ADDRESS=Commuter Lounge Center for Communication & Creative Media (CCM) 375 Maple Street Burlington VT 05401 United States;X-APPLE-RADIUS=500;X-TITLE=375 Maple Street:geo:-73.2041466,44.4736955
END:VEVENT
BEGIN:VEVENT
DTSTART;TZID=America/New_York:20241115T180000
DTEND;TZID=America/New_York:20241115T200000
DTSTAMP:20260420T201626
CREATED:20241107T145933Z
LAST-MODIFIED:20241107T145933Z
UID:10005958-1731693600-1731700800@www.champlain.edu
SUMMARY:Beaver Moon: A Supermoon Party
DESCRIPTION:Get beaver swag\, meet with an astrologist\, and celebrate the full moon!
URL:https://www.champlain.edu/event/beaver-moon-a-supermoon-party/
LOCATION:Perry Hall Lawn\, Perry Hall\, 251 S Willard St\, Burlington\, VT\, 05401\, United States
CATEGORIES:Student Activities
ATTACH;FMTTYPE=image/jpeg:https://www.champlain.edu/app/uploads/2024/11/beaver-moon-stock-event.jpg
GEO:44.4730996;-73.2058608
X-APPLE-STRUCTURED-LOCATION;VALUE=URI;X-ADDRESS=Perry Hall Lawn Perry Hall 251 S Willard St Burlington VT 05401 United States;X-APPLE-RADIUS=500;X-TITLE=251 S Willard St:geo:-73.2058608,44.4730996
END:VEVENT
BEGIN:VEVENT
DTSTART;TZID=America/New_York:20241115T180000
DTEND;TZID=America/New_York:20241117T210000
DTSTAMP:20260420T201626
CREATED:20241024T193325Z
LAST-MODIFIED:20241024T193325Z
UID:10005919-1731693600-1731877200@www.champlain.edu
SUMMARY:Wolfjam Hackathon 2024
DESCRIPTION:Attention Juniors! This is for you! \nThe Career Collaborative has received a generous grant to sponsor 14 students (est. two teams of 7) to attend Wolfjam Hackathon. Interested parties are required to submit an application. \nWolfjam Hackathon is a weekend game jam that will take place in November where developers\, innovators\, and designers from Upstate New York and Vermont come together in the Capital Region to share ideas\, form teams\, and build awesome products! \nREMINDER: Game Studio seniors should NOT register for this event as it directly conflicts with build deadlines and the greenlight competition. \nLearn more about the event!
URL:https://www.champlain.edu/event/wolfjam-hackathon-2024/
CATEGORIES:Career & InSight
ATTACH;FMTTYPE=image/jpeg:https://www.champlain.edu/app/uploads/2023/07/inside_game-controllers.jpg
ORGANIZER;CN="Career Collaborative":MAILTO:careercollaborative@champlain.edu
END:VEVENT
BEGIN:VEVENT
DTSTART;TZID=America/New_York:20241115T190000
DTEND;TZID=America/New_York:20241115T213000
DTSTAMP:20260420T201626
CREATED:20241108T184231Z
LAST-MODIFIED:20241108T184231Z
UID:10005967-1731697200-1731706200@www.champlain.edu
SUMMARY:Champlayers: 27 ways to screw up a college interview
DESCRIPTION:When two college recruiters at a prestigious university need to fill one last spot to keep their jobs\, thirteen eccentric\, dimwitted\, and slightly insane high school seniors are eager to come in for an interview. What seems like a simple task turns into a nightmare when the applicants turn out to be a reality TV star\, a practicing vampire\, an amateur magician\, and others who are much\, much worse. Each applicant’s interview hilariously illustrates what NOT to do at a college interview.
URL:https://www.champlain.edu/event/champlayers-27-ways-to-screw-up-a-college-interview/
LOCATION:Alumni Auditorium\, Center for Communication & Creative Media (CCM)\, 375 Maple Street\, Burlington\, VT\, 05401\, United States
CATEGORIES:Art & Music,Student Activities
ATTACH;FMTTYPE=image/jpeg:https://www.champlain.edu/app/uploads/2024/11/disgruntled-student-laptop-pencil-stock-event.jpg
GEO:44.4736955;-73.2041466
X-APPLE-STRUCTURED-LOCATION;VALUE=URI;X-ADDRESS=Alumni Auditorium Center for Communication & Creative Media (CCM) 375 Maple Street Burlington VT 05401 United States;X-APPLE-RADIUS=500;X-TITLE=375 Maple Street:geo:-73.2041466,44.4736955
END:VEVENT
END:VCALENDAR