BEGIN:VCALENDAR
VERSION:2.0
PRODID:-//Champlain College - ECPv6.15.3//NONSGML v1.0//EN
CALSCALE:GREGORIAN
METHOD:PUBLISH
X-WR-CALNAME:Champlain College
X-ORIGINAL-URL:https://www.champlain.edu
X-WR-CALDESC:Events for Champlain College
REFRESH-INTERVAL;VALUE=DURATION:PT1H
X-Robots-Tag:noindex
X-PUBLISHED-TTL:PT1H
BEGIN:VTIMEZONE
TZID:America/New_York
BEGIN:DAYLIGHT
TZOFFSETFROM:-0500
TZOFFSETTO:-0400
TZNAME:EDT
DTSTART:20250309T070000
END:DAYLIGHT
BEGIN:STANDARD
TZOFFSETFROM:-0400
TZOFFSETTO:-0500
TZNAME:EST
DTSTART:20251102T060000
END:STANDARD
END:VTIMEZONE
BEGIN:VEVENT
DTSTART;TZID=America/New_York:20250213T120000
DTEND;TZID=America/New_York:20250326T130000
DTSTAMP:20260420T235124
CREATED:20250213T204604Z
LAST-MODIFIED:20250213T204605Z
UID:10012451-1739448000-1742994000@www.champlain.edu
SUMMARY:Register for the Student Research Conference
DESCRIPTION:It’s that time of year! The University of Vermont’s annual Student Research Conference is scheduled for April 23 and registration is open now through March 26. The Student Research Conference is an opportunity for undergraduate and graduate students from UVM and neighboring universities to present their work to the broader research community at UVM. Register to showcase your ongoing projects\, creative endeavors and scholarly activity and make new connections along the way!
URL:https://www.champlain.edu/event/register-for-the-student-research-conference/
CATEGORIES:Academic
ATTACH;FMTTYPE=image/jpeg:https://www.champlain.edu/app/uploads/2023/07/campus_student_capstone-psychology-presentation.jpg
END:VEVENT
BEGIN:VEVENT
DTSTART;TZID=America/New_York:20250306T173000
DTEND;TZID=America/New_York:20250306T183000
DTSTAMP:20260420T235124
CREATED:20250115T182112Z
LAST-MODIFIED:20250522T173838Z
UID:10007208-1741282200-1741285800@www.champlain.edu
SUMMARY:Students Demand Action Weekly Meeting
DESCRIPTION:Students Demand Action is a network within Everytown for Gun Safety that reaches out to students\, channeling their energy into the fight against gun violence with events and voter information sessions.
URL:https://www.champlain.edu/event/students-demand-action-weekly-meeting/2025-03-06/
LOCATION:Room 444\, Center for Communication & Creative Media (CCM)\, 375 Maple Street\, Burlington\, VT\, 05401\, United States
CATEGORIES:Service & Civic Engagement,Student Activities
ATTACH;FMTTYPE=image/jpeg:https://www.champlain.edu/app/uploads/2024/09/2024_students-demand-action_activity-fair.jpg
GEO:44.4736955;-73.2041466
X-APPLE-STRUCTURED-LOCATION;VALUE=URI;X-ADDRESS=Room 444 Center for Communication & Creative Media (CCM) 375 Maple Street Burlington VT 05401 United States;X-APPLE-RADIUS=500;X-TITLE=375 Maple Street:geo:-73.2041466,44.4736955
END:VEVENT
BEGIN:VEVENT
DTSTART;TZID=America/New_York:20250306T183000
DTEND;TZID=America/New_York:20250306T203000
DTSTAMP:20260420T235124
CREATED:20250130T203602Z
LAST-MODIFIED:20250131T165016Z
UID:10001409-1741285800-1741293000@www.champlain.edu
SUMMARY:Intramural Volleyball
DESCRIPTION:Join our intramural volleyball league! This is a popular series at Champlain\, so be sure to sign up at the beginning of the semester! Teams and free agents welcome.
URL:https://www.champlain.edu/event/intramural-volleyball-3/2025-03-06/
LOCATION:Argosy Gym\, IDX Student Life Center\, 262 S Willard St\, Burlington\, VT\, United States
CATEGORIES:Fitness & Intramural Sports
ATTACH;FMTTYPE=image/jpeg:https://www.champlain.edu/app/uploads/2024/03/students-volleyball-club-fitness-center-argosy-gym.jpg
GEO:44.4725946;-73.2044524
X-APPLE-STRUCTURED-LOCATION;VALUE=URI;X-ADDRESS=Argosy Gym IDX Student Life Center 262 S Willard St Burlington VT United States;X-APPLE-RADIUS=500;X-TITLE=262 S Willard St:geo:-73.2044524,44.4725946
END:VEVENT
BEGIN:VEVENT
DTSTART;TZID=America/New_York:20250306T190000
DTEND;TZID=America/New_York:20250306T210000
DTSTAMP:20260420T235125
CREATED:20250228T141608Z
LAST-MODIFIED:20250228T141609Z
UID:10012541-1741287600-1741294800@www.champlain.edu
SUMMARY:Roommate Mixer
DESCRIPTION:Housing and Residential Life is hosting a roommate mixer ahead of the main campus housing selection application deadline. Come meet and connect with new people! There is going to be a variety of activities to encourage getting to know others better.
URL:https://www.champlain.edu/event/roommate-mixer/
LOCATION:Morgan Room\, Aiken Hall\, 83 Summit St\, Burlington\, VT\, 05401\, United States
ATTACH;FMTTYPE=image/jpeg:https://www.champlain.edu/app/uploads/2024/12/dorm_students_res-hall.jpg
GEO:44.4737557;-73.2029146
X-APPLE-STRUCTURED-LOCATION;VALUE=URI;X-ADDRESS=Morgan Room Aiken Hall 83 Summit St Burlington VT 05401 United States;X-APPLE-RADIUS=500;X-TITLE=83 Summit St:geo:-73.2029146,44.4737557
END:VEVENT
BEGIN:VEVENT
DTSTART;TZID=America/New_York:20250306T190000
DTEND;TZID=America/New_York:20250306T220000
DTSTAMP:20260420T235125
CREATED:20250107T205359Z
LAST-MODIFIED:20250107T205359Z
UID:10006427-1741287600-1741298400@www.champlain.edu
SUMMARY:Coffee and Tea Club Meeting
DESCRIPTION:The Champlain Coffee and Tea Club fosters a fun and safe space for students to try new kinds of teas\, coffees\, and snacks! We’ll have different weekly activities like watching shows\, arts and crafts\, and anything our members would like to see. If you’re looking for a way to just destress and have fun\, the Champlain Tea and Coffee Club is for you!
URL:https://www.champlain.edu/event/coffee-and-tea-club-meeting/2025-03-06/
LOCATION:Room 442\, Center for Communication & Creative Media\, 375 Maple Street\, Burlington\, 05401\, United States
CATEGORIES:Student Activities
ATTACH;FMTTYPE=image/jpeg:https://www.champlain.edu/app/uploads/2024/09/2024_coffee-tea-club_activity-fair.jpg
GEO:44.4736955;-73.2041466
X-APPLE-STRUCTURED-LOCATION;VALUE=URI;X-ADDRESS=Room 442 Center for Communication & Creative Media 375 Maple Street Burlington 05401 United States;X-APPLE-RADIUS=500;X-TITLE=375 Maple Street:geo:-73.2041466,44.4736955
END:VEVENT
END:VCALENDAR