BEGIN:VCALENDAR
VERSION:2.0
PRODID:-//Champlain College - ECPv6.15.3//NONSGML v1.0//EN
CALSCALE:GREGORIAN
METHOD:PUBLISH
X-WR-CALNAME:Champlain College
X-ORIGINAL-URL:https://www.champlain.edu
X-WR-CALDESC:Events for Champlain College
REFRESH-INTERVAL;VALUE=DURATION:PT1H
X-Robots-Tag:noindex
X-PUBLISHED-TTL:PT1H
BEGIN:VTIMEZONE
TZID:America/New_York
BEGIN:DAYLIGHT
TZOFFSETFROM:-0500
TZOFFSETTO:-0400
TZNAME:EDT
DTSTART:20250309T070000
END:DAYLIGHT
BEGIN:STANDARD
TZOFFSETFROM:-0400
TZOFFSETTO:-0500
TZNAME:EST
DTSTART:20251102T060000
END:STANDARD
END:VTIMEZONE
BEGIN:VEVENT
DTSTART;TZID=America/New_York:20250407T110000
DTEND;TZID=America/New_York:20250407T150000
DTSTAMP:20260421T012258
CREATED:20250403T183454Z
LAST-MODIFIED:20250408T165407Z
UID:10013028-1744023600-1744038000@www.champlain.edu
SUMMARY:Community Mural Project: The Lotus Collective
DESCRIPTION:Join us in creating “The Lotus Collective\,” a community mural project recognizing Sexual Assault Awareness Month. This collaborative artwork symbolizes the journey to healing\, with each contribution representing strength\, resilience\, and growth. Every contribution matters in this visual statement of community solidarity with survivors.  \nDrop-in Contribution Details\n•No artistic experience necessary—all community members welcome\n•Add your personal touch to our collective expression of support\n•Materials and guidance provided on-site\n•Create in a supportive\, respectful environment \nTogether\, we’re cultivating an artistic representation of strength\, hope and healing that honors individual experiences while uplifting collective resilience. Drop-in to make your mark.  \nThe Lotus Collective mural will be displayed in the CCM Stairnook Gallery starting Thursday\, April 17\, 2025\, along with art contributions from our community. Attend the reception on April\, 17 from 3:00-6:00 PM.
URL:https://www.champlain.edu/event/drop-in-community-mural-contribution-the-lotus-collective/2025-04-07/
LOCATION:Fireside Lounge\, IDX Student Life Center\, 262 S Willard St\, Burlington\, 05401
CATEGORIES:Dare to CARE: Wellbeing
ATTACH;FMTTYPE=image/jpeg:https://www.champlain.edu/app/uploads/2025/04/lotus-mural-wgc-event.jpg
GEO:44.4725946;-73.2044524
X-APPLE-STRUCTURED-LOCATION;VALUE=URI;X-ADDRESS=Fireside Lounge IDX Student Life Center 262 S Willard St Burlington 05401;X-APPLE-RADIUS=500;X-TITLE=262 S Willard St:geo:-73.2044524,44.4725946
END:VEVENT
BEGIN:VEVENT
DTSTART;TZID=America/New_York:20250407T143000
DTEND;TZID=America/New_York:20250407T153000
DTSTAMP:20260421T012258
CREATED:20241023T004414Z
LAST-MODIFIED:20241023T004414Z
UID:10005874-1744036200-1744039800@www.champlain.edu
SUMMARY:The Crossover News Meeting
DESCRIPTION:The Crossover is a student-led news publication. It’s the intersection of News\, Culture\, and Art at Champlain College. We meet weekly to plan\, discuss\, write\, and edit articles!
URL:https://www.champlain.edu/event/the-crossover-news-meeting/2025-04-07/
LOCATION:Ireland Cornell Pavilion\, SD Ireland Family Center\, 391 Maple St\, Burlington\, VT\, 05401\, United States
CATEGORIES:Academic,Student Activities
ATTACH;FMTTYPE=image/jpeg:https://www.champlain.edu/app/uploads/2024/10/newspaper-crossover-stock.jpg
GEO:44.4737342;-73.2036722
X-APPLE-STRUCTURED-LOCATION;VALUE=URI;X-ADDRESS=Ireland Cornell Pavilion SD Ireland Family Center 391 Maple St Burlington VT 05401 United States;X-APPLE-RADIUS=500;X-TITLE=391 Maple St:geo:-73.2036722,44.4737342
END:VEVENT
BEGIN:VEVENT
DTSTART;TZID=America/New_York:20250407T173000
DTEND;TZID=America/New_York:20250407T183000
DTSTAMP:20260421T012258
CREATED:20240725T142221Z
LAST-MODIFIED:20250110T211351Z
UID:10006815-1744047000-1744050600@www.champlain.edu
SUMMARY:Monday Yoga
DESCRIPTION:Join us for yoga every Monday from 5-6 PM in the Fitness Center Studio. The aim of this class is to help you feel better in your body! Class will include vinyasa style flows (linking breath with movement)\, multiple variations for physical postures\, gentle breathwork\, and a sprinkling of yogic philosophy. All bodies and experience levels welcome! No experience necessary.
URL:https://www.champlain.edu/event/monday-yoga/2025-04-07/
LOCATION:Fitness Center Studio\, IDX Student Life Center\, 262 S Willard St\, Burlington
CATEGORIES:Dare to CARE: Wellbeing,Fitness & Intramural Sports
ATTACH;FMTTYPE=image/jpeg:https://www.champlain.edu/app/uploads/2024/07/yoga-stock-event-fitness.jpg
GEO:44.4725946;-73.2044524
X-APPLE-STRUCTURED-LOCATION;VALUE=URI;X-ADDRESS=Fitness Center Studio IDX Student Life Center 262 S Willard St Burlington;X-APPLE-RADIUS=500;X-TITLE=262 S Willard St:geo:-73.2044524,44.4725946
END:VEVENT
BEGIN:VEVENT
DTSTART;TZID=America/New_York:20250407T190000
DTEND;TZID=America/New_York:20250407T210000
DTSTAMP:20260421T012258
CREATED:20240821T213311Z
LAST-MODIFIED:20240821T213311Z
UID:10001346-1744052400-1744059600@www.champlain.edu
SUMMARY:Mario Kart Mondays
DESCRIPTION:Join us for an open Mario Kart league that culminates in playoffs at the end of the semester! This drop-in series is open to all skill levels.
URL:https://www.champlain.edu/event/mario-kart-mondays-2/2025-04-07/
LOCATION:Room 203\, Joyce Hall\, 387 Maple St\, Burlington\, VT\, 05401\, United States
CATEGORIES:Fitness & Intramural Sports,Student Activities
ATTACH;FMTTYPE=image/jpeg:https://www.champlain.edu/app/uploads/2024/08/mario-kart-intramurals-1.jpg
GEO:44.4728162;-73.2038704
X-APPLE-STRUCTURED-LOCATION;VALUE=URI;X-ADDRESS=Room 203 Joyce Hall 387 Maple St Burlington VT 05401 United States;X-APPLE-RADIUS=500;X-TITLE=387 Maple St:geo:-73.2038704,44.4728162
END:VEVENT
BEGIN:VEVENT
DTSTART;TZID=America/New_York:20250407T203000
DTEND;TZID=America/New_York:20250407T220000
DTSTAMP:20260421T012258
CREATED:20250110T171312Z
LAST-MODIFIED:20250522T173708Z
UID:10006455-1744057800-1744063200@www.champlain.edu
SUMMARY:CHAMP Weekly Meeting
DESCRIPTION:Come join CHAMP and help brainstorm and plan student events around campus! This is a great way to get involved and bring your event visions to life.
URL:https://www.champlain.edu/event/champ-weekly-meeting-2/2025-04-07/
LOCATION:Fireside Lounge\, IDX Student Life Center\, 262 S Willard St\, Burlington\, 05401
CATEGORIES:Student Activities
ATTACH;FMTTYPE=image/jpeg:https://www.champlain.edu/app/uploads/2024/08/students-chauncey-finney-quad-spirit-week-carnival-CHAMP-event.jpg
GEO:44.4725946;-73.2044524
X-APPLE-STRUCTURED-LOCATION;VALUE=URI;X-ADDRESS=Fireside Lounge IDX Student Life Center 262 S Willard St Burlington 05401;X-APPLE-RADIUS=500;X-TITLE=262 S Willard St:geo:-73.2044524,44.4725946
END:VEVENT
END:VCALENDAR