BEGIN:VCALENDAR
VERSION:2.0
PRODID:-//Champlain College - ECPv6.15.3//NONSGML v1.0//EN
CALSCALE:GREGORIAN
METHOD:PUBLISH
X-WR-CALNAME:Champlain College
X-ORIGINAL-URL:https://www.champlain.edu
X-WR-CALDESC:Events for Champlain College
REFRESH-INTERVAL;VALUE=DURATION:PT1H
X-Robots-Tag:noindex
X-PUBLISHED-TTL:PT1H
BEGIN:VTIMEZONE
TZID:America/New_York
BEGIN:DAYLIGHT
TZOFFSETFROM:-0500
TZOFFSETTO:-0400
TZNAME:EDT
DTSTART:20250309T070000
END:DAYLIGHT
BEGIN:STANDARD
TZOFFSETFROM:-0400
TZOFFSETTO:-0500
TZNAME:EST
DTSTART:20251102T060000
END:STANDARD
END:VTIMEZONE
BEGIN:VEVENT
DTSTART;TZID=America/New_York:20250415T110000
DTEND;TZID=America/New_York:20250415T130000
DTSTAMP:20260421T021837
CREATED:20250403T183037Z
LAST-MODIFIED:20250403T185545Z
UID:10013027-1744714800-1744722000@www.champlain.edu
SUMMARY:Sodexo/Chauncey's Cupboard Food Demonstration
DESCRIPTION:A food making demonstration with samples highlighting a recipe with some ingredients commonly available at Chaunecy’s Cupboard.
URL:https://www.champlain.edu/event/sodeko-chaunceys-cupboard-food-demonstration/
LOCATION:Atrium\, IDX Student Life Center\, 262 S Willard St\, Burlington\, VT\, 05401\, United States
ATTACH;FMTTYPE=image/jpeg:https://www.champlain.edu/app/uploads/2024/08/healthy-food-dietician-event-stock.jpg
GEO:44.4725946;-73.2044524
X-APPLE-STRUCTURED-LOCATION;VALUE=URI;X-ADDRESS=Atrium IDX Student Life Center 262 S Willard St Burlington VT 05401 United States;X-APPLE-RADIUS=500;X-TITLE=262 S Willard St:geo:-73.2044524,44.4725946
END:VEVENT
BEGIN:VEVENT
DTSTART;TZID=America/New_York:20250415T110000
DTEND;TZID=America/New_York:20250415T150000
DTSTAMP:20260421T021837
CREATED:20250403T183454Z
LAST-MODIFIED:20250408T165407Z
UID:10013034-1744714800-1744729200@www.champlain.edu
SUMMARY:Community Mural Project: The Lotus Collective
DESCRIPTION:Join us in creating “The Lotus Collective\,” a community mural project recognizing Sexual Assault Awareness Month. This collaborative artwork symbolizes the journey to healing\, with each contribution representing strength\, resilience\, and growth. Every contribution matters in this visual statement of community solidarity with survivors.  \nDrop-in Contribution Details\n•No artistic experience necessary—all community members welcome\n•Add your personal touch to our collective expression of support\n•Materials and guidance provided on-site\n•Create in a supportive\, respectful environment \nTogether\, we’re cultivating an artistic representation of strength\, hope and healing that honors individual experiences while uplifting collective resilience. Drop-in to make your mark.  \nThe Lotus Collective mural will be displayed in the CCM Stairnook Gallery starting Thursday\, April 17\, 2025\, along with art contributions from our community. Attend the reception on April\, 17 from 3:00-6:00 PM.
URL:https://www.champlain.edu/event/drop-in-community-mural-contribution-the-lotus-collective/2025-04-15/
LOCATION:Fireside Lounge\, IDX Student Life Center\, 262 S Willard St\, Burlington\, 05401
CATEGORIES:Dare to CARE: Wellbeing
ATTACH;FMTTYPE=image/jpeg:https://www.champlain.edu/app/uploads/2025/04/lotus-mural-wgc-event.jpg
GEO:44.4725946;-73.2044524
X-APPLE-STRUCTURED-LOCATION;VALUE=URI;X-ADDRESS=Fireside Lounge IDX Student Life Center 262 S Willard St Burlington 05401;X-APPLE-RADIUS=500;X-TITLE=262 S Willard St:geo:-73.2044524,44.4725946
END:VEVENT
BEGIN:VEVENT
DTSTART;TZID=America/New_York:20250415T120000
DTEND;TZID=America/New_York:20250415T140000
DTSTAMP:20260421T021837
CREATED:20250411T141129Z
LAST-MODIFIED:20250411T141130Z
UID:10013073-1744718400-1744725600@www.champlain.edu
SUMMARY:National Guard Tabling: Employer Spotlight Series
DESCRIPTION:Stop by to speak with SSG Brendan Miles about opportunities with the Vermont National Guard.
URL:https://www.champlain.edu/event/national-guard-tabling-employer-spotlight-series/
LOCATION:Atrium\, IDX Student Life Center\, 262 S Willard St\, Burlington\, VT\, 05401\, United States
CATEGORIES:Career & InSight
ATTACH;FMTTYPE=image/jpeg:https://www.champlain.edu/app/uploads/2023/08/outside_military-student_studying-laptop.jpg
ORGANIZER;CN="Career Collaborative":MAILTO:careercollaborative@champlain.edu
GEO:44.4725946;-73.2044524
X-APPLE-STRUCTURED-LOCATION;VALUE=URI;X-ADDRESS=Atrium IDX Student Life Center 262 S Willard St Burlington VT 05401 United States;X-APPLE-RADIUS=500;X-TITLE=262 S Willard St:geo:-73.2044524,44.4725946
END:VEVENT
BEGIN:VEVENT
DTSTART;TZID=America/New_York:20250415T140000
DTEND;TZID=America/New_York:20250415T163000
DTSTAMP:20260421T021837
CREATED:20250205T143603Z
LAST-MODIFIED:20250205T143651Z
UID:10012371-1744725600-1744734600@www.champlain.edu
SUMMARY:HOPE Works Advocate Drop-in Hours
DESCRIPTION:HOPE Works\, a Burlington-based confidential non-profit dedicated to ending all forms of sexual violence\, will host drop-in office hours where students can learn about their services and seek support with experiences of relationship abuse\, sexual violence\, and stalking\, as well as answer questions about Title IX. These drop-in hours will be held in the Student Health Center\, located on the ground floor of Whiting Hall on the Burlington campus. \nThis collaborative event is supported by the Division of Student Affairs\, the Title IX Office\, the Student Health Center\, the Counseling Center\, and Dare to Care. \nHOPE Works advocates are a confidential resource open to our student community.
URL:https://www.champlain.edu/event/hope-works-advocate-drop-in-hours/2025-04-15/
LOCATION:Student Health Center\, Ground Level of Whiting Hall\, 203 S. Willard Street\, Burlington\, 05401\, United States
CATEGORIES:Dare to CARE: Wellbeing
GEO:44.474592;-73.2057231
X-APPLE-STRUCTURED-LOCATION;VALUE=URI;X-ADDRESS=Student Health Center Ground Level of Whiting Hall 203 S. Willard Street Burlington 05401 United States;X-APPLE-RADIUS=500;X-TITLE=Ground Level of Whiting Hall\, 203 S. Willard Street:geo:-73.2057231,44.474592
END:VEVENT
BEGIN:VEVENT
DTSTART;TZID=America/New_York:20250415T180000
DTEND;TZID=America/New_York:20250415T200000
DTSTAMP:20260421T021837
CREATED:20250411T134639Z
LAST-MODIFIED:20250411T134640Z
UID:10013055-1744740000-1744747200@www.champlain.edu
SUMMARY:Women in Cybersecurity: AI vs. Cyber Threats
DESCRIPTION:Join Champlain’s Women in Cybersecurity (WiCyS) chapter to learn about AI vs. Cyber Threats! There will be a presentation and there will also be pizza!
URL:https://www.champlain.edu/event/women-in-cybersecurity-ai-vs-cyber-threats/
LOCATION:Women’s & Gender Center\, Skiff Hall Annex\, 163 S Willard St\, Burlington\, VT\, 05401\, United States
CATEGORIES:Academic,Student Activities
ATTACH;FMTTYPE=image/jpeg:https://www.champlain.edu/app/uploads/2025/03/abstract-AI.jpg
GEO:44.4755768;-73.2057021
X-APPLE-STRUCTURED-LOCATION;VALUE=URI;X-ADDRESS=Women’s & Gender Center Skiff Hall Annex 163 S Willard St Burlington VT 05401 United States;X-APPLE-RADIUS=500;X-TITLE=163 S Willard St:geo:-73.2057021,44.4755768
END:VEVENT
BEGIN:VEVENT
DTSTART;TZID=America/New_York:20250415T180000
DTEND;TZID=America/New_York:20250415T210000
DTSTAMP:20260421T021837
CREATED:20250206T205742Z
LAST-MODIFIED:20250206T205742Z
UID:10012436-1744740000-1744750800@www.champlain.edu
SUMMARY:Coffeehouse Social Hour(s)
DESCRIPTION:Join us for a cozy night in! With pastries and warm drinks like coffee\, tea\, and hot chocolate. You will get to mingle around and talk to friends or even new people! We will be running a raffle\, and having activities available like crafts and board games! Stick around until the end to see if you win a gift basket! \nThis event is hosted by a COR-104 class.
URL:https://www.champlain.edu/event/coffeehouse-social-hours/
LOCATION:Fireside Lounge\, IDX Student Life Center\, 262 S Willard St\, Burlington\, 05401
CATEGORIES:Student Activities
ATTACH;FMTTYPE=image/jpeg:https://www.champlain.edu/app/uploads/2023/10/coffee-tea-club.jpg
GEO:44.4725946;-73.2044524
X-APPLE-STRUCTURED-LOCATION;VALUE=URI;X-ADDRESS=Fireside Lounge IDX Student Life Center 262 S Willard St Burlington 05401;X-APPLE-RADIUS=500;X-TITLE=262 S Willard St:geo:-73.2044524,44.4725946
END:VEVENT
END:VCALENDAR