BEGIN:VCALENDAR
VERSION:2.0
PRODID:-//Champlain College - ECPv6.15.3//NONSGML v1.0//EN
CALSCALE:GREGORIAN
METHOD:PUBLISH
X-WR-CALNAME:Champlain College
X-ORIGINAL-URL:https://www.champlain.edu
X-WR-CALDESC:Events for Champlain College
REFRESH-INTERVAL;VALUE=DURATION:PT1H
X-Robots-Tag:noindex
X-PUBLISHED-TTL:PT1H
BEGIN:VTIMEZONE
TZID:America/New_York
BEGIN:DAYLIGHT
TZOFFSETFROM:-0500
TZOFFSETTO:-0400
TZNAME:EDT
DTSTART:20250309T070000
END:DAYLIGHT
BEGIN:STANDARD
TZOFFSETFROM:-0400
TZOFFSETTO:-0500
TZNAME:EST
DTSTART:20251102T060000
END:STANDARD
END:VTIMEZONE
BEGIN:VEVENT
DTSTART;TZID=America/New_York:20250825T080000
DTEND;TZID=America/New_York:20250825T100000
DTSTAMP:20260421T081205
CREATED:20250824T232635Z
LAST-MODIFIED:20250824T232748Z
UID:10013718-1756108800-1756116000@www.champlain.edu
SUMMARY:Fuel Up For Classes
DESCRIPTION:Come celebrate the first day of classes with some morning snacks\, coffee\, and first day of school photos!
URL:https://www.champlain.edu/event/fuel-up-for-classes/
LOCATION:Rozendaal Courtyard\, 251 S Willard St\, Burlington\, VT\, 05401\, United States
CATEGORIES:Student Activities
ATTACH;FMTTYPE=image/jpeg:https://www.champlain.edu/app/uploads/2024/03/first-day-school-students-courtyard.jpg
GEO:44.4730996;-73.2058608
X-APPLE-STRUCTURED-LOCATION;VALUE=URI;X-ADDRESS=Rozendaal Courtyard 251 S Willard St Burlington VT 05401 United States;X-APPLE-RADIUS=500;X-TITLE=251 S Willard St:geo:-73.2058608,44.4730996
END:VEVENT
BEGIN:VEVENT
DTSTART;TZID=America/New_York:20250825T100000
DTEND;TZID=America/New_York:20251003T190000
DTSTAMP:20260421T081205
CREATED:20250817T212627Z
LAST-MODIFIED:20250819T154841Z
UID:10013129-1756116000-1759518000@www.champlain.edu
SUMMARY:Guiding Quest: Game History Exhibition
DESCRIPTION:Guiding Quest: Game History ExhibitSeptember 2- October 10Reception: Fri. 10/3\, 5-7pmArt Gallery\, CCM 2nd Floor \nDesign evolution is the name of the game in this year’s annual Game History Exhibition. Showcasing a curated selection of artifacts\, games\, and consoles to play from Champlain College’s Game History Collection\, explore how game design genres have evolved over time.
URL:https://www.champlain.edu/event/guiding-quest-game-history-exhibition/
LOCATION:Champlain Art Gallery\, Center for Communication & Creative Media (CCM)\, 375 Maple Street\, Burlington\, VT\, 05401\, United States
CATEGORIES:Art & Music
ATTACH;FMTTYPE=image/jpeg:https://www.champlain.edu/app/uploads/2025/08/game-history-exhibition-art-gallery.jpg
GEO:44.4736955;-73.2041466
X-APPLE-STRUCTURED-LOCATION;VALUE=URI;X-ADDRESS=Champlain Art Gallery Center for Communication & Creative Media (CCM) 375 Maple Street Burlington VT 05401 United States;X-APPLE-RADIUS=500;X-TITLE=375 Maple Street:geo:-73.2041466,44.4736955
END:VEVENT
BEGIN:VEVENT
DTSTART;TZID=America/New_York:20250825T173000
DTEND;TZID=America/New_York:20250825T183000
DTSTAMP:20260421T081206
CREATED:20250819T155421Z
LAST-MODIFIED:20250819T155424Z
UID:10013288-1756143000-1756146600@www.champlain.edu
SUMMARY:Monday Yoga
DESCRIPTION:Join us for yoga every Monday from 5:30-6:30 PM in the Fitness Center Studio. This class aims to help you feel better in your body! Class will include vinyasa style flows (linking breath with movement)\, multiple variations for physical postures\, gentle breathwork\, and a sprinkling of yogic philosophy. All bodies and experience levels welcome! No experience necessary.
URL:https://www.champlain.edu/event/monday-yoga-2/2025-08-25/
LOCATION:Fitness Center Studio\, IDX Student Life Center\, 262 S Willard St\, Burlington
CATEGORIES:Fitness & Intramural Sports
ATTACH;FMTTYPE=image/jpeg:https://www.champlain.edu/app/uploads/2024/09/yoga-stock-fitness-exercise.jpg
GEO:44.4725946;-73.2044524
X-APPLE-STRUCTURED-LOCATION;VALUE=URI;X-ADDRESS=Fitness Center Studio IDX Student Life Center 262 S Willard St Burlington;X-APPLE-RADIUS=500;X-TITLE=262 S Willard St:geo:-73.2044524,44.4725946
END:VEVENT
BEGIN:VEVENT
DTSTART;TZID=America/New_York:20250825T203000
DTEND;TZID=America/New_York:20250825T223000
DTSTAMP:20260421T081206
CREATED:20250817T231501Z
LAST-MODIFIED:20250817T231549Z
UID:10013351-1756153800-1756161000@www.champlain.edu
SUMMARY:Rotating Intramural
DESCRIPTION:Our rotating sports intramural brings you a fresh sport every few weeks\, so whether you’re a seasoned athlete or just looking to try something new\, there’s something for everyone. \nCheck out our semester lineup! \n\nWeeks 1-3 (8/25\, 9/1\, 9/8): Dodgeball\nWeeks 4-6 (9/15\, 9/22\, 9/29): Pickleball\nWeeks 8-9 (10/13\, 10/20): Spikeball\nWeeks 10-12 (10/27\, 11/3\, 11/10): People’s Choice Vote\nWeeks 13-15 (11/17\, 11/24\, 12/2): Dodgeball
URL:https://www.champlain.edu/event/rotating-intramural/2025-08-25/
LOCATION:Argosy Gym\, IDX Student Life Center\, 262 S Willard St\, Burlington\, VT\, United States
CATEGORIES:Fitness & Intramural Sports
ATTACH;FMTTYPE=image/jpeg:https://www.champlain.edu/app/uploads/2024/09/stock-dodgeball.jpg
GEO:44.4725946;-73.2044524
X-APPLE-STRUCTURED-LOCATION;VALUE=URI;X-ADDRESS=Argosy Gym IDX Student Life Center 262 S Willard St Burlington VT United States;X-APPLE-RADIUS=500;X-TITLE=262 S Willard St:geo:-73.2044524,44.4725946
END:VEVENT
END:VCALENDAR