BEGIN:VCALENDAR
VERSION:2.0
PRODID:-//Champlain College - ECPv6.15.3//NONSGML v1.0//EN
CALSCALE:GREGORIAN
METHOD:PUBLISH
X-WR-CALNAME:Champlain College
X-ORIGINAL-URL:https://www.champlain.edu
X-WR-CALDESC:Events for Champlain College
REFRESH-INTERVAL;VALUE=DURATION:PT1H
X-Robots-Tag:noindex
X-PUBLISHED-TTL:PT1H
BEGIN:VTIMEZONE
TZID:America/New_York
BEGIN:DAYLIGHT
TZOFFSETFROM:-0500
TZOFFSETTO:-0400
TZNAME:EDT
DTSTART:20250309T070000
END:DAYLIGHT
BEGIN:STANDARD
TZOFFSETFROM:-0400
TZOFFSETTO:-0500
TZNAME:EST
DTSTART:20251102T060000
END:STANDARD
BEGIN:DAYLIGHT
TZOFFSETFROM:-0500
TZOFFSETTO:-0400
TZNAME:EDT
DTSTART:20260308T070000
END:DAYLIGHT
BEGIN:STANDARD
TZOFFSETFROM:-0400
TZOFFSETTO:-0500
TZNAME:EST
DTSTART:20261101T060000
END:STANDARD
END:VTIMEZONE
BEGIN:VEVENT
DTSTART;TZID=America/New_York:20250825T100000
DTEND;TZID=America/New_York:20251003T190000
DTSTAMP:20260420T072526
CREATED:20250817T212627Z
LAST-MODIFIED:20250819T154841Z
UID:10013129-1756116000-1759518000@www.champlain.edu
SUMMARY:Guiding Quest: Game History Exhibition
DESCRIPTION:Guiding Quest: Game History ExhibitSeptember 2- October 10Reception: Fri. 10/3\, 5-7pmArt Gallery\, CCM 2nd Floor \nDesign evolution is the name of the game in this year’s annual Game History Exhibition. Showcasing a curated selection of artifacts\, games\, and consoles to play from Champlain College’s Game History Collection\, explore how game design genres have evolved over time.
URL:https://www.champlain.edu/event/guiding-quest-game-history-exhibition/
LOCATION:Champlain Art Gallery\, Center for Communication & Creative Media (CCM)\, 375 Maple Street\, Burlington\, VT\, 05401\, United States
CATEGORIES:Art & Music
ATTACH;FMTTYPE=image/jpeg:https://www.champlain.edu/app/uploads/2025/08/game-history-exhibition-art-gallery.jpg
GEO:44.4736955;-73.2041466
X-APPLE-STRUCTURED-LOCATION;VALUE=URI;X-ADDRESS=Champlain Art Gallery Center for Communication & Creative Media (CCM) 375 Maple Street Burlington VT 05401 United States;X-APPLE-RADIUS=500;X-TITLE=375 Maple Street:geo:-73.2041466,44.4736955
END:VEVENT
BEGIN:VEVENT
DTSTART;TZID=America/New_York:20250826T000000
DTEND;TZID=America/New_York:20260306T235959
DTSTAMP:20260420T072526
CREATED:20250817T211225Z
LAST-MODIFIED:20250817T211253Z
UID:10013134-1756166400-1772841599@www.champlain.edu
SUMMARY:Calling All Artists/Creatives
DESCRIPTION:CALL FOR ART! \nThe gallery is accepting submissions for our spring all-campus group exhibition. Call and Response welcomes works in all media from current students\, faculty\, and staff that explore themes related to nature/plants in response to our March exhibition with artist and Champlain adjunct painting faculty Sage Tucker Ketcham.We encourage everyone to use the JSTOR Global Plants Archive as a springboard for inspiration!Deadline: March 6\, 2026 \nMore info on our website!
URL:https://www.champlain.edu/event/calling-all-artists-creatives/
LOCATION:Champlain Art Gallery\, Center for Communication & Creative Media (CCM)\, 375 Maple Street\, Burlington\, VT\, 05401\, United States
CATEGORIES:Art & Music
ATTACH;FMTTYPE=image/jpeg:https://www.champlain.edu/app/uploads/2025/08/plants-art-event-stock.jpg
GEO:44.4736955;-73.2041466
X-APPLE-STRUCTURED-LOCATION;VALUE=URI;X-ADDRESS=Champlain Art Gallery Center for Communication & Creative Media (CCM) 375 Maple Street Burlington VT 05401 United States;X-APPLE-RADIUS=500;X-TITLE=375 Maple Street:geo:-73.2041466,44.4736955
END:VEVENT
BEGIN:VEVENT
DTSTART;TZID=America/New_York:20250829T100000
DTEND;TZID=America/New_York:20250829T120000
DTSTAMP:20260420T072526
CREATED:20250822T195405Z
LAST-MODIFIED:20250917T200702Z
UID:10013369-1756461600-1756468800@www.champlain.edu
SUMMARY:Bagel Friday
DESCRIPTION:Thanks to SGA\, Bagel Fridays are back EVERY FRIDAY! All are welcome to connect with us in the Women’s and Gender Center (Skiff Annex 102) while enjoying FREE bagels. We will start serving at 10:00 AM and continue until we run out!
URL:https://www.champlain.edu/event/bagel-friday-8/2025-08-29/
LOCATION:Women’s & Gender Center\, Skiff Hall Annex\, 163 S Willard St\, Burlington\, VT\, 05401\, United States
CATEGORIES:Student Activities
ATTACH;FMTTYPE=image/png:https://www.champlain.edu/app/uploads/2025/08/The-View-Template-4.png
GEO:44.4755768;-73.2057021
X-APPLE-STRUCTURED-LOCATION;VALUE=URI;X-ADDRESS=Women’s & Gender Center Skiff Hall Annex 163 S Willard St Burlington VT 05401 United States;X-APPLE-RADIUS=500;X-TITLE=163 S Willard St:geo:-73.2057021,44.4755768
END:VEVENT
BEGIN:VEVENT
DTSTART;TZID=America/New_York:20250829T120000
DTEND;TZID=America/New_York:20250829T150000
DTSTAMP:20260420T072526
CREATED:20250817T204435Z
LAST-MODIFIED:20250817T204437Z
UID:10013156-1756468800-1756479600@www.champlain.edu
SUMMARY:Work-Study & Part-Time Job Fair
DESCRIPTION:All students are invited to join us for the Work-Study & Part-Time Job Fair! Whether you’re looking for an on-campus job\, a work-study position\, part-time employment nearby\, or just beginning to explore opportunities for the future\, this event is your chance to connect directly with campus supervisors and local employers. Stop by anytime during fair hours and stay for as long as you are able. \nMeet a variety of on-campus supervisors\, off-campus work-study-eligible employers\, and local part-time employers eager to speak with you. \nExplore opportunities in advance by reviewing job postings on Handshake before attending. \nBring your resume to share with employers—preparation goes a long way! Don’t have a resume? Stop by Drop-in Hours at the Garden House (Mon-Fri\, 11-4) and our peer coaches can assist. \nCome as you are—bring your energy and curiosity. \nNever been to a career fair before? No problem! Staff from the Career Collaborative will be on hand to support you throughout the event. \nFirst-Year Students: This event fulfills your InSight CAREERtalk milestone.\nJuniors & Seniors: Please note\, although this event does NOT fulfill your Career Fair attendance milestone\, we hope you will stop by.
URL:https://www.champlain.edu/event/work-study-part-time-job-fair-2/
LOCATION:Champlain Room\, Center for Communication & Creative Media (CCM)\, 375 Maple Street\, Burlington\, VT\, 05401\, United States
CATEGORIES:Career & InSight
ATTACH;FMTTYPE=image/jpeg:https://www.champlain.edu/app/uploads/2024/10/students_career-fair_employer-chat.jpg
ORGANIZER;CN="Career Collaborative":MAILTO:careercollaborative@champlain.edu
GEO:44.4736955;-73.2041466
X-APPLE-STRUCTURED-LOCATION;VALUE=URI;X-ADDRESS=Champlain Room Center for Communication & Creative Media (CCM) 375 Maple Street Burlington VT 05401 United States;X-APPLE-RADIUS=500;X-TITLE=375 Maple Street:geo:-73.2041466,44.4736955
END:VEVENT
BEGIN:VEVENT
DTSTART;TZID=America/New_York:20250829T200000
DTEND;TZID=America/New_York:20250829T220000
DTSTAMP:20260420T072526
CREATED:20250829T184303Z
LAST-MODIFIED:20250829T184305Z
UID:10013799-1756497600-1756504800@www.champlain.edu
SUMMARY:Mind Magic! Mentalist Show with Steve Taubman
DESCRIPTION:Join Student Engagement for an evening of Mind Magic! Steve Taubman wows with laughter and mind miracles – bring your friends and get ready for a night of fun!
URL:https://www.champlain.edu/event/mind-magic-mentalist-show-with-steve-taubman/
LOCATION:Alumni Auditorium\, Center for Communication & Creative Media (CCM)\, 375 Maple Street\, Burlington\, VT\, 05401\, United States
CATEGORIES:Student Activities
ATTACH;FMTTYPE=image/jpeg:https://www.champlain.edu/app/uploads/2025/08/mind-magic-stock-event.jpg
GEO:44.4736955;-73.2041466
X-APPLE-STRUCTURED-LOCATION;VALUE=URI;X-ADDRESS=Alumni Auditorium Center for Communication & Creative Media (CCM) 375 Maple Street Burlington VT 05401 United States;X-APPLE-RADIUS=500;X-TITLE=375 Maple Street:geo:-73.2041466,44.4736955
END:VEVENT
END:VCALENDAR