BEGIN:VCALENDAR
VERSION:2.0
PRODID:-//Champlain College - ECPv6.15.18//NONSGML v1.0//EN
CALSCALE:GREGORIAN
METHOD:PUBLISH
X-WR-CALNAME:Champlain College
X-ORIGINAL-URL:https://www.champlain.edu
X-WR-CALDESC:Events for Champlain College
REFRESH-INTERVAL;VALUE=DURATION:PT1H
X-Robots-Tag:noindex
X-PUBLISHED-TTL:PT1H
BEGIN:VTIMEZONE
TZID:America/New_York
BEGIN:DAYLIGHT
TZOFFSETFROM:-0500
TZOFFSETTO:-0400
TZNAME:EDT
DTSTART:20240310T070000
END:DAYLIGHT
BEGIN:STANDARD
TZOFFSETFROM:-0400
TZOFFSETTO:-0500
TZNAME:EST
DTSTART:20241103T060000
END:STANDARD
BEGIN:DAYLIGHT
TZOFFSETFROM:-0500
TZOFFSETTO:-0400
TZNAME:EDT
DTSTART:20250309T070000
END:DAYLIGHT
BEGIN:STANDARD
TZOFFSETFROM:-0400
TZOFFSETTO:-0500
TZNAME:EST
DTSTART:20251102T060000
END:STANDARD
BEGIN:DAYLIGHT
TZOFFSETFROM:-0500
TZOFFSETTO:-0400
TZNAME:EDT
DTSTART:20260308T070000
END:DAYLIGHT
BEGIN:STANDARD
TZOFFSETFROM:-0400
TZOFFSETTO:-0500
TZNAME:EST
DTSTART:20261101T060000
END:STANDARD
END:VTIMEZONE
BEGIN:VEVENT
DTSTART;TZID=America/New_York:20250904T190000
DTEND;TZID=America/New_York:20250904T203000
DTSTAMP:20260422T175310
CREATED:20250822T195734Z
LAST-MODIFIED:20250822T195736Z
UID:10013367-1757012400-1757017800@www.champlain.edu
SUMMARY:Pride T-Shirt & Poster Making Party
DESCRIPTION:All students\, staff\, and faculty are welcome to join us in the Fireside Lounge to decorate t-shirts and posters in preparation for Burlington’s Pride Parade this Sunday\, September 7! Block printing supplies and fabric markers will be available for t-shirt decorating. You may bring your own clothing to decorate or you can use one of our plain white T-shirts. Posterboard and markers will be available for poster decorating. For more information\, please contact womensandgender@champlain.edu.
URL:https://www.champlain.edu/event/pride-t-shirt-poster-making-party/
LOCATION:Fireside Lounge\, IDX Student Life Center\, 262 S Willard St\, Burlington\, 05401
CATEGORIES:Art & Music,Student Activities
ATTACH;FMTTYPE=image/png:https://www.champlain.edu/app/uploads/2025/08/The-View-Template-2.png
GEO:44.4725946;-73.2044524
X-APPLE-STRUCTURED-LOCATION;VALUE=URI;X-ADDRESS=Fireside Lounge IDX Student Life Center 262 S Willard St Burlington 05401;X-APPLE-RADIUS=500;X-TITLE=262 S Willard St:geo:-73.2044524,44.4725946
END:VEVENT
END:VCALENDAR