BEGIN:VCALENDAR
VERSION:2.0
PRODID:-//Champlain College - ECPv6.15.18//NONSGML v1.0//EN
CALSCALE:GREGORIAN
METHOD:PUBLISH
X-WR-CALNAME:Champlain College
X-ORIGINAL-URL:https://www.champlain.edu
X-WR-CALDESC:Events for Champlain College
REFRESH-INTERVAL;VALUE=DURATION:PT1H
X-Robots-Tag:noindex
X-PUBLISHED-TTL:PT1H
BEGIN:VTIMEZONE
TZID:America/New_York
BEGIN:DAYLIGHT
TZOFFSETFROM:-0500
TZOFFSETTO:-0400
TZNAME:EDT
DTSTART:20240310T070000
END:DAYLIGHT
BEGIN:STANDARD
TZOFFSETFROM:-0400
TZOFFSETTO:-0500
TZNAME:EST
DTSTART:20241103T060000
END:STANDARD
BEGIN:DAYLIGHT
TZOFFSETFROM:-0500
TZOFFSETTO:-0400
TZNAME:EDT
DTSTART:20250309T070000
END:DAYLIGHT
BEGIN:STANDARD
TZOFFSETFROM:-0400
TZOFFSETTO:-0500
TZNAME:EST
DTSTART:20251102T060000
END:STANDARD
BEGIN:DAYLIGHT
TZOFFSETFROM:-0500
TZOFFSETTO:-0400
TZNAME:EDT
DTSTART:20260308T070000
END:DAYLIGHT
BEGIN:STANDARD
TZOFFSETFROM:-0400
TZOFFSETTO:-0500
TZNAME:EST
DTSTART:20261101T060000
END:STANDARD
END:VTIMEZONE
BEGIN:VEVENT
DTSTART;TZID=America/New_York:20250910T160000
DTEND;TZID=America/New_York:20250910T173000
DTSTAMP:20260423T101423
CREATED:20250822T200047Z
LAST-MODIFIED:20250822T200050Z
UID:10013366-1757520000-1757525400@www.champlain.edu
SUMMARY:WGC CHATS with Lyza Graham
DESCRIPTION:All students\, staff\, and faculty are welcome to join us for WGC CHATS: a series where we interview folks with marginalized identities about their interesting career journeys. This is an excellent opportunity to learn from professionals in their field and ask them questions about how to excel in your own career. \nLyza Graham (she/her) is a Licensed Clinical Mental Health Counselor located in Seattle\, Washington. She is an avid 2SLGBTQIA+ advocate and working towards opening a private practice and applying to PhD programs.
URL:https://www.champlain.edu/event/wgc-chats-with-lyza-graham/
LOCATION:Women’s & Gender Center\, Skiff Hall Annex\, 163 S Willard St\, Burlington\, VT\, 05401\, United States
CATEGORIES:Career & InSight,Student Activities
ATTACH;FMTTYPE=image/png:https://www.champlain.edu/app/uploads/2025/08/The-View-Template-1-1.png
GEO:44.4755768;-73.2057021
X-APPLE-STRUCTURED-LOCATION;VALUE=URI;X-ADDRESS=Women’s & Gender Center Skiff Hall Annex 163 S Willard St Burlington VT 05401 United States;X-APPLE-RADIUS=500;X-TITLE=163 S Willard St:geo:-73.2057021,44.4755768
END:VEVENT
END:VCALENDAR