BEGIN:VCALENDAR
VERSION:2.0
PRODID:-//Champlain College - ECPv6.15.18//NONSGML v1.0//EN
CALSCALE:GREGORIAN
METHOD:PUBLISH
X-WR-CALNAME:Champlain College
X-ORIGINAL-URL:https://www.champlain.edu
X-WR-CALDESC:Events for Champlain College
REFRESH-INTERVAL;VALUE=DURATION:PT1H
X-Robots-Tag:noindex
X-PUBLISHED-TTL:PT1H
BEGIN:VTIMEZONE
TZID:America/New_York
BEGIN:DAYLIGHT
TZOFFSETFROM:-0500
TZOFFSETTO:-0400
TZNAME:EDT
DTSTART:20240310T070000
END:DAYLIGHT
BEGIN:STANDARD
TZOFFSETFROM:-0400
TZOFFSETTO:-0500
TZNAME:EST
DTSTART:20241103T060000
END:STANDARD
BEGIN:DAYLIGHT
TZOFFSETFROM:-0500
TZOFFSETTO:-0400
TZNAME:EDT
DTSTART:20250309T070000
END:DAYLIGHT
BEGIN:STANDARD
TZOFFSETFROM:-0400
TZOFFSETTO:-0500
TZNAME:EST
DTSTART:20251102T060000
END:STANDARD
BEGIN:DAYLIGHT
TZOFFSETFROM:-0500
TZOFFSETTO:-0400
TZNAME:EDT
DTSTART:20260308T070000
END:DAYLIGHT
BEGIN:STANDARD
TZOFFSETFROM:-0400
TZOFFSETTO:-0500
TZNAME:EST
DTSTART:20261101T060000
END:STANDARD
BEGIN:DAYLIGHT
TZOFFSETFROM:-0500
TZOFFSETTO:-0400
TZNAME:EDT
DTSTART:20270314T070000
END:DAYLIGHT
BEGIN:STANDARD
TZOFFSETFROM:-0400
TZOFFSETTO:-0500
TZNAME:EST
DTSTART:20271107T060000
END:STANDARD
END:VTIMEZONE
BEGIN:VEVENT
DTSTART;TZID=America/New_York:20250825T100000
DTEND;TZID=America/New_York:20251003T190000
DTSTAMP:20260424T070146
CREATED:20250817T212627Z
LAST-MODIFIED:20250819T154841Z
UID:10013129-1756116000-1759518000@www.champlain.edu
SUMMARY:Guiding Quest: Game History Exhibition
DESCRIPTION:Guiding Quest: Game History ExhibitSeptember 2- October 10Reception: Fri. 10/3\, 5-7pmArt Gallery\, CCM 2nd Floor \nDesign evolution is the name of the game in this year’s annual Game History Exhibition. Showcasing a curated selection of artifacts\, games\, and consoles to play from Champlain College’s Game History Collection\, explore how game design genres have evolved over time.
URL:https://www.champlain.edu/event/guiding-quest-game-history-exhibition/
LOCATION:Champlain Art Gallery\, Center for Communication & Creative Media (CCM)\, 375 Maple Street\, Burlington\, VT\, 05401\, United States
CATEGORIES:Art & Music
ATTACH;FMTTYPE=image/jpeg:https://www.champlain.edu/app/uploads/2025/08/game-history-exhibition-art-gallery.jpg
GEO:44.4736955;-73.2041466
X-APPLE-STRUCTURED-LOCATION;VALUE=URI;X-ADDRESS=Champlain Art Gallery Center for Communication & Creative Media (CCM) 375 Maple Street Burlington VT 05401 United States;X-APPLE-RADIUS=500;X-TITLE=375 Maple Street:geo:-73.2041466,44.4736955
END:VEVENT
BEGIN:VEVENT
DTSTART;TZID=America/New_York:20250826T000000
DTEND;TZID=America/New_York:20260306T235959
DTSTAMP:20260424T070146
CREATED:20250817T211225Z
LAST-MODIFIED:20250817T211253Z
UID:10013134-1756166400-1772841599@www.champlain.edu
SUMMARY:Calling All Artists/Creatives
DESCRIPTION:CALL FOR ART! \nThe gallery is accepting submissions for our spring all-campus group exhibition. Call and Response welcomes works in all media from current students\, faculty\, and staff that explore themes related to nature/plants in response to our March exhibition with artist and Champlain adjunct painting faculty Sage Tucker Ketcham.We encourage everyone to use the JSTOR Global Plants Archive as a springboard for inspiration!Deadline: March 6\, 2026 \nMore info on our website!
URL:https://www.champlain.edu/event/calling-all-artists-creatives/
LOCATION:Champlain Art Gallery\, Center for Communication & Creative Media (CCM)\, 375 Maple Street\, Burlington\, VT\, 05401\, United States
CATEGORIES:Art & Music
ATTACH;FMTTYPE=image/jpeg:https://www.champlain.edu/app/uploads/2025/08/plants-art-event-stock.jpg
GEO:44.4736955;-73.2041466
X-APPLE-STRUCTURED-LOCATION;VALUE=URI;X-ADDRESS=Champlain Art Gallery Center for Communication & Creative Media (CCM) 375 Maple Street Burlington VT 05401 United States;X-APPLE-RADIUS=500;X-TITLE=375 Maple Street:geo:-73.2041466,44.4736955
END:VEVENT
BEGIN:VEVENT
DTSTART;TZID=America/New_York:20250915T063000
DTEND;TZID=America/New_York:20250926T233000
DTSTAMP:20260424T070146
CREATED:20250917T194645Z
LAST-MODIFIED:20250917T194647Z
UID:10014629-1757917800-1758929400@www.champlain.edu
SUMMARY:Fitness & Recreation Raffle Fall 2025
DESCRIPTION:Get active and win! Join us for our Fall 2025 Fitness & Recreation Raffle running from Sunday\, September 15th at 6:30 AM through Thursday\, September 26th at 11:59 PM. \nHow to Enter:Simply swipe in and participate in any of our listed fitness programs\, and Hub/Argosy Desk staff will automatically enter you into the raffle. You can earn one entry per person\, per activity – so the more programs you try\, the better your chances! Even spectators at Wednesday Basketball and Thursday Volleyball sessions can enter. \nWeekly Program Schedule: \n\nMondays: 4:00 PM Pick-Up Basketball\, 5:30 PM Yoga\, 8:30 PM Drop-In Pickleball\nTuesdays: 8:30 PM Drop-In Soccer\, plus special events including CHAMP Spirit Week Capture the Flag (9/17) and our table at the Beavers for Betterment Fair (9/23)\nWednesdays: 4:30 PM Floor Hockey\, 7:00 PM Yoga\, 7:30 Intramural Basketball\nThursdays: 6:30 PM Intramural Volleyball and our NEW Zumba program at 7:00 PM (worth 2 entries!)\n\nWinners will be selected and announced on Monday\, September 29th. Don’t miss this chance to stay fit\, try new activities\, and win prizes!
URL:https://www.champlain.edu/event/fitness-recreation-raffle-fall-2025/
LOCATION:Argosy Gym\, IDX Student Life Center\, 262 S Willard St\, Burlington\, VT\, United States
CATEGORIES:Fitness & Intramural Sports
ATTACH;FMTTYPE=image/jpeg:https://www.champlain.edu/app/uploads/2023/08/campus_students_equipment-fitness-center.jpg
GEO:44.4725946;-73.2044524
X-APPLE-STRUCTURED-LOCATION;VALUE=URI;X-ADDRESS=Argosy Gym IDX Student Life Center 262 S Willard St Burlington VT United States;X-APPLE-RADIUS=500;X-TITLE=262 S Willard St:geo:-73.2044524,44.4725946
END:VEVENT
BEGIN:VEVENT
DTSTART;TZID=America/New_York:20250916T100000
DTEND;TZID=America/New_York:20250919T160000
DTSTAMP:20260424T070146
CREATED:20250817T211704Z
LAST-MODIFIED:20250817T211706Z
UID:10013133-1758016800-1758297600@www.champlain.edu
SUMMARY:Game Devs of Color Live Stream Watch Party!
DESCRIPTION:Game Developers of Color Conference\nSeptember 16-19 (Annex Gallery across from Art Gallery)\nLive Stream\, TBA\nThe Art Gallery is hosting its 2nd annual GDoC livestream event! Featuring talks\, panels\, and interviews featuring new voices and games that unite a supportive community of creators worldwide! Drop in at your convenience! Check the website for updated schedule.
URL:https://www.champlain.edu/event/game-devs-of-color-live-stream-watch-party/
LOCATION:Champlain Art Gallery\, Center for Communication & Creative Media (CCM)\, 375 Maple Street\, Burlington\, VT\, 05401\, United States
CATEGORIES:Academic,Art & Music
ATTACH;FMTTYPE=image/jpeg:https://www.champlain.edu/app/uploads/2025/08/livestream-camera-stock-event.jpg
GEO:44.4736955;-73.2041466
X-APPLE-STRUCTURED-LOCATION;VALUE=URI;X-ADDRESS=Champlain Art Gallery Center for Communication & Creative Media (CCM) 375 Maple Street Burlington VT 05401 United States;X-APPLE-RADIUS=500;X-TITLE=375 Maple Street:geo:-73.2041466,44.4736955
END:VEVENT
BEGIN:VEVENT
DTSTART;TZID=America/New_York:20250918T000000
DTEND;TZID=America/New_York:20251020T235959
DTSTAMP:20260424T070146
CREATED:20250918T150215Z
LAST-MODIFIED:20250918T150315Z
UID:10014909-1758153600-1761004799@www.champlain.edu
SUMMARY:Calling All Artists (Designers/Stylists)
DESCRIPTION:Calling all fashion designers and stylists to participate in A Dam Good Show – an electrifying fashion show where creativity flows as freely as inspiration itself. This isn’t just any ordinary fashion show; it’s a celebration of the incredible talent within our student community sponsored by Dare to CARE\, the Office of Diversity and Inclusion\, and Champlain Esports.  \nWe’re looking for creative minds ready to showcase their unique aesthetic and technical skills through design and styling – whether you’re into fashion styling\, cosplay and character design\, global inspired fashion\, gaming and avatar inspired creations\, original contstruction\, upcycling\, or something else\, all are welcome! No matter your style\, we want to see what makes your creative heart beat. Whether you’ve been designing for years or just discovered your passion for fashion\, we encourage you to share your vision. \nTo participate\, please complete our Artist Entry Form: https://forms.gle/yFXnDdYWSuGfcrGS6 \nDon’t miss this opportunity to show Champlain what makes your designs truly Dam good! We can’t wait to see what incredible creations you’ll bring to the runway. Questions? Reach out to daretocare@champlain.edu.  \nEntry Deadline: Monday\, October 20 | Event Date: Thursday\, November 13\, 7:00-9:00 PM | Venue: Champlain Room
URL:https://www.champlain.edu/event/calling-all-artists-designers-stylists/
LOCATION:VT
CATEGORIES:Art & Music,Dare to CARE: Wellbeing,Student Activities
ATTACH;FMTTYPE=image/jpeg:https://www.champlain.edu/app/uploads/2025/09/A-DAM-GOOD-SHOW-the-view-posting-merged.jpg
ORGANIZER;CN="Dare to CARE":MAILTO:daretocare@champlain.edu
END:VEVENT
BEGIN:VEVENT
DTSTART;TZID=America/New_York:20250919T100000
DTEND;TZID=America/New_York:20250919T120000
DTSTAMP:20260424T070146
CREATED:20250822T195405Z
LAST-MODIFIED:20250917T200702Z
UID:10013372-1758276000-1758283200@www.champlain.edu
SUMMARY:Bagel Friday
DESCRIPTION:Thanks to SGA\, Bagel Fridays are back EVERY FRIDAY! All are welcome to connect with us in the Women’s and Gender Center (Skiff Annex 102) while enjoying FREE bagels. We will start serving at 10:00 AM and continue until we run out!
URL:https://www.champlain.edu/event/bagel-friday-8/2025-09-19/
LOCATION:Women’s & Gender Center\, Skiff Hall Annex\, 163 S Willard St\, Burlington\, VT\, 05401\, United States
CATEGORIES:Student Activities
ATTACH;FMTTYPE=image/png:https://www.champlain.edu/app/uploads/2025/08/The-View-Template-4.png
GEO:44.4755768;-73.2057021
X-APPLE-STRUCTURED-LOCATION;VALUE=URI;X-ADDRESS=Women’s & Gender Center Skiff Hall Annex 163 S Willard St Burlington VT 05401 United States;X-APPLE-RADIUS=500;X-TITLE=163 S Willard St:geo:-73.2057021,44.4755768
END:VEVENT
BEGIN:VEVENT
DTSTART;TZID=America/New_York:20250919T100000
DTEND;TZID=America/New_York:20250919T150000
DTSTAMP:20260424T070146
CREATED:20250905T192556Z
LAST-MODIFIED:20250905T192559Z
UID:10014562-1758276000-1758294000@www.champlain.edu
SUMMARY:Talk Like a Pirate Day Festival
DESCRIPTION:Talk Like a Pirate Day is September 19th\, and we’re hosting a festival in the Fireside Lounge to celebrate! The event is funded by the Davis Grant and focuses on the competency of Inquiry\, so get ready to think more about what pirates\, holidays\, and breaking social norms with an ‘arr’ or an ‘ahoy’ might actually mean. Expect snacks\, prizes\, and sea shanties! The event is from 10-3\, and there are no classes that day\, so swing over if you have the chance!
URL:https://www.champlain.edu/event/talk-like-a-pirate-day-festival/
LOCATION:Fireside Lounge\, IDX Student Life Center\, 262 S Willard St\, Burlington\, 05401
CATEGORIES:Academic,Student Activities
ATTACH;FMTTYPE=image/jpeg:https://www.champlain.edu/app/uploads/2025/09/pirate-ship-stock-event.jpg
GEO:44.4725946;-73.2044524
X-APPLE-STRUCTURED-LOCATION;VALUE=URI;X-ADDRESS=Fireside Lounge IDX Student Life Center 262 S Willard St Burlington 05401;X-APPLE-RADIUS=500;X-TITLE=262 S Willard St:geo:-73.2044524,44.4725946
END:VEVENT
BEGIN:VEVENT
DTSTART;TZID=America/New_York:20250919T183000
DTEND;TZID=America/New_York:20250919T220000
DTSTAMP:20260424T070146
CREATED:20250905T192302Z
LAST-MODIFIED:20250905T192303Z
UID:10014303-1758306600-1758319200@www.champlain.edu
SUMMARY:Magic The Gathering Club night!
DESCRIPTION:Come by every Friday\, Ireland 114 and 112\, to the MAGIC The Gathering Club to play some games and meet other people who love the game. New to magic\, we can teach you! Join the Discord for even more info.
URL:https://www.champlain.edu/event/magic-the-gathering-club-night/2025-09-19/
LOCATION:Room 114\, SD Ireland Family Center\, 391 Maple St\, Burlington\, VT\, 05401\, United States
CATEGORIES:Student Activities
ATTACH;FMTTYPE=image/jpeg:https://www.champlain.edu/app/uploads/2024/04/Magic-the-Gathering-Quarterstaff-Games.jpg
GEO:44.4737342;-73.2036722
X-APPLE-STRUCTURED-LOCATION;VALUE=URI;X-ADDRESS=Room 114 SD Ireland Family Center 391 Maple St Burlington VT 05401 United States;X-APPLE-RADIUS=500;X-TITLE=391 Maple St:geo:-73.2036722,44.4737342
END:VEVENT
BEGIN:VEVENT
DTSTART;TZID=America/New_York:20250919T190000
DTEND;TZID=America/New_York:20250919T210000
DTSTAMP:20260424T070146
CREATED:20250829T172838Z
LAST-MODIFIED:20250829T172840Z
UID:10013826-1758308400-1758315600@www.champlain.edu
SUMMARY:Coffee + Tea Club
DESCRIPTION:The Coffee and Tea Club fosters a fun and safe space for students to drink tea and coffee. We’ll have different weekly activities like watching shows\, arts and crafts\, and anything our members would like to see. If you’re looking for a way to just de-stress and have fun\, the Coffee and Tea Club is for you!
URL:https://www.champlain.edu/event/coffee-tea-club/2025-09-19/
LOCATION:Room 424\, Center for Communication & Creative Media (CCM)\, 375 Maple Street\, Burlington\, VT\, 05401\, United States
CATEGORIES:Student Activities
ATTACH;FMTTYPE=image/jpeg:https://www.champlain.edu/app/uploads/2025/08/ct-scaled.jpg
GEO:44.4736955;-73.2041466
X-APPLE-STRUCTURED-LOCATION;VALUE=URI;X-ADDRESS=Room 424 Center for Communication & Creative Media (CCM) 375 Maple Street Burlington VT 05401 United States;X-APPLE-RADIUS=500;X-TITLE=375 Maple Street:geo:-73.2041466,44.4736955
END:VEVENT
END:VCALENDAR