BEGIN:VCALENDAR
VERSION:2.0
PRODID:-//Champlain College - ECPv6.15.18//NONSGML v1.0//EN
CALSCALE:GREGORIAN
METHOD:PUBLISH
X-WR-CALNAME:Champlain College
X-ORIGINAL-URL:https://www.champlain.edu
X-WR-CALDESC:Events for Champlain College
REFRESH-INTERVAL;VALUE=DURATION:PT1H
X-Robots-Tag:noindex
X-PUBLISHED-TTL:PT1H
BEGIN:VTIMEZONE
TZID:America/New_York
BEGIN:DAYLIGHT
TZOFFSETFROM:-0500
TZOFFSETTO:-0400
TZNAME:EDT
DTSTART:20240310T070000
END:DAYLIGHT
BEGIN:STANDARD
TZOFFSETFROM:-0400
TZOFFSETTO:-0500
TZNAME:EST
DTSTART:20241103T060000
END:STANDARD
BEGIN:DAYLIGHT
TZOFFSETFROM:-0500
TZOFFSETTO:-0400
TZNAME:EDT
DTSTART:20250309T070000
END:DAYLIGHT
BEGIN:STANDARD
TZOFFSETFROM:-0400
TZOFFSETTO:-0500
TZNAME:EST
DTSTART:20251102T060000
END:STANDARD
BEGIN:DAYLIGHT
TZOFFSETFROM:-0500
TZOFFSETTO:-0400
TZNAME:EDT
DTSTART:20260308T070000
END:DAYLIGHT
BEGIN:STANDARD
TZOFFSETFROM:-0400
TZOFFSETTO:-0500
TZNAME:EST
DTSTART:20261101T060000
END:STANDARD
END:VTIMEZONE
BEGIN:VEVENT
DTSTART;TZID=America/New_York:20251108T160000
DTEND;TZID=America/New_York:20251108T210000
DTSTAMP:20260421T205534
CREATED:20251030T155149Z
LAST-MODIFIED:20251030T155151Z
UID:10015585-1762617600-1762635600@www.champlain.edu
SUMMARY:Anime Club and FGC Champs Presents: Strive for Power
DESCRIPTION:Come compete in a Guilty Gear -Strive- tournament hosted by FGC Champs and Anime Club on Saturday\, November 8th from 4:00 PM to 9:00 PM in CCM 424! We’re running a double elimination bracket with prizes for top finishers. Registration closes at 8:30 PM\, and check-in opens at 4:00 PM. \nWhether you’re a Guilty Gear veteran or trying competitive fighting games for the first time\, all skill levels are welcome! Please bring your own controller if possible. Tournament uses best-of-3 format with standard competitive rules—no macros or turbo functions allowed. Full tournament rules and registration details are available.
URL:https://www.champlain.edu/event/anime-club-and-fgc-champs-presents-strive-for-power/
LOCATION:Room 424\, Center for Communication & Creative Media (CCM)\, 375 Maple Street\, Burlington\, VT\, 05401\, United States
CATEGORIES:Student Activities
ATTACH;FMTTYPE=image/jpeg:https://www.champlain.edu/app/uploads/2025/10/image.jpg
ORGANIZER;CN="Anime Club":MAILTO:animeclub@champlain.edu
GEO:44.4736955;-73.2041466
X-APPLE-STRUCTURED-LOCATION;VALUE=URI;X-ADDRESS=Room 424 Center for Communication & Creative Media (CCM) 375 Maple Street Burlington VT 05401 United States;X-APPLE-RADIUS=500;X-TITLE=375 Maple Street:geo:-73.2041466,44.4736955
END:VEVENT
BEGIN:VEVENT
DTSTART;TZID=America/New_York:20251108T193000
DTEND;TZID=America/New_York:20251108T223000
DTSTAMP:20260421T205534
CREATED:20250817T213232Z
LAST-MODIFIED:20250826T155422Z
UID:10013120-1762630200-1762641000@www.champlain.edu
SUMMARY:Anime Club: Hot Takes
DESCRIPTION:“Ready to ignite the anime debate battle? Let’s dive into some hot topics that will split the fandom in two! \n1. Goku vs. Superman: Who takes the crown in an all-out brawl? Is Goku’s ultra instinct too much for the Man of Steel?\n2. Naruto vs. Luffy: Who’s the better captain? Discuss teamwork versus the hunger for achieving dreams!\n3. Best Anime Villain: Is it Frieza with his ruthless ambition\, or Light Yagami with his twisted sense of justice?\n4. Cooking Showdown: Who’s the ultimate anime chef? Gintoki from “Gintama” or Sōma from “Food Wars!”? Taste buds and techniques are on the line! \nChoose your team\, and let the debate begin! The floor is yours! What’s your hot take?\nBe sure to submit your topics in the Google Form
URL:https://www.champlain.edu/event/anime-club-hot-takes/
LOCATION:Room 221\, Center for Communication & Creative Media (CCM)\, 375 Maple Street\, Burlington\, VT\, 05401\, United States
CATEGORIES:Student Activities
ATTACH;FMTTYPE=image/jpeg:https://www.champlain.edu/app/uploads/2023/09/anime-club.jpg
ORGANIZER;CN="Anime Club":MAILTO:animeclub@champlain.edu
GEO:44.4736955;-73.2041466
X-APPLE-STRUCTURED-LOCATION;VALUE=URI;X-ADDRESS=Room 221 Center for Communication & Creative Media (CCM) 375 Maple Street Burlington VT 05401 United States;X-APPLE-RADIUS=500;X-TITLE=375 Maple Street:geo:-73.2041466,44.4736955
END:VEVENT
END:VCALENDAR