BEGIN:VCALENDAR
VERSION:2.0
PRODID:-//Champlain College - ECPv6.15.3//NONSGML v1.0//EN
CALSCALE:GREGORIAN
METHOD:PUBLISH
X-WR-CALNAME:Champlain College
X-ORIGINAL-URL:https://www.champlain.edu
X-WR-CALDESC:Events for Champlain College
REFRESH-INTERVAL;VALUE=DURATION:PT1H
X-Robots-Tag:noindex
X-PUBLISHED-TTL:PT1H
BEGIN:VTIMEZONE
TZID:America/New_York
BEGIN:DAYLIGHT
TZOFFSETFROM:-0500
TZOFFSETTO:-0400
TZNAME:EDT
DTSTART:20250309T070000
END:DAYLIGHT
BEGIN:STANDARD
TZOFFSETFROM:-0400
TZOFFSETTO:-0500
TZNAME:EST
DTSTART:20251102T060000
END:STANDARD
END:VTIMEZONE
BEGIN:VEVENT
DTSTART;TZID=America/New_York:20251124T173000
DTEND;TZID=America/New_York:20251124T183000
DTSTAMP:20260421T003546
CREATED:20250819T155421Z
LAST-MODIFIED:20250819T155424Z
UID:10013301-1764005400-1764009000@www.champlain.edu
SUMMARY:Monday Yoga
DESCRIPTION:Join us for yoga every Monday from 5:30-6:30 PM in the Fitness Center Studio. This class aims to help you feel better in your body! Class will include vinyasa style flows (linking breath with movement)\, multiple variations for physical postures\, gentle breathwork\, and a sprinkling of yogic philosophy. All bodies and experience levels welcome! No experience necessary.
URL:https://www.champlain.edu/event/monday-yoga-2/2025-11-24/
LOCATION:Fitness Center Studio\, IDX Student Life Center\, 262 S Willard St\, Burlington
CATEGORIES:Fitness & Intramural Sports
ATTACH;FMTTYPE=image/jpeg:https://www.champlain.edu/app/uploads/2024/09/yoga-stock-fitness-exercise.jpg
GEO:44.4725946;-73.2044524
X-APPLE-STRUCTURED-LOCATION;VALUE=URI;X-ADDRESS=Fitness Center Studio IDX Student Life Center 262 S Willard St Burlington;X-APPLE-RADIUS=500;X-TITLE=262 S Willard St:geo:-73.2044524,44.4725946
END:VEVENT
END:VCALENDAR