BEGIN:VCALENDAR
VERSION:2.0
PRODID:-//Champlain College - ECPv6.15.3//NONSGML v1.0//EN
CALSCALE:GREGORIAN
METHOD:PUBLISH
X-WR-CALNAME:Champlain College
X-ORIGINAL-URL:https://www.champlain.edu
X-WR-CALDESC:Events for Champlain College
REFRESH-INTERVAL;VALUE=DURATION:PT1H
X-Robots-Tag:noindex
X-PUBLISHED-TTL:PT1H
BEGIN:VTIMEZONE
TZID:America/New_York
BEGIN:DAYLIGHT
TZOFFSETFROM:-0500
TZOFFSETTO:-0400
TZNAME:EDT
DTSTART:20250309T070000
END:DAYLIGHT
BEGIN:STANDARD
TZOFFSETFROM:-0400
TZOFFSETTO:-0500
TZNAME:EST
DTSTART:20251102T060000
END:STANDARD
END:VTIMEZONE
BEGIN:VEVENT
DTSTART;TZID=America/New_York:20251216T180000
DTEND;TZID=America/New_York:20251216T220000
DTSTAMP:20260421T081126
CREATED:20251006T181322Z
LAST-MODIFIED:20251006T181325Z
UID:10013667-1765908000-1765922400@www.champlain.edu
SUMMARY:FGC Champs Locals
DESCRIPTION:Come play fighting games with our student community on Tuesdays 6-8 pm in Wick 102! We offer setups for Street Fighter 6\, Tekken 8\, Guilty Gear Strive\, and more! \nA little more about our club\, the purpose of FGC Champs is to build a community on campus with a shared love for fighting games. Whether you have just picked up the controller or played all your life\, everyone is welcome here!
URL:https://www.champlain.edu/event/fgc-champs-locals-2/2025-12-16/
LOCATION:Room 102\, Wick Hall\, 87 Summit St\, Burlington\, VT\, 05401\, United States
CATEGORIES:Student Activities
ATTACH;FMTTYPE=image/jpeg:https://www.champlain.edu/app/uploads/2025/08/The-View-Template-FGC-Champs.jpg
ORGANIZER;CN="Champlain Fighting Game Community":MAILTO:scooby.grimm@mymail.champlain.edu
GEO:44.4733787;-73.2036104
X-APPLE-STRUCTURED-LOCATION;VALUE=URI;X-ADDRESS=Room 102 Wick Hall 87 Summit St Burlington VT 05401 United States;X-APPLE-RADIUS=500;X-TITLE=87 Summit St:geo:-73.2036104,44.4733787
END:VEVENT
BEGIN:VEVENT
DTSTART;TZID=America/New_York:20251216T200000
DTEND;TZID=America/New_York:20251216T210000
DTSTAMP:20260421T081126
CREATED:20251203T195529Z
LAST-MODIFIED:20251203T195531Z
UID:10015667-1765915200-1765918800@www.champlain.edu
SUMMARY:Alumni Book Club: December Meeting
DESCRIPTION:Join our next Alumni Book Club meeting! With monthly virtual meetings\, we will read a new book each month\, spanning various genres. You do not have to attend every meeting to participate in the book club.  \nDecember’s theme is found family\, and we will be reading Legends & Lattes by Travis Baldree.
URL:https://www.champlain.edu/event/alumni-book-club-december-meeting/
LOCATION:Webinar / Virtual\, United States
CATEGORIES:Alumni & Family Networking
ATTACH;FMTTYPE=image/jpeg:https://www.champlain.edu/app/uploads/2025/09/The-View-Event-Covers-5.jpg
ORGANIZER;CN="Office of Alumni Relations":MAILTO:alumni@champlain.edu
END:VEVENT
END:VCALENDAR