BEGIN:VCALENDAR
VERSION:2.0
PRODID:-//Champlain College - ECPv6.15.3//NONSGML v1.0//EN
CALSCALE:GREGORIAN
METHOD:PUBLISH
X-WR-CALNAME:Champlain College
X-ORIGINAL-URL:https://www.champlain.edu
X-WR-CALDESC:Events for Champlain College
REFRESH-INTERVAL;VALUE=DURATION:PT1H
X-Robots-Tag:noindex
X-PUBLISHED-TTL:PT1H
BEGIN:VTIMEZONE
TZID:America/New_York
BEGIN:DAYLIGHT
TZOFFSETFROM:-0500
TZOFFSETTO:-0400
TZNAME:EDT
DTSTART:20260308T070000
END:DAYLIGHT
BEGIN:STANDARD
TZOFFSETFROM:-0400
TZOFFSETTO:-0500
TZNAME:EST
DTSTART:20261101T060000
END:STANDARD
END:VTIMEZONE
BEGIN:VEVENT
DTSTART;TZID=America/New_York:20260109T120000
DTEND;TZID=America/New_York:20260109T130000
DTSTAMP:20260420T200641
CREATED:20251217T204245Z
LAST-MODIFIED:20251217T204249Z
UID:10015700-1767960000-1767963600@www.champlain.edu
SUMMARY:Alumni Virtual Office Hours with a Career Coach: Game Studio
DESCRIPTION:An allotted time for alumni to drop in\, connect with others in their industry\, tackle career challenges\, and work on professional development materials. Each session will be dedicated to a specific industry and hosted by a Career Coach from Champlain’s Career Collaborative. The January session is hosted by Connor Holtkamp\, Career Coach for the Game Studio.  \nWhether you have a question about your portfolio\, are looking to meet other alumni in your industry\, or simply could use a dedicated time to get the work done (we love a good body doubling moment)\, these office hours are here to support your professional development and career journey.  \nStop by or stay for the hour!
URL:https://www.champlain.edu/event/alumni-virtual-office-hours-with-a-career-coach-game-studio-2/
LOCATION:Webinar / Virtual\, United States
CATEGORIES:Alumni & Family Networking,Career & InSight
ATTACH;FMTTYPE=image/jpeg:https://www.champlain.edu/app/uploads/2025/12/Virtual-Office-Hours-Event-Cover.jpg
ORGANIZER;CN="Office of Alumni Relations":MAILTO:alumni@champlain.edu
END:VEVENT
END:VCALENDAR