BEGIN:VCALENDAR
VERSION:2.0
PRODID:-//Champlain College - ECPv6.15.3//NONSGML v1.0//EN
CALSCALE:GREGORIAN
METHOD:PUBLISH
X-WR-CALNAME:Champlain College
X-ORIGINAL-URL:https://www.champlain.edu
X-WR-CALDESC:Events for Champlain College
REFRESH-INTERVAL;VALUE=DURATION:PT1H
X-Robots-Tag:noindex
X-PUBLISHED-TTL:PT1H
BEGIN:VTIMEZONE
TZID:America/New_York
BEGIN:DAYLIGHT
TZOFFSETFROM:-0500
TZOFFSETTO:-0400
TZNAME:EDT
DTSTART:20260308T070000
END:DAYLIGHT
BEGIN:STANDARD
TZOFFSETFROM:-0400
TZOFFSETTO:-0500
TZNAME:EST
DTSTART:20261101T060000
END:STANDARD
END:VTIMEZONE
BEGIN:VEVENT
DTSTART;TZID=America/New_York:20260116T160000
DTEND;TZID=America/New_York:20260123T180000
DTSTAMP:20260421T121224
CREATED:20260106T164015Z
LAST-MODIFIED:20260106T164056Z
UID:10015707-1768579200-1769191200@www.champlain.edu
SUMMARY:Graphic Design Capstone Showcase Event
DESCRIPTION:Senior Graphic Design majors will be showcasing their semester-long capstone projects in the Art Gallery! The showcase is called “Hyphae.” \nHyphae (hai-fee) is a hidden network beneath the surface. The strong threads which weave themselves in the ground\, enduring anything in its path with one mission: sustaining its greater body. This exhibition is an exploration into our resilience in a time of uncertainty. We are the threads which connect us as one while able to still take our own paths. It is through this connection which brought us here today\, we can exhibit the true meaning of Hyphae: A network of creatives who nourish growth\, remain resilient\, and continue to design in defiance of change. \nFeaturing work by:  Fathima Babu\, Abigail Fairhurst\, Corrine Clark\, Tenzin Palden\, William Ciardelli\, Vaughn Traynor\, Delaney Moody\, Rebecca Gantress\, Avery Marr\, Alex Clark\, Anne Judson\, Kai Companion\, Ben Treybal\, Lillian Flanagan\, Logan McGonigle\, Grace Mirabito\, Kai Bossard\, Emily Povilaitis\, Ceili Gelsinon\, Jean-Paul Jouet\, David Stern
URL:https://www.champlain.edu/event/graphic-design-capstone-showcase/
LOCATION:Champlain Art Gallery\, Center for Communication & Creative Media (CCM)\, 375 Maple Street\, Burlington\, VT\, 05401\, United States
CATEGORIES:Academic,Art & Music
ATTACH;FMTTYPE=image/jpeg:https://www.champlain.edu/app/uploads/2025/01/art-gallery-graphic-design-capstone-exhibition-ccm.jpg
GEO:44.4736955;-73.2041466
X-APPLE-STRUCTURED-LOCATION;VALUE=URI;X-ADDRESS=Champlain Art Gallery Center for Communication & Creative Media (CCM) 375 Maple Street Burlington VT 05401 United States;X-APPLE-RADIUS=500;X-TITLE=375 Maple Street:geo:-73.2041466,44.4736955
END:VEVENT
BEGIN:VEVENT
DTSTART;TZID=America/New_York:20260119T110000
DTEND;TZID=America/New_York:20260119T130000
DTSTAMP:20260421T121224
CREATED:20251216T161631Z
LAST-MODIFIED:20251216T163301Z
UID:10015684-1768820400-1768827600@www.champlain.edu
SUMMARY:MLK Event: Community Brunch w/ Green Mountain Gospel Choir
DESCRIPTION:Join us in honoring the legacy of Dr. Martin Luther King Jr. \nChamplain College invites you to our MLK Community Brunch—a gathering to celebrate Dr. King’s enduring vision of justice\, equality\, and beloved community. \nThis meal is an opportunity to bring together students\, faculty\, staff\, and community members to reflect on Dr. King’s teachings and their relevance in our lives today. Through shared conversation\, inspiration\, and connection\, we’ll explore how we can each contribute to building the inclusive\, compassionate world Dr. King envisioned. \nWhat to Expect: \n\nA warm\, welcoming brunch\nUplifting performance by the Green Mountain Gospel Choir starting at 11:45 AM \nOpportunities to connect with fellow community members\n\nLet the uplifting voices of the Green Mountain Gospel Choir move your spirit and set the tone for a day of reflection and renewed purpose. \nAll are welcome. Come for the food\, stay for the fellowship\, and leave inspired to make a difference. \n“Everybody can be great…because anybody can serve.” — Dr. Martin Luther King Jr.
URL:https://www.champlain.edu/event/mlk-event-community-brunch-w-green-mountain-gospel-choir/
LOCATION:Dining Hall\, IDX Student Life Center\, 262 S Willard St\, Burlington\, VT\, 05401\, United States
CATEGORIES:Cultural Programming
ATTACH;FMTTYPE=image/jpeg:https://www.champlain.edu/app/uploads/2025/12/students-dining-hall-orientation-leaders-food.jpg
GEO:44.4725946;-73.2044524
X-APPLE-STRUCTURED-LOCATION;VALUE=URI;X-ADDRESS=Dining Hall IDX Student Life Center 262 S Willard St Burlington VT 05401 United States;X-APPLE-RADIUS=500;X-TITLE=262 S Willard St:geo:-73.2044524,44.4725946
END:VEVENT
END:VCALENDAR