BEGIN:VCALENDAR
VERSION:2.0
PRODID:-//Champlain College - ECPv6.15.18//NONSGML v1.0//EN
CALSCALE:GREGORIAN
METHOD:PUBLISH
X-WR-CALNAME:Champlain College
X-ORIGINAL-URL:https://www.champlain.edu
X-WR-CALDESC:Events for Champlain College
REFRESH-INTERVAL;VALUE=DURATION:PT1H
X-Robots-Tag:noindex
X-PUBLISHED-TTL:PT1H
BEGIN:VTIMEZONE
TZID:America/New_York
BEGIN:DAYLIGHT
TZOFFSETFROM:-0500
TZOFFSETTO:-0400
TZNAME:EDT
DTSTART:20250309T070000
END:DAYLIGHT
BEGIN:STANDARD
TZOFFSETFROM:-0400
TZOFFSETTO:-0500
TZNAME:EST
DTSTART:20251102T060000
END:STANDARD
BEGIN:DAYLIGHT
TZOFFSETFROM:-0500
TZOFFSETTO:-0400
TZNAME:EDT
DTSTART:20260308T070000
END:DAYLIGHT
BEGIN:STANDARD
TZOFFSETFROM:-0400
TZOFFSETTO:-0500
TZNAME:EST
DTSTART:20261101T060000
END:STANDARD
BEGIN:DAYLIGHT
TZOFFSETFROM:-0500
TZOFFSETTO:-0400
TZNAME:EDT
DTSTART:20270314T070000
END:DAYLIGHT
BEGIN:STANDARD
TZOFFSETFROM:-0400
TZOFFSETTO:-0500
TZNAME:EST
DTSTART:20271107T060000
END:STANDARD
END:VTIMEZONE
BEGIN:VEVENT
DTSTART;TZID=America/New_York:20260120T150000
DTEND;TZID=America/New_York:20260120T160000
DTSTAMP:20260425T093949
CREATED:20251216T164639Z
LAST-MODIFIED:20251216T164642Z
UID:10015687-1768921200-1768924800@www.champlain.edu
SUMMARY:MLK Event: CAMPUS PEACE WALK
DESCRIPTION:Walk together toward justice. \nJoin us for a guided walk across campus\, stopping at meaningful locations to reflect on Dr. King’s legacy and vision for beloved community. Each stop features readings\, reflections\, and conversation exploring different dimensions of Dr. King’s work and its connection to today. \nRoute Highlights: \n\nStart at Fireside Lounge: Grab coffee\, hot cocoa\, hand warmers\, and make/take signs with messages of hope and resilience\nStop 1: Samuel de Champlain Statue: The journey toward justice begins\nStop 2: Perry Lawn: Opening doors and welcoming all\nStop 3: Finney Quad: Interconnected justice and intersectionality\nStop 4: Aiken Lawn: Knowledge as power; continuing the work\nFinish at the Champlain Room: Celebrate with music\, food\, open mic\, and community.\n\nDress warmly. Bring your voice. Walk toward change. \nThe route is planned with accessibility in mind. All are welcome.
URL:https://www.champlain.edu/event/mlk-event-campus-peace-walk/
LOCATION:Fireside Lounge\, IDX Student Life Center\, 262 S Willard St\, Burlington\, 05401
CATEGORIES:Academic,Career & InSight,Cultural Programming,Service & Civic Engagement
ATTACH;FMTTYPE=image/jpeg:https://www.champlain.edu/app/uploads/2025/12/Peace-Walk@4x-scaled.jpg
GEO:44.4725946;-73.2044524
X-APPLE-STRUCTURED-LOCATION;VALUE=URI;X-ADDRESS=Fireside Lounge IDX Student Life Center 262 S Willard St Burlington 05401;X-APPLE-RADIUS=500;X-TITLE=262 S Willard St:geo:-73.2044524,44.4725946
END:VEVENT
BEGIN:VEVENT
DTSTART;TZID=America/New_York:20260120T193000
DTEND;TZID=America/New_York:20260120T213000
DTSTAMP:20260425T093949
CREATED:20251216T165110Z
LAST-MODIFIED:20260107T134315Z
UID:10015690-1768937400-1768944600@www.champlain.edu
SUMMARY:MLK Event: Selma (2014) Movie Screening
DESCRIPTION:Experience the march that changed America. \nJoin us for a screening of Selma\, Ava DuVernay’s powerful film about the 1965 voting rights campaign that led to the historic march from Selma to Montgomery\, Alabama. \nWitness Dr. Martin Luther King Jr. and fellow activists as they organize against violent opposition\, from the tragedy of “Bloody Sunday” on the Edmund Pettus Bridge to the passage of the Voting Rights Act. This film reveals the strategy\, sacrifice\, and extraordinary courage required to secure a fundamental right.
URL:https://www.champlain.edu/event/mlk-event-selma-2014-movie-screening/
LOCATION:Alumni Auditorium\, Center for Communication & Creative Media (CCM)\, 375 Maple Street\, Burlington\, VT\, 05401\, United States
CATEGORIES:Cultural Programming,Service & Civic Engagement,Student Activities
ATTACH;FMTTYPE=image/jpeg:https://www.champlain.edu/app/uploads/2024/04/MLK-Web-Hero.jpg
GEO:44.4736955;-73.2041466
X-APPLE-STRUCTURED-LOCATION;VALUE=URI;X-ADDRESS=Alumni Auditorium Center for Communication & Creative Media (CCM) 375 Maple Street Burlington VT 05401 United States;X-APPLE-RADIUS=500;X-TITLE=375 Maple Street:geo:-73.2041466,44.4736955
END:VEVENT
END:VCALENDAR