BEGIN:VCALENDAR
VERSION:2.0
PRODID:-//Champlain College - ECPv6.15.3//NONSGML v1.0//EN
CALSCALE:GREGORIAN
METHOD:PUBLISH
X-WR-CALNAME:Champlain College
X-ORIGINAL-URL:https://www.champlain.edu
X-WR-CALDESC:Events for Champlain College
REFRESH-INTERVAL;VALUE=DURATION:PT1H
X-Robots-Tag:noindex
X-PUBLISHED-TTL:PT1H
BEGIN:VTIMEZONE
TZID:America/New_York
BEGIN:DAYLIGHT
TZOFFSETFROM:-0500
TZOFFSETTO:-0400
TZNAME:EDT
DTSTART:20260308T070000
END:DAYLIGHT
BEGIN:STANDARD
TZOFFSETFROM:-0400
TZOFFSETTO:-0500
TZNAME:EST
DTSTART:20261101T060000
END:STANDARD
END:VTIMEZONE
BEGIN:VEVENT
DTSTART;TZID=America/New_York:20260124T093000
DTEND;TZID=America/New_York:20260124T173000
DTSTAMP:20260420T014902
CREATED:20260116T005526Z
LAST-MODIFIED:20260116T194606Z
UID:10016402-1769247000-1769275800@www.champlain.edu
SUMMARY:BTV Alumni Meetup: Ski & Ride Day and Alumni Gathering
DESCRIPTION:Join Champlain alumni and current students on the slopes of Mt. Ellen at Sugarbush\, followed by an alumni gathering at Lawson’s Finest Liquids\, a nearby brewery! The Office of Alumni Relations will provide light fare and refreshments throughout the day\, Champlain swag\, and prizes! \n\n9:30 AM to 3 PM – Ski & Ride Day\n3:30 PM to 5:30 PM – Alumni Gathering at Lawson’s Finest Liquids\n\nCan’t make it for the ski & ride time? Join us at the brewery. Registration covers the Ski & Ride Day and the Alumni Gathering. \nTransportation: Alumni are responsible for providing their own transportation. There is a limited number of seats available on the bus from campus for those who are unable to provide their own transportation to the mountain. Please note the bus from campus will only take you to and from the mountain and will not include Lawson’s. \nSki & Ride Info: Attendees are responsible for providing their own lift tickets and gear or rentals. Please reach out if corresponding expenses are a barrier to your attendance or if you need assistance with transportation.
URL:https://www.champlain.edu/event/btv-alumni-meetup-ski-ride-day-and-alumni-gathering/
CATEGORIES:Alumni & Family Networking
ATTACH;FMTTYPE=image/jpeg:https://www.champlain.edu/app/uploads/2023/08/vermont_students_skiing-sugarbush-winter.jpg
ORGANIZER;CN="Office of Alumni Relations":MAILTO:alumni@champlain.edu
END:VEVENT
END:VCALENDAR