BEGIN:VCALENDAR
VERSION:2.0
PRODID:-//Champlain College - ECPv6.15.3//NONSGML v1.0//EN
CALSCALE:GREGORIAN
METHOD:PUBLISH
X-WR-CALNAME:Champlain College
X-ORIGINAL-URL:https://www.champlain.edu
X-WR-CALDESC:Events for Champlain College
REFRESH-INTERVAL;VALUE=DURATION:PT1H
X-Robots-Tag:noindex
X-PUBLISHED-TTL:PT1H
BEGIN:VTIMEZONE
TZID:America/New_York
BEGIN:DAYLIGHT
TZOFFSETFROM:-0500
TZOFFSETTO:-0400
TZNAME:EDT
DTSTART:20260308T070000
END:DAYLIGHT
BEGIN:STANDARD
TZOFFSETFROM:-0400
TZOFFSETTO:-0500
TZNAME:EST
DTSTART:20261101T060000
END:STANDARD
END:VTIMEZONE
BEGIN:VEVENT
DTSTART;TZID=America/New_York:20260219T000000
DTEND;TZID=America/New_York:20260219T235959
DTSTAMP:20260420T002012
CREATED:20260211T214028Z
LAST-MODIFIED:20260212T165230Z
UID:10016912-1771459200-1771545599@www.champlain.edu
SUMMARY:Student Appreciation Day
DESCRIPTION:Join us for the Follett Student Appreciation Day on Thursday\, February 19. This event is designed to celebrate students with exclusive offers at the Champlain College Bookstore! Deals encompass 20% off clothing and gifts!* \n*Gifts are classified as Champlain-branded merchandise and related items\, but not technology.
URL:https://www.champlain.edu/event/student-appreciation-day/
LOCATION:Champlain College\, 163 South Willard Street\, Burlington\, VT\, 05401\, United States
CATEGORIES:Student Activities
ATTACH;FMTTYPE=image/jpeg:https://www.champlain.edu/app/uploads/2023/08/campus-store_shirt-display.jpg
GEO:44.4755768;-73.2057021
X-APPLE-STRUCTURED-LOCATION;VALUE=URI;X-ADDRESS=Champlain College 163 South Willard Street Burlington VT 05401 United States;X-APPLE-RADIUS=500;X-TITLE=163 South Willard Street:geo:-73.2057021,44.4755768
END:VEVENT
END:VCALENDAR