BEGIN:VCALENDAR
VERSION:2.0
PRODID:-//Champlain College - ECPv6.15.3//NONSGML v1.0//EN
CALSCALE:GREGORIAN
METHOD:PUBLISH
X-WR-CALNAME:Champlain College
X-ORIGINAL-URL:https://www.champlain.edu
X-WR-CALDESC:Events for Champlain College
REFRESH-INTERVAL;VALUE=DURATION:PT1H
X-Robots-Tag:noindex
X-PUBLISHED-TTL:PT1H
BEGIN:VTIMEZONE
TZID:America/New_York
BEGIN:DAYLIGHT
TZOFFSETFROM:-0500
TZOFFSETTO:-0400
TZNAME:EDT
DTSTART:20250309T070000
END:DAYLIGHT
BEGIN:STANDARD
TZOFFSETFROM:-0400
TZOFFSETTO:-0500
TZNAME:EST
DTSTART:20251102T060000
END:STANDARD
BEGIN:DAYLIGHT
TZOFFSETFROM:-0500
TZOFFSETTO:-0400
TZNAME:EDT
DTSTART:20260308T070000
END:DAYLIGHT
BEGIN:STANDARD
TZOFFSETFROM:-0400
TZOFFSETTO:-0500
TZNAME:EST
DTSTART:20261101T060000
END:STANDARD
END:VTIMEZONE
BEGIN:VEVENT
DTSTART;TZID=America/New_York:20250826T000000
DTEND;TZID=America/New_York:20260306T235959
DTSTAMP:20260420T164557
CREATED:20250817T211225Z
LAST-MODIFIED:20250817T211253Z
UID:10013134-1756166400-1772841599@www.champlain.edu
SUMMARY:Calling All Artists/Creatives
DESCRIPTION:CALL FOR ART! \nThe gallery is accepting submissions for our spring all-campus group exhibition. Call and Response welcomes works in all media from current students\, faculty\, and staff that explore themes related to nature/plants in response to our March exhibition with artist and Champlain adjunct painting faculty Sage Tucker Ketcham.We encourage everyone to use the JSTOR Global Plants Archive as a springboard for inspiration!Deadline: March 6\, 2026 \nMore info on our website!
URL:https://www.champlain.edu/event/calling-all-artists-creatives/
LOCATION:Champlain Art Gallery\, Center for Communication & Creative Media (CCM)\, 375 Maple Street\, Burlington\, VT\, 05401\, United States
CATEGORIES:Art & Music
ATTACH;FMTTYPE=image/jpeg:https://www.champlain.edu/app/uploads/2025/08/plants-art-event-stock.jpg
GEO:44.4736955;-73.2041466
X-APPLE-STRUCTURED-LOCATION;VALUE=URI;X-ADDRESS=Champlain Art Gallery Center for Communication & Creative Media (CCM) 375 Maple Street Burlington VT 05401 United States;X-APPLE-RADIUS=500;X-TITLE=375 Maple Street:geo:-73.2041466,44.4736955
END:VEVENT
BEGIN:VEVENT
DTSTART;TZID=America/New_York:20251031T000000
DTEND;TZID=America/New_York:20260309T235959
DTSTAMP:20260420T164557
CREATED:20251106T180300Z
LAST-MODIFIED:20251106T180303Z
UID:10015595-1761868800-1773100799@www.champlain.edu
SUMMARY:Use a Happy Light!
DESCRIPTION:Is the darkness this time of year getting you down? Use a happy light! Happy lights are now available across campus to help brighten your day—literally. \nWhat’s a Happy Light?\nA Happy light is a UV-free light therapy lamp that mimics sunlight. Consistent use can help combat Seasonal Affective Disorder (SAD)\, and improve mood\, sleep\, and energy. Instructions for safe use are included with all happy lights on campus. \nWhere Can I Find Them?\nHappy lights are located in IDX Fireside Lounge\, and on the third\, second\, and ground floors of MIC (Library). Looking to use it in your own space? Check out a light from the MIC circulation desk for 24 hours. \nQuestions About Happy Lights or Your Health?\nContact the Student Health Center with questions or to schedule an appointment. To get in touch\, please call (802) 860-2711\, email healthservices@champlain.edu\, or send a message on the Patient Portal.
URL:https://www.champlain.edu/event/use-a-happy-light/
LOCATION:Fireside Lounge\, IDX Student Life Center\, 262 S Willard St\, Burlington\, 05401
CATEGORIES:Dare to CARE: Wellbeing
ATTACH;FMTTYPE=image/jpeg:https://www.champlain.edu/app/uploads/2024/04/Winter-Campus-Sunset-Hero.jpg
GEO:44.4725946;-73.2044524
X-APPLE-STRUCTURED-LOCATION;VALUE=URI;X-ADDRESS=Fireside Lounge IDX Student Life Center 262 S Willard St Burlington 05401;X-APPLE-RADIUS=500;X-TITLE=262 S Willard St:geo:-73.2044524,44.4725946
END:VEVENT
BEGIN:VEVENT
DTSTART;TZID=America/New_York:20260224T100000
DTEND;TZID=America/New_York:20260224T170000
DTSTAMP:20260420T164557
CREATED:20260120T190632Z
LAST-MODIFIED:20260122T210638Z
UID:10016399-1771927200-1771952400@www.champlain.edu
SUMMARY:Spring 2026 Mock Interview Days (Day 2): VIRTUAL (CAREERtalk)
DESCRIPTION:Build your professional network and develop an essential skill by participating in our Spring 2026 Mock Interview Days. During a ONE-HOUR time block\, you’ll be paired with a volunteer guest facilitator who will conduct a mock interview and provide feedback. This is a safe opportunity to work with someone who is invested in helping you build confidence. We have a great group of volunteers including faculty\, staff\, alumni\, employers\, and industry leaders who will help you prepare for your job\, internship\, grad school\, or law school interview. \nMock Interviews will be conducted virtually on Zoom on this date. Your career coach will provide the Zoom link approximately five days in advance of your interview. \nTo register and select a one-hour time slot\, select EXTERNAL REGISTRATION in the top right corner on Handshake and then complete the custom Mock Interview Days registration form. \nTo complete the external registration form\, you will need your resume. There is also an option to specify the type of position you wish to use for the mock interview and upload the job or internship posting. \nRecommended for all years and majors. \nFulfills InSight Interviewing Prep milestone or CAREERtalk milestone.
URL:https://www.champlain.edu/event/spring-2026-mock-interview-days-day-2-virtual-careertalk/
CATEGORIES:Career & InSight
ATTACH;FMTTYPE=image/jpeg:https://www.champlain.edu/app/uploads/2025/01/mock-interviews-event.jpg
ORGANIZER;CN="Career Collaborative":MAILTO:careercollaborative@champlain.edu
END:VEVENT
BEGIN:VEVENT
DTSTART;TZID=America/New_York:20260224T140000
DTEND;TZID=America/New_York:20260224T163000
DTSTAMP:20260420T164557
CREATED:20250817T215443Z
LAST-MODIFIED:20251119T214140Z
UID:10013217-1771941600-1771950600@www.champlain.edu
SUMMARY:HOPE Works Advocate Drop-in Hours
DESCRIPTION:HOPE Works\, a Burlington-based confidential non-profit dedicated to ending all forms of sexual violence\, will host drop-in office hours where students can learn about their services and seek support with experiences of relationship abuse\, sexual violence\, and stalking\, as well as answer questions about Title IX. These drop-in hours will be held in the Student Health Center\, located on the ground floor of Whiting Hall on the Burlington campus. \nThis collaborative event is supported by the Division of Student Affairs\, the Title IX Office\, the Student Health Center\, the Counseling Center\, and Dare to CARE. \nHOPE Works advocates are a confidential resource open to our student community.
URL:https://www.champlain.edu/event/hope-works-advocate-drop-in-hours-2/2026-02-24/
LOCATION:Student Health Center\, Ground Level of Whiting Hall\, 203 S. Willard Street\, Burlington\, 05401\, United States
CATEGORIES:Dare to CARE: Wellbeing
ATTACH;FMTTYPE=image/jpeg:https://www.champlain.edu/app/uploads/2025/08/hope-works-support-yellow-flower-hands-stock-event.jpg
GEO:44.474592;-73.2057231
X-APPLE-STRUCTURED-LOCATION;VALUE=URI;X-ADDRESS=Student Health Center Ground Level of Whiting Hall 203 S. Willard Street Burlington 05401 United States;X-APPLE-RADIUS=500;X-TITLE=Ground Level of Whiting Hall\, 203 S. Willard Street:geo:-73.2057231,44.474592
END:VEVENT
BEGIN:VEVENT
DTSTART;TZID=America/New_York:20260224T180000
DTEND;TZID=America/New_York:20260224T190000
DTSTAMP:20260420T164557
CREATED:20251215T211007Z
LAST-MODIFIED:20251215T211924Z
UID:10015692-1771956000-1771959600@www.champlain.edu
SUMMARY:Transfer Tuesday Webinar February 24
DESCRIPTION:Transfer Tuesday is an opportunity for transfer students to learn more about the transfer student experience at Champlain. Gain insight on the application process\, student experience\, and all things Champlain! Hear from different members of the transfer community at Champlain to learn more about the process every step of the way.
URL:https://www.champlain.edu/event/transfer-tuesday-webinar-2026-2-24/
LOCATION:Webinar / Virtual\, United States
CATEGORIES:Admissions,Webinar
ATTACH;FMTTYPE=image/jpeg:https://www.champlain.edu/app/uploads/2024/06/home-student-laptop-couch.jpg
ORGANIZER;CN="Office of Admissions":MAILTO:admission@champlain.edu
END:VEVENT
BEGIN:VEVENT
DTSTART;TZID=America/New_York:20260224T180000
DTEND;TZID=America/New_York:20260224T220000
DTSTAMP:20260420T164557
CREATED:20251006T181322Z
LAST-MODIFIED:20251006T181325Z
UID:10013677-1771956000-1771970400@www.champlain.edu
SUMMARY:FGC Champs Locals
DESCRIPTION:Come play fighting games with our student community on Tuesdays 6-8 pm in Wick 102! We offer setups for Street Fighter 6\, Tekken 8\, Guilty Gear Strive\, and more! \nA little more about our club\, the purpose of FGC Champs is to build a community on campus with a shared love for fighting games. Whether you have just picked up the controller or played all your life\, everyone is welcome here!
URL:https://www.champlain.edu/event/fgc-champs-locals-2/2026-02-24/
LOCATION:Room 102\, Wick Hall\, 87 Summit St\, Burlington\, VT\, 05401\, United States
CATEGORIES:Student Activities
ATTACH;FMTTYPE=image/jpeg:https://www.champlain.edu/app/uploads/2025/08/The-View-Template-FGC-Champs.jpg
ORGANIZER;CN="Champlain Fighting Game Community":MAILTO:scooby.grimm@mymail.champlain.edu
GEO:44.4733787;-73.2036104
X-APPLE-STRUCTURED-LOCATION;VALUE=URI;X-ADDRESS=Room 102 Wick Hall 87 Summit St Burlington VT 05401 United States;X-APPLE-RADIUS=500;X-TITLE=87 Summit St:geo:-73.2036104,44.4733787
END:VEVENT
BEGIN:VEVENT
DTSTART;TZID=America/New_York:20260224T183000
DTEND;TZID=America/New_York:20260224T200000
DTSTAMP:20260420T164557
CREATED:20260206T034946Z
LAST-MODIFIED:20260206T170406Z
UID:10016889-1771957800-1771963200@www.champlain.edu
SUMMARY:Honoring Resilience: Black History in Vermont
DESCRIPTION:The evening program will feature the Green Mountain Gospel Choir performing “Lift Ev’ry Voice and Sing” and “Glory\,” presentations on notable Black Vermonters\, spoken-word performances\, and local musical guests. Open to all\, attendees will experience a powerful blend of music\, history\, and reflection that celebrates Vermont’s role in the ongoing struggle for justice and equality. The event will conclude with remarks from campus leadership\, reinforcing the institution’s commitment to honoring and preserving this vital history. \nMore information and a brief history: \nThis February marks an extraordinary convergence of American history: the 250th anniversary of the signing of the U.S. Constitution and the 100th anniversary of Black History Month observances. Vermont holds a unique place in both of these milestones. As the first state to abolish slavery in its 1777 constitution\, Vermont established itself as a leader in the fight for freedom and equality. This Black History Month celebration on Champlain’s campus honors that legacy while exploring the often-overlooked contributions of Black Vermonters who have shaped the state’s history and culture. \nDr. Carter G. Woodson\, who founded what would become Black History Month in 1926\, understood that commemorating Black history was essential to transforming how communities view themselves and their place in the world. His vision was captured by scholar Arthur A. Schomburg’s powerful statement: “The American Negro must remake his past in order to make his future.” A century later\, as we face contemporary challenges to inclusive education and historical accuracy\, Vermont’s early commitment to abolition and equality reminds us why these commemorations matter—not simply as contributions to mainstream narratives\, but for their profound resonance in the lives of Black people and the broader community.
URL:https://www.champlain.edu/event/honoring-resilience-black-history-vermont/
LOCATION:Alumni Auditorium\, Center for Communication & Creative Media (CCM)\, 375 Maple Street\, Burlington\, VT\, 05401\, United States
CATEGORIES:Art & Music,Cultural Programming,Student Activities
ATTACH;FMTTYPE=image/jpeg:https://www.champlain.edu/app/uploads/2026/02/black-history-bsu-event.jpg
GEO:44.4736955;-73.2041466
X-APPLE-STRUCTURED-LOCATION;VALUE=URI;X-ADDRESS=Alumni Auditorium Center for Communication & Creative Media (CCM) 375 Maple Street Burlington VT 05401 United States;X-APPLE-RADIUS=500;X-TITLE=375 Maple Street:geo:-73.2041466,44.4736955
END:VEVENT
BEGIN:VEVENT
DTSTART;TZID=America/New_York:20260224T203000
DTEND;TZID=America/New_York:20260224T223000
DTSTAMP:20260420T164557
CREATED:20260115T234823Z
LAST-MODIFIED:20260115T234825Z
UID:10015738-1771965000-1771972200@www.champlain.edu
SUMMARY:Soccer Intramurals
DESCRIPTION:Soccer is held on Tuesdays at 8:30 PM inside Argosy Gymnasium and is played in a drop-in format. See you there!
URL:https://www.champlain.edu/event/soccer-intramurals-3/2026-02-24/
LOCATION:Argosy Gym\, IDX Student Life Center\, 262 S Willard St\, Burlington\, VT\, United States
CATEGORIES:Fitness & Intramural Sports
ATTACH;FMTTYPE=image/jpeg:https://www.champlain.edu/app/uploads/2025/08/soccer-balls-field-stock-event.jpg
GEO:44.4725946;-73.2044524
X-APPLE-STRUCTURED-LOCATION;VALUE=URI;X-ADDRESS=Argosy Gym IDX Student Life Center 262 S Willard St Burlington VT United States;X-APPLE-RADIUS=500;X-TITLE=262 S Willard St:geo:-73.2044524,44.4725946
END:VEVENT
END:VCALENDAR