BEGIN:VCALENDAR
VERSION:2.0
PRODID:-//Champlain College - ECPv6.15.18//NONSGML v1.0//EN
CALSCALE:GREGORIAN
METHOD:PUBLISH
X-WR-CALNAME:Champlain College
X-ORIGINAL-URL:https://www.champlain.edu
X-WR-CALDESC:Events for Champlain College
REFRESH-INTERVAL;VALUE=DURATION:PT1H
X-Robots-Tag:noindex
X-PUBLISHED-TTL:PT1H
BEGIN:VTIMEZONE
TZID:America/New_York
BEGIN:DAYLIGHT
TZOFFSETFROM:-0500
TZOFFSETTO:-0400
TZNAME:EDT
DTSTART:20250309T070000
END:DAYLIGHT
BEGIN:STANDARD
TZOFFSETFROM:-0400
TZOFFSETTO:-0500
TZNAME:EST
DTSTART:20251102T060000
END:STANDARD
BEGIN:DAYLIGHT
TZOFFSETFROM:-0500
TZOFFSETTO:-0400
TZNAME:EDT
DTSTART:20260308T070000
END:DAYLIGHT
BEGIN:STANDARD
TZOFFSETFROM:-0400
TZOFFSETTO:-0500
TZNAME:EST
DTSTART:20261101T060000
END:STANDARD
BEGIN:DAYLIGHT
TZOFFSETFROM:-0500
TZOFFSETTO:-0400
TZNAME:EDT
DTSTART:20270314T070000
END:DAYLIGHT
BEGIN:STANDARD
TZOFFSETFROM:-0400
TZOFFSETTO:-0500
TZNAME:EST
DTSTART:20271107T060000
END:STANDARD
END:VTIMEZONE
BEGIN:VEVENT
DTSTART;TZID=America/New_York:20260325T160000
DTEND;TZID=America/New_York:20260325T180000
DTSTAMP:20260423T165228
CREATED:20260320T143237Z
LAST-MODIFIED:20260320T143517Z
UID:10016983-1774454400-1774461600@www.champlain.edu
SUMMARY:Giving Day Showdown
DESCRIPTION:Giving Day is one of the biggest days of the year for our community\, when students\, parents\, alumni\, faculty\, staff\, and friends come together to support the student experience. \nThis year\, you have the chance to make a difference for the areas of Champlain that matter most to you. \nA member of the Board of Trustees donated early for Giving Day\, and YOU get to decide where the money goes. These challenge funds can be sent to any area of Champlain College\, including a specific club\, program\, office\, initiative\, or scholarship. Ie: Esports\, ODI\, Champ 101\, Art Gallery\, Support-A-Student Scholarship\, Chauncey’s Cupboard\, Dance Team. \nWe are hosting a Giving Day Showdown from 5 – 6 PM\, where you can compete to win challenge funds. Contests include a whipped cream pie-eating contest\, an egg on a spoon race\, and a rock-paper-scissors tournament. \nContests are open to all current students\, faculty\, and staff. Sign up and make a difference this Giving Day! \nCan’t make the contests? Stop by the IDX Atrium from 4 – 5 PM and spin the wheel for a chance to win challenge funds\, prizes\, or bonus points for the Residence Hall Competition.
URL:https://www.champlain.edu/event/giving-day-showdown/
LOCATION:Atrium\, IDX Student Life Center\, 262 S Willard St\, Burlington\, VT\, 05401\, United States
CATEGORIES:Alumni & Family Networking,Student Activities
ATTACH;FMTTYPE=image/jpeg:https://www.champlain.edu/app/uploads/2024/12/outside_chauncey_celebrate-champbound-beaver.jpg
ORGANIZER;CN="Office of Advancement":MAILTO:rsvp@champlain.edu
GEO:44.4725946;-73.2044524
X-APPLE-STRUCTURED-LOCATION;VALUE=URI;X-ADDRESS=Atrium IDX Student Life Center 262 S Willard St Burlington VT 05401 United States;X-APPLE-RADIUS=500;X-TITLE=262 S Willard St:geo:-73.2044524,44.4725946
END:VEVENT
END:VCALENDAR