BEGIN:VCALENDAR
VERSION:2.0
PRODID:-//Champlain College - ECPv6.15.3//NONSGML v1.0//EN
CALSCALE:GREGORIAN
METHOD:PUBLISH
X-WR-CALNAME:Champlain College
X-ORIGINAL-URL:https://www.champlain.edu
X-WR-CALDESC:Events for Champlain College
REFRESH-INTERVAL;VALUE=DURATION:PT1H
X-Robots-Tag:noindex
X-PUBLISHED-TTL:PT1H
BEGIN:VTIMEZONE
TZID:America/New_York
BEGIN:DAYLIGHT
TZOFFSETFROM:-0500
TZOFFSETTO:-0400
TZNAME:EDT
DTSTART:20260308T070000
END:DAYLIGHT
BEGIN:STANDARD
TZOFFSETFROM:-0400
TZOFFSETTO:-0500
TZNAME:EST
DTSTART:20261101T060000
END:STANDARD
END:VTIMEZONE
BEGIN:VEVENT
DTSTART;TZID=America/New_York:20260408T170000
DTEND;TZID=America/New_York:20260408T190000
DTSTAMP:20260420T001040
CREATED:20260122T173130Z
LAST-MODIFIED:20260130T173433Z
UID:10016445-1775667600-1775674800@www.champlain.edu
SUMMARY:Zen Sketch
DESCRIPTION:Every Wednesday\, we meet at Ireland 217 from 5:00 pm to 7:00 pm to sketch! \nZen Sketch is a volunteer event hosted by the Animation Students and Felipe. The idea is to sketch using traditional methods. Every week we pick a theme and a challenge.The purpose is to share a moment together\, become more aware and focused\, and practice traditional sketching techniques with pencils\, colors\, or whatever you prefer. \nThis is not a drawing contest\, you’re not required to share anything. It’s more about stepping away from technology and enjoying a moment with good company and friends while sketching and having a good time. \nThis event is hosted by the Animation Program and open to the entire Champlain community. Students\, faculty\, and staff are all welcome to join us!
URL:https://www.champlain.edu/event/zen-sketch-2/2026-04-08/
LOCATION:Room 217\, SD Ireland Family Center\, 391 Maple St\, Burlington\, VT\, 05401\, United States
CATEGORIES:Academic,Art & Music
ATTACH;FMTTYPE=image/jpeg:https://www.champlain.edu/app/uploads/2026/01/zen-sketch-animation-event.jpg
GEO:44.4737342;-73.2036722
X-APPLE-STRUCTURED-LOCATION;VALUE=URI;X-ADDRESS=Room 217 SD Ireland Family Center 391 Maple St Burlington VT 05401 United States;X-APPLE-RADIUS=500;X-TITLE=391 Maple St:geo:-73.2036722,44.4737342
END:VEVENT
BEGIN:VEVENT
DTSTART;TZID=America/New_York:20260408T170000
DTEND;TZID=America/New_York:20260408T203000
DTSTAMP:20260420T001040
CREATED:20260326T025536Z
LAST-MODIFIED:20260326T164720Z
UID:10016986-1775667600-1775680200@www.champlain.edu
SUMMARY:1st Annual Champlain College Book Festival: Beavers Get Lit!
DESCRIPTION:Day one of Beavers Get Lit! \nWednesday\, April 8th\n\n5:00–5:45 PM: Mix and Mingle. Join authors and friends on the MIC 3rd floor patio/Vista Room for some convivial schmoozing with the best view in Burlington.\n6:00–6:05 PM: Convocation Poem. Jim Ellefson\, unofficial poet laureate of Leicester\, Vermont\, will kick things off with an ode to all things bookish.\n6:05–6:30 PM: Welcome Address. Erik Shonstrom will welcome attendees and offer some reminders about the amazing events over the course of the festival\, as well as a quick excerpt from a recent book.\n6:30–6:45 PM: Tanya Stone Reading. Drawing from a list of publications as long as her arm\, Tanya will be mesmerizing guests with a selection from some of her works. Prepare to be enchanted.\n6:45–7:15 PM: Student Reading. Get ready. Champlainers get hectic behind the mic with an offering of poems\, stories\, and wordplay unlike anything you’ve ever heard! Boomers be warned.\n7:15–7:45 PM: Sheila Liming Reading. Offering some excerpts of her work\, Sheila will delight\, intrigue\, and dazzle attendees with her insight and charm. Feel free to come ‘hang out’ with her! Pun intended.\n7:45–8:15 PM: Book Olympics Trivia with Prizes!
URL:https://www.champlain.edu/event/book-festival-beavers-get-lit/
LOCATION:Miller Information Commons (Library)\, 95 Summit Street\, Burlington\, VT\, 05401\, United States
CATEGORIES:Art & Music,Student Activities
ATTACH;FMTTYPE=image/jpeg:https://www.champlain.edu/app/uploads/2026/03/beavers-get-lit-library-event.jpg
GEO:44.4733084;-73.2028176
X-APPLE-STRUCTURED-LOCATION;VALUE=URI;X-ADDRESS=Miller Information Commons (Library) 95 Summit Street Burlington VT 05401 United States;X-APPLE-RADIUS=500;X-TITLE=95 Summit Street:geo:-73.2028176,44.4733084
END:VEVENT
BEGIN:VEVENT
DTSTART;TZID=America/New_York:20260408T180000
DTEND;TZID=America/New_York:20260408T191500
DTSTAMP:20260420T001040
CREATED:20260319T004927Z
LAST-MODIFIED:20260319T152317Z
UID:10016971-1775671200-1775675700@www.champlain.edu
SUMMARY:Virtual Graduate School Panel (CAREERtalk)
DESCRIPTION:Join us in-person or virtually for an insightful grad school panel\, where a diverse group of alumni will share their experiences\, advice\, and tips for navigating the grad school journey. Whether you’re considering grad school or in the midst of applying\, this panel will provide valuable perspectives on the process and experience. Don’t miss out on this chance to learn from those who have been through it! \nFacilitated by Career Peer Coach Kamira Peterson ’26. \nWe have reserved a classroom for students who would like the community viewing experience. \nFulfills the InSight CAREERtalk milestone.
URL:https://www.champlain.edu/event/virtual-graduate-school-panel-careertalk/
LOCATION:Room 424\, Center for Communication & Creative Media (CCM)\, 375 Maple Street\, Burlington\, VT\, 05401\, United States
CATEGORIES:Career & InSight,Student Activities
ATTACH;FMTTYPE=image/jpeg:https://www.champlain.edu/app/uploads/2024/10/home-student-laptop-virtual.jpg
ORGANIZER;CN="Career Collaborative":MAILTO:careercollaborative@champlain.edu
GEO:44.4736955;-73.2041466
X-APPLE-STRUCTURED-LOCATION;VALUE=URI;X-ADDRESS=Room 424 Center for Communication & Creative Media (CCM) 375 Maple Street Burlington VT 05401 United States;X-APPLE-RADIUS=500;X-TITLE=375 Maple Street:geo:-73.2041466,44.4736955
END:VEVENT
BEGIN:VEVENT
DTSTART;TZID=America/New_York:20260408T190000
DTEND;TZID=America/New_York:20260408T200000
DTSTAMP:20260420T001040
CREATED:20260115T235516Z
LAST-MODIFIED:20260115T235517Z
UID:10015784-1775674800-1775678400@www.champlain.edu
SUMMARY:Wednesday Yoga
DESCRIPTION:Join us for yoga every Wednesday from 7-8 PM in the Fitness Center Studio. This class aims to help you feel better in your body! Class will include vinyasa style flows (linking breath with movement)\, multiple variations for physical postures\, gentle breathwork\, and a sprinkling of yogic philosophy. All bodies and experience levels welcome! No experience necessary.
URL:https://www.champlain.edu/event/wednesday-yoga-3/2026-04-08/
LOCATION:Fitness Center Studio\, IDX Student Life Center\, 262 S Willard St\, Burlington
CATEGORIES:Fitness & Intramural Sports
ATTACH;FMTTYPE=image/jpeg:https://www.champlain.edu/app/uploads/2024/09/yoga-stock-fitness-exercise.jpg
GEO:44.4725946;-73.2044524
X-APPLE-STRUCTURED-LOCATION;VALUE=URI;X-ADDRESS=Fitness Center Studio IDX Student Life Center 262 S Willard St Burlington;X-APPLE-RADIUS=500;X-TITLE=262 S Willard St:geo:-73.2044524,44.4725946
END:VEVENT
BEGIN:VEVENT
DTSTART;TZID=America/New_York:20260408T193000
DTEND;TZID=America/New_York:20260408T213000
DTSTAMP:20260420T001040
CREATED:20260115T235102Z
LAST-MODIFIED:20260115T235104Z
UID:10015755-1775676600-1775683800@www.champlain.edu
SUMMARY:Intramural Basketball
DESCRIPTION:Join our Intramural Basketball games every Wednesday night starting as early as 7:30 PM. League schedule varies. To sign up\, use the registration link on the Intramural Sports page. Don’t have a team yet? You can sign up as a free agent. The first two weeks of classes are drop-in play and games begin the third week of classes. Reach out to Kyra Yu at kyu@champlain.edu if you have questions. See you on the court!
URL:https://www.champlain.edu/event/intramural-basketball-3/2026-04-08/
LOCATION:Argosy Gym\, IDX Student Life Center\, 262 S Willard St\, Burlington\, VT\, United States
CATEGORIES:Fitness & Intramural Sports
ATTACH;FMTTYPE=image/jpeg:https://www.champlain.edu/app/uploads/2025/08/basketball-stock-event.jpg
GEO:44.4725946;-73.2044524
X-APPLE-STRUCTURED-LOCATION;VALUE=URI;X-ADDRESS=Argosy Gym IDX Student Life Center 262 S Willard St Burlington VT United States;X-APPLE-RADIUS=500;X-TITLE=262 S Willard St:geo:-73.2044524,44.4725946
END:VEVENT
BEGIN:VEVENT
DTSTART;TZID=America/New_York:20260408T193000
DTEND;TZID=America/New_York:20260408T223000
DTSTAMP:20260420T001040
CREATED:20260116T004456Z
LAST-MODIFIED:20260116T004458Z
UID:10016315-1775676600-1775687400@www.champlain.edu
SUMMARY:Anime Club Meeting
DESCRIPTION:Get ready to immerse yourself in the colorful and exciting world of anime by joining the Anime Club! Dive into our weekly meetings filled with lively discussions and anime screenings chosen by YOU\, the students! Whether you’re a seasoned otaku or just dipping your toes into this vibrant culture\, there’s something for everyone. We meet on Wednesdays and Saturdays. \nTest your knowledge in trivia games\, unleash your inner artist learning how to draw characters\, and participate in discussions about upcoming and classic manga. And let’s not forget the legendary anime tier lists that spark endless debates and laughs! \nDon’t miss out on the fun—come join us and be part of an unforgettable anime adventure!
URL:https://www.champlain.edu/event/anime-club-meeting-3/2026-04-08/
LOCATION:Room 221\, Center for Communication & Creative Media (CCM)\, 375 Maple Street\, Burlington\, VT\, 05401\, United States
CATEGORIES:Student Activities
ATTACH;FMTTYPE=image/jpeg:https://www.champlain.edu/app/uploads/2026/01/anime-club-2400x1350-1.jpg
ORGANIZER;CN="Anime Club":MAILTO:animeclub@champlain.edu
GEO:44.4736955;-73.2041466
X-APPLE-STRUCTURED-LOCATION;VALUE=URI;X-ADDRESS=Room 221 Center for Communication & Creative Media (CCM) 375 Maple Street Burlington VT 05401 United States;X-APPLE-RADIUS=500;X-TITLE=375 Maple Street:geo:-73.2041466,44.4736955
END:VEVENT
BEGIN:VEVENT
DTSTART;TZID=America/New_York:20260408T203000
DTEND;TZID=America/New_York:20260408T223000
DTSTAMP:20260420T001040
CREATED:20251009T191917Z
LAST-MODIFIED:20251009T203137Z
UID:10015050-1775680200-1775687400@www.champlain.edu
SUMMARY:The Grind
DESCRIPTION:Come check out the Grind Open Mic Coffeehouse! Hosted by Student Engagement\, the Grind is a weekly show of talent for all students to participate. Whether you want to perform or spectate\, we’d love to see you. Our show begins at 8:30 pm\, but if you want to perform\, arrive to Fireside Lounge early to sign up! Time slots are limited are on a first come\, first serve basis. \nGrab some snacks\, coffee or tea\, and enjoy the talent Champlain has to offer! See you there!
URL:https://www.champlain.edu/event/the-grind/2026-04-08/
LOCATION:Fireside Lounge\, IDX Student Life Center\, 262 S Willard St\, Burlington\, 05401
CATEGORIES:Art & Music,Student Activities
ATTACH;FMTTYPE=image/jpeg:https://www.champlain.edu/app/uploads/2025/10/students-grind-music-fireside-lounge-idx.jpg
GEO:44.4725946;-73.2044524
X-APPLE-STRUCTURED-LOCATION;VALUE=URI;X-ADDRESS=Fireside Lounge IDX Student Life Center 262 S Willard St Burlington 05401;X-APPLE-RADIUS=500;X-TITLE=262 S Willard St:geo:-73.2044524,44.4725946
END:VEVENT
END:VCALENDAR