BEGIN:VCALENDAR
VERSION:2.0
PRODID:-//Champlain College - ECPv6.15.18//NONSGML v1.0//EN
CALSCALE:GREGORIAN
METHOD:PUBLISH
X-WR-CALNAME:Champlain College
X-ORIGINAL-URL:https://www.champlain.edu
X-WR-CALDESC:Events for Champlain College
REFRESH-INTERVAL;VALUE=DURATION:PT1H
X-Robots-Tag:noindex
X-PUBLISHED-TTL:PT1H
BEGIN:VTIMEZONE
TZID:America/New_York
BEGIN:DAYLIGHT
TZOFFSETFROM:-0500
TZOFFSETTO:-0400
TZNAME:EDT
DTSTART:20250309T070000
END:DAYLIGHT
BEGIN:STANDARD
TZOFFSETFROM:-0400
TZOFFSETTO:-0500
TZNAME:EST
DTSTART:20251102T060000
END:STANDARD
BEGIN:DAYLIGHT
TZOFFSETFROM:-0500
TZOFFSETTO:-0400
TZNAME:EDT
DTSTART:20260308T070000
END:DAYLIGHT
BEGIN:STANDARD
TZOFFSETFROM:-0400
TZOFFSETTO:-0500
TZNAME:EST
DTSTART:20261101T060000
END:STANDARD
BEGIN:DAYLIGHT
TZOFFSETFROM:-0500
TZOFFSETTO:-0400
TZNAME:EDT
DTSTART:20270314T070000
END:DAYLIGHT
BEGIN:STANDARD
TZOFFSETFROM:-0400
TZOFFSETTO:-0500
TZNAME:EST
DTSTART:20271107T060000
END:STANDARD
END:VTIMEZONE
BEGIN:VEVENT
DTSTART;TZID=America/New_York:20260422T120000
DTEND;TZID=America/New_York:20260422T140000
DTSTAMP:20260422T185852
CREATED:20260318T201240Z
LAST-MODIFIED:20260319T152643Z
UID:10016972-1776859200-1776866400@www.champlain.edu
SUMMARY:SSB & COM Program Capstone Poster Session (CAREERtalk)
DESCRIPTION:Join us for an inspiring afternoon as students from the Stiller School of Business and Communication Capstone courses showcase their senior projects. Explore innovative ideas and connect with students\, Capstone mentors\, college leadership\, faculty\, staff\, family members\, alumni\, employers\, and community partners. Enjoy light refreshments in the vibrant Hula co-working space overlooking beautiful Lake Champlain. \nArrive when you can and stay for as long as you are able. Ride the Champlain College shuttle to the Robert E. Miller Building at Lakeside Campus and walk the short distance from there to Hula. \nAttendance fulfills the InSight CAREERtalk milestone.
URL:https://www.champlain.edu/event/ssb-com-capstone-poster-session-careertalk/
LOCATION:Hula Innovation Campus\, Hula Lakeside\, 50 Lakeside Ave\, Burlington\, VT\, 05401\, United States
CATEGORIES:Academic,Career & InSight,Student Activities
ATTACH;FMTTYPE=image/jpeg:https://www.champlain.edu/app/uploads/2024/11/animated-characters-conversation-talk-bubbles.jpg
ORGANIZER;CN="Career Collaborative":MAILTO:careercollaborative@champlain.edu
GEO:44.4613468;-73.2201231
X-APPLE-STRUCTURED-LOCATION;VALUE=URI;X-ADDRESS=Hula Innovation Campus Hula Lakeside 50 Lakeside Ave Burlington VT 05401 United States;X-APPLE-RADIUS=500;X-TITLE=50 Lakeside Ave:geo:-73.2201231,44.4613468
END:VEVENT
BEGIN:VEVENT
DTSTART;TZID=America/New_York:20260422T170000
DTEND;TZID=America/New_York:20260422T190000
DTSTAMP:20260422T185852
CREATED:20260122T173130Z
LAST-MODIFIED:20260130T173433Z
UID:10016447-1776877200-1776884400@www.champlain.edu
SUMMARY:Zen Sketch
DESCRIPTION:Every Wednesday\, we meet at Ireland 217 from 5:00 pm to 7:00 pm to sketch! \nZen Sketch is a volunteer event hosted by the Animation Students and Felipe. The idea is to sketch using traditional methods. Every week we pick a theme and a challenge.The purpose is to share a moment together\, become more aware and focused\, and practice traditional sketching techniques with pencils\, colors\, or whatever you prefer. \nThis is not a drawing contest\, you’re not required to share anything. It’s more about stepping away from technology and enjoying a moment with good company and friends while sketching and having a good time. \nThis event is hosted by the Animation Program and open to the entire Champlain community. Students\, faculty\, and staff are all welcome to join us!
URL:https://www.champlain.edu/event/zen-sketch-2/2026-04-22/
LOCATION:Room 217\, SD Ireland Family Center\, 391 Maple St\, Burlington\, VT\, 05401\, United States
CATEGORIES:Academic,Art & Music
ATTACH;FMTTYPE=image/jpeg:https://www.champlain.edu/app/uploads/2026/01/zen-sketch-animation-event.jpg
GEO:44.4737342;-73.2036722
X-APPLE-STRUCTURED-LOCATION;VALUE=URI;X-ADDRESS=Room 217 SD Ireland Family Center 391 Maple St Burlington VT 05401 United States;X-APPLE-RADIUS=500;X-TITLE=391 Maple St:geo:-73.2036722,44.4737342
END:VEVENT
BEGIN:VEVENT
DTSTART;TZID=America/New_York:20260422T170000
DTEND;TZID=America/New_York:20260422T200000
DTSTAMP:20260422T185852
CREATED:20260416T153823Z
LAST-MODIFIED:20260416T153845Z
UID:10017272-1776877200-1776888000@www.champlain.edu
SUMMARY:Magic the Gathering Club
DESCRIPTION:The Magic The Gathering Club brings together students who share an interest in the game. We aim to welcome new players\, host competitions for casual players\, and create a fun\, social space. With so many MTG fans at Champlain College\, it’s a great way to meet others and make new friends. Swing by and play a friendly game of magic every Wednesday!
URL:https://www.champlain.edu/event/magic-the-gathering-club-2/
LOCATION:Room 442\, Center for Communication & Creative Media\, 375 Maple Street\, Burlington\, 05401\, United States
CATEGORIES:Student Activities
ATTACH;FMTTYPE=image/jpeg:https://www.champlain.edu/app/uploads/2023/08/MTG-Club.jpg
GEO:44.4736955;-73.2041466
X-APPLE-STRUCTURED-LOCATION;VALUE=URI;X-ADDRESS=Room 442 Center for Communication & Creative Media 375 Maple Street Burlington 05401 United States;X-APPLE-RADIUS=500;X-TITLE=375 Maple Street:geo:-73.2041466,44.4736955
END:VEVENT
BEGIN:VEVENT
DTSTART;TZID=America/New_York:20260422T190000
DTEND;TZID=America/New_York:20260422T200000
DTSTAMP:20260422T185852
CREATED:20260115T235516Z
LAST-MODIFIED:20260115T235517Z
UID:10015786-1776884400-1776888000@www.champlain.edu
SUMMARY:Wednesday Yoga
DESCRIPTION:Join us for yoga every Wednesday from 7-8 PM in the Fitness Center Studio. This class aims to help you feel better in your body! Class will include vinyasa style flows (linking breath with movement)\, multiple variations for physical postures\, gentle breathwork\, and a sprinkling of yogic philosophy. All bodies and experience levels welcome! No experience necessary.
URL:https://www.champlain.edu/event/wednesday-yoga-3/2026-04-22/
LOCATION:Fitness Center Studio\, IDX Student Life Center\, 262 S Willard St\, Burlington
CATEGORIES:Fitness & Intramural Sports
ATTACH;FMTTYPE=image/jpeg:https://www.champlain.edu/app/uploads/2024/09/yoga-stock-fitness-exercise.jpg
GEO:44.4725946;-73.2044524
X-APPLE-STRUCTURED-LOCATION;VALUE=URI;X-ADDRESS=Fitness Center Studio IDX Student Life Center 262 S Willard St Burlington;X-APPLE-RADIUS=500;X-TITLE=262 S Willard St:geo:-73.2044524,44.4725946
END:VEVENT
BEGIN:VEVENT
DTSTART;TZID=America/New_York:20260422T193000
DTEND;TZID=America/New_York:20260422T213000
DTSTAMP:20260422T185852
CREATED:20260115T235102Z
LAST-MODIFIED:20260115T235104Z
UID:10015757-1776886200-1776893400@www.champlain.edu
SUMMARY:Intramural Basketball
DESCRIPTION:Join our Intramural Basketball games every Wednesday night starting as early as 7:30 PM. League schedule varies. To sign up\, use the registration link on the Intramural Sports page. Don’t have a team yet? You can sign up as a free agent. The first two weeks of classes are drop-in play and games begin the third week of classes. Reach out to Kyra Yu at kyu@champlain.edu if you have questions. See you on the court!
URL:https://www.champlain.edu/event/intramural-basketball-3/2026-04-22/
LOCATION:Argosy Gym\, IDX Student Life Center\, 262 S Willard St\, Burlington\, VT\, United States
CATEGORIES:Fitness & Intramural Sports
ATTACH;FMTTYPE=image/jpeg:https://www.champlain.edu/app/uploads/2025/08/basketball-stock-event.jpg
GEO:44.4725946;-73.2044524
X-APPLE-STRUCTURED-LOCATION;VALUE=URI;X-ADDRESS=Argosy Gym IDX Student Life Center 262 S Willard St Burlington VT United States;X-APPLE-RADIUS=500;X-TITLE=262 S Willard St:geo:-73.2044524,44.4725946
END:VEVENT
BEGIN:VEVENT
DTSTART;TZID=America/New_York:20260422T193000
DTEND;TZID=America/New_York:20260422T213000
DTSTAMP:20260422T185852
CREATED:20260402T193332Z
LAST-MODIFIED:20260402T200444Z
UID:10017541-1776886200-1776893400@www.champlain.edu
SUMMARY:Intramural Playoffs & Giveaway
DESCRIPTION:Swipe in for volleyball and basketball playoffs and automatically get entered into the Ultimate Fan Basket Giveaway! There will be one giveaway for basketball\, and one for volleyball. Come to the semi-finals and Championships to earn your extra entry. \nPlayoff Schedule:Basketball: Semi Finals 4/15\, Finals 4/22 @7:30 PM (Wednesdays @ 7:30 PM & 8:15 PM)Volleyball: Semi Finals 4/16\, Finals 4/23 @ 8:00 PM (Thursdays @ 6:30 PM & 7:15 PM)
URL:https://www.champlain.edu/event/intramural-playoffs-fan-giveaway/2026-04-22/
LOCATION:Argosy Gym\, IDX Student Life Center\, 262 S Willard St\, Burlington\, VT\, United States
CATEGORIES:Fitness & Intramural Sports,Student Activities
ATTACH;FMTTYPE=image/jpeg:https://www.champlain.edu/app/uploads/2023/08/gym_volleyball_students-celebrating.jpg
GEO:44.4725946;-73.2044524
X-APPLE-STRUCTURED-LOCATION;VALUE=URI;X-ADDRESS=Argosy Gym IDX Student Life Center 262 S Willard St Burlington VT United States;X-APPLE-RADIUS=500;X-TITLE=262 S Willard St:geo:-73.2044524,44.4725946
END:VEVENT
BEGIN:VEVENT
DTSTART;TZID=America/New_York:20260422T193000
DTEND;TZID=America/New_York:20260422T223000
DTSTAMP:20260422T185852
CREATED:20260116T004456Z
LAST-MODIFIED:20260116T004458Z
UID:10016317-1776886200-1776897000@www.champlain.edu
SUMMARY:Anime Club Meeting
DESCRIPTION:Get ready to immerse yourself in the colorful and exciting world of anime by joining the Anime Club! Dive into our weekly meetings filled with lively discussions and anime screenings chosen by YOU\, the students! Whether you’re a seasoned otaku or just dipping your toes into this vibrant culture\, there’s something for everyone. We meet on Wednesdays and Saturdays. \nTest your knowledge in trivia games\, unleash your inner artist learning how to draw characters\, and participate in discussions about upcoming and classic manga. And let’s not forget the legendary anime tier lists that spark endless debates and laughs! \nDon’t miss out on the fun—come join us and be part of an unforgettable anime adventure!
URL:https://www.champlain.edu/event/anime-club-meeting-3/2026-04-22/
LOCATION:Room 221\, Center for Communication & Creative Media (CCM)\, 375 Maple Street\, Burlington\, VT\, 05401\, United States
CATEGORIES:Student Activities
ATTACH;FMTTYPE=image/jpeg:https://www.champlain.edu/app/uploads/2026/01/anime-club-2400x1350-1.jpg
ORGANIZER;CN="Anime Club":MAILTO:animeclub@champlain.edu
GEO:44.4736955;-73.2041466
X-APPLE-STRUCTURED-LOCATION;VALUE=URI;X-ADDRESS=Room 221 Center for Communication & Creative Media (CCM) 375 Maple Street Burlington VT 05401 United States;X-APPLE-RADIUS=500;X-TITLE=375 Maple Street:geo:-73.2041466,44.4736955
END:VEVENT
BEGIN:VEVENT
DTSTART;TZID=America/New_York:20260422T203000
DTEND;TZID=America/New_York:20260422T223000
DTSTAMP:20260422T185852
CREATED:20251009T191917Z
LAST-MODIFIED:20251009T203137Z
UID:10015052-1776889800-1776897000@www.champlain.edu
SUMMARY:The Grind
DESCRIPTION:Come check out the Grind Open Mic Coffeehouse! Hosted by Student Engagement\, the Grind is a weekly show of talent for all students to participate. Whether you want to perform or spectate\, we’d love to see you. Our show begins at 8:30 pm\, but if you want to perform\, arrive to Fireside Lounge early to sign up! Time slots are limited are on a first come\, first serve basis. \nGrab some snacks\, coffee or tea\, and enjoy the talent Champlain has to offer! See you there!
URL:https://www.champlain.edu/event/the-grind/2026-04-22/
LOCATION:Fireside Lounge\, IDX Student Life Center\, 262 S Willard St\, Burlington\, 05401
CATEGORIES:Art & Music,Student Activities
ATTACH;FMTTYPE=image/jpeg:https://www.champlain.edu/app/uploads/2025/10/students-grind-music-fireside-lounge-idx.jpg
GEO:44.4725946;-73.2044524
X-APPLE-STRUCTURED-LOCATION;VALUE=URI;X-ADDRESS=Fireside Lounge IDX Student Life Center 262 S Willard St Burlington 05401;X-APPLE-RADIUS=500;X-TITLE=262 S Willard St:geo:-73.2044524,44.4725946
END:VEVENT
END:VCALENDAR