BEGIN:VCALENDAR
VERSION:2.0
PRODID:-//Champlain College - ECPv6.15.3//NONSGML v1.0//EN
CALSCALE:GREGORIAN
METHOD:PUBLISH
X-WR-CALNAME:Champlain College
X-ORIGINAL-URL:https://www.champlain.edu
X-WR-CALDESC:Events for Champlain College
REFRESH-INTERVAL;VALUE=DURATION:PT1H
X-Robots-Tag:noindex
X-PUBLISHED-TTL:PT1H
BEGIN:VTIMEZONE
TZID:America/New_York
BEGIN:DAYLIGHT
TZOFFSETFROM:-0500
TZOFFSETTO:-0400
TZNAME:EDT
DTSTART:20260308T070000
END:DAYLIGHT
BEGIN:STANDARD
TZOFFSETFROM:-0400
TZOFFSETTO:-0500
TZNAME:EST
DTSTART:20261101T060000
END:STANDARD
END:VTIMEZONE
BEGIN:VEVENT
DTSTART;TZID=America/New_York:20260429T170000
DTEND;TZID=America/New_York:20260429T190000
DTSTAMP:20260420T173506
CREATED:20260122T173130Z
LAST-MODIFIED:20260130T173433Z
UID:10016448-1777482000-1777489200@www.champlain.edu
SUMMARY:Zen Sketch
DESCRIPTION:Every Wednesday\, we meet at Ireland 217 from 5:00 pm to 7:00 pm to sketch! \nZen Sketch is a volunteer event hosted by the Animation Students and Felipe. The idea is to sketch using traditional methods. Every week we pick a theme and a challenge.The purpose is to share a moment together\, become more aware and focused\, and practice traditional sketching techniques with pencils\, colors\, or whatever you prefer. \nThis is not a drawing contest\, you’re not required to share anything. It’s more about stepping away from technology and enjoying a moment with good company and friends while sketching and having a good time. \nThis event is hosted by the Animation Program and open to the entire Champlain community. Students\, faculty\, and staff are all welcome to join us!
URL:https://www.champlain.edu/event/zen-sketch-2/2026-04-29/
LOCATION:Room 217\, SD Ireland Family Center\, 391 Maple St\, Burlington\, VT\, 05401\, United States
CATEGORIES:Academic,Art & Music
ATTACH;FMTTYPE=image/jpeg:https://www.champlain.edu/app/uploads/2026/01/zen-sketch-animation-event.jpg
GEO:44.4737342;-73.2036722
X-APPLE-STRUCTURED-LOCATION;VALUE=URI;X-ADDRESS=Room 217 SD Ireland Family Center 391 Maple St Burlington VT 05401 United States;X-APPLE-RADIUS=500;X-TITLE=391 Maple St:geo:-73.2036722,44.4737342
END:VEVENT
BEGIN:VEVENT
DTSTART;TZID=America/New_York:20260429T170000
DTEND;TZID=America/New_York:20260429T200000
DTSTAMP:20260420T173506
CREATED:20260416T153332Z
LAST-MODIFIED:20260416T153519Z
UID:10017562-1777482000-1777492800@www.champlain.edu
SUMMARY:Magic the Gathering Club
DESCRIPTION:The Magic The Gathering Club brings together students who share an interest in the game. We aim to welcome new players\, host competitions for casual players\, and create a fun\, social space. With so many MTG fans at Champlain College\, it’s a great way to meet others and make new friends. Swing by and play a friendly game of magic every Wednesday!
URL:https://www.champlain.edu/event/magic-the-gathering-club/2026-04-29/
LOCATION:Room 442\, Center for Communication & Creative Media\, 375 Maple Street\, Burlington\, 05401\, United States
CATEGORIES:Student Activities
ATTACH;FMTTYPE=image/jpeg:https://www.champlain.edu/app/uploads/2023/08/MTG-Club.jpg
GEO:44.4736955;-73.2041466
X-APPLE-STRUCTURED-LOCATION;VALUE=URI;X-ADDRESS=Room 442 Center for Communication & Creative Media 375 Maple Street Burlington 05401 United States;X-APPLE-RADIUS=500;X-TITLE=375 Maple Street:geo:-73.2041466,44.4736955
END:VEVENT
BEGIN:VEVENT
DTSTART;TZID=America/New_York:20260429T190000
DTEND;TZID=America/New_York:20260429T200000
DTSTAMP:20260420T173506
CREATED:20260115T235516Z
LAST-MODIFIED:20260115T235517Z
UID:10015787-1777489200-1777492800@www.champlain.edu
SUMMARY:Wednesday Yoga
DESCRIPTION:Join us for yoga every Wednesday from 7-8 PM in the Fitness Center Studio. This class aims to help you feel better in your body! Class will include vinyasa style flows (linking breath with movement)\, multiple variations for physical postures\, gentle breathwork\, and a sprinkling of yogic philosophy. All bodies and experience levels welcome! No experience necessary.
URL:https://www.champlain.edu/event/wednesday-yoga-3/2026-04-29/
LOCATION:Fitness Center Studio\, IDX Student Life Center\, 262 S Willard St\, Burlington
CATEGORIES:Fitness & Intramural Sports
ATTACH;FMTTYPE=image/jpeg:https://www.champlain.edu/app/uploads/2024/09/yoga-stock-fitness-exercise.jpg
GEO:44.4725946;-73.2044524
X-APPLE-STRUCTURED-LOCATION;VALUE=URI;X-ADDRESS=Fitness Center Studio IDX Student Life Center 262 S Willard St Burlington;X-APPLE-RADIUS=500;X-TITLE=262 S Willard St:geo:-73.2044524,44.4725946
END:VEVENT
BEGIN:VEVENT
DTSTART;TZID=America/New_York:20260429T203000
DTEND;TZID=America/New_York:20260429T223000
DTSTAMP:20260420T173506
CREATED:20251009T191917Z
LAST-MODIFIED:20251009T203137Z
UID:10015053-1777494600-1777501800@www.champlain.edu
SUMMARY:The Grind
DESCRIPTION:Come check out the Grind Open Mic Coffeehouse! Hosted by Student Engagement\, the Grind is a weekly show of talent for all students to participate. Whether you want to perform or spectate\, we’d love to see you. Our show begins at 8:30 pm\, but if you want to perform\, arrive to Fireside Lounge early to sign up! Time slots are limited are on a first come\, first serve basis. \nGrab some snacks\, coffee or tea\, and enjoy the talent Champlain has to offer! See you there!
URL:https://www.champlain.edu/event/the-grind/2026-04-29/
LOCATION:Fireside Lounge\, IDX Student Life Center\, 262 S Willard St\, Burlington\, 05401
CATEGORIES:Art & Music,Student Activities
ATTACH;FMTTYPE=image/jpeg:https://www.champlain.edu/app/uploads/2025/10/students-grind-music-fireside-lounge-idx.jpg
GEO:44.4725946;-73.2044524
X-APPLE-STRUCTURED-LOCATION;VALUE=URI;X-ADDRESS=Fireside Lounge IDX Student Life Center 262 S Willard St Burlington 05401;X-APPLE-RADIUS=500;X-TITLE=262 S Willard St:geo:-73.2044524,44.4725946
END:VEVENT
END:VCALENDAR