BEGIN:VCALENDAR
VERSION:2.0
PRODID:-//Champlain College - ECPv6.15.18//NONSGML v1.0//EN
CALSCALE:GREGORIAN
METHOD:PUBLISH
X-WR-CALNAME:Champlain College
X-ORIGINAL-URL:https://www.champlain.edu
X-WR-CALDESC:Events for Champlain College
REFRESH-INTERVAL;VALUE=DURATION:PT1H
X-Robots-Tag:noindex
X-PUBLISHED-TTL:PT1H
BEGIN:VTIMEZONE
TZID:America/New_York
BEGIN:DAYLIGHT
TZOFFSETFROM:-0500
TZOFFSETTO:-0400
TZNAME:EDT
DTSTART:20240310T070000
END:DAYLIGHT
BEGIN:STANDARD
TZOFFSETFROM:-0400
TZOFFSETTO:-0500
TZNAME:EST
DTSTART:20241103T060000
END:STANDARD
BEGIN:DAYLIGHT
TZOFFSETFROM:-0500
TZOFFSETTO:-0400
TZNAME:EDT
DTSTART:20250309T070000
END:DAYLIGHT
BEGIN:STANDARD
TZOFFSETFROM:-0400
TZOFFSETTO:-0500
TZNAME:EST
DTSTART:20251102T060000
END:STANDARD
BEGIN:DAYLIGHT
TZOFFSETFROM:-0500
TZOFFSETTO:-0400
TZNAME:EDT
DTSTART:20260308T070000
END:DAYLIGHT
BEGIN:STANDARD
TZOFFSETFROM:-0400
TZOFFSETTO:-0500
TZNAME:EST
DTSTART:20261101T060000
END:STANDARD
END:VTIMEZONE
BEGIN:VEVENT
DTSTART;TZID=America/New_York:20250206T180000
DTEND;TZID=America/New_York:20250206T203000
DTSTAMP:20260425T070802
CREATED:20250121T204855Z
LAST-MODIFIED:20251217T204948Z
UID:10007374-1738864800-1738873800@www.champlain.edu
SUMMARY:Burton Winter Jam at Champlain College
DESCRIPTION:Burton and Anon present Winter Jam 2025\, hosted at Champlain College in partnership with Champlain’s Ski & Ride Club! Come join us! Students and community members will have the chance to sign up to compete in the ski or snowboard categories (sign up below) and win up to $10K in cash prizes. Everyone else\, come and witness the fun! We’ll have food trucks on site\, free giveaways\, and more.\n\nThere will be two age brackets: 14-17 and open. It’s free to enter and open to the public. Helmets required.\n\nAre you a student who wants to compete? Click here to register.\n\nNot a student but want to compete? Click here to register.\n\nTimeline of events:\n\n 	4:30-5:45 PM: All Riders Registration/All Rider Practice\n 	6:00-6:45 PM: Skiers Only 14-17 & Open Skiers \n 	7:00-7:45 PM: Snowboarders Only 14-17 & Open Snowboarders\n 	8:00-8:30 PM: Judges & Riders Awards
URL:https://www.champlain.edu/event/burton-winter-jam-at-champlain-college/
LOCATION:Finney Quad\, Champlain College\, Burlington\, VT\, 05401\, United States
CATEGORIES:Fitness & Intramural Sports,Student Activities
ATTACH;FMTTYPE=image/jpeg:https://www.champlain.edu/app/uploads/2025/01/rail-jam-ski-snowboard-finney-quad.jpg
GEO:44.4731165;-73.2041352
X-APPLE-STRUCTURED-LOCATION;VALUE=URI;X-ADDRESS=Finney Quad Champlain College Burlington VT 05401 United States;X-APPLE-RADIUS=500;X-TITLE=Champlain College:geo:-73.2041352,44.4731165
END:VEVENT
END:VCALENDAR