BEGIN:VCALENDAR
VERSION:2.0
PRODID:-//Champlain College - ECPv6.15.18//NONSGML v1.0//EN
CALSCALE:GREGORIAN
METHOD:PUBLISH
X-WR-CALNAME:Champlain College
X-ORIGINAL-URL:https://www.champlain.edu
X-WR-CALDESC:Events for Champlain College
REFRESH-INTERVAL;VALUE=DURATION:PT1H
X-Robots-Tag:noindex
X-PUBLISHED-TTL:PT1H
BEGIN:VTIMEZONE
TZID:America/New_York
BEGIN:DAYLIGHT
TZOFFSETFROM:-0500
TZOFFSETTO:-0400
TZNAME:EDT
DTSTART:20240310T070000
END:DAYLIGHT
BEGIN:STANDARD
TZOFFSETFROM:-0400
TZOFFSETTO:-0500
TZNAME:EST
DTSTART:20241103T060000
END:STANDARD
BEGIN:DAYLIGHT
TZOFFSETFROM:-0500
TZOFFSETTO:-0400
TZNAME:EDT
DTSTART:20250309T070000
END:DAYLIGHT
BEGIN:STANDARD
TZOFFSETFROM:-0400
TZOFFSETTO:-0500
TZNAME:EST
DTSTART:20251102T060000
END:STANDARD
BEGIN:DAYLIGHT
TZOFFSETFROM:-0500
TZOFFSETTO:-0400
TZNAME:EDT
DTSTART:20260308T070000
END:DAYLIGHT
BEGIN:STANDARD
TZOFFSETFROM:-0400
TZOFFSETTO:-0500
TZNAME:EST
DTSTART:20261101T060000
END:STANDARD
END:VTIMEZONE
BEGIN:VEVENT
DTSTART;TZID=America/New_York:20251105T203000
DTEND;TZID=America/New_York:20251105T223000
DTSTAMP:20260424T005259
CREATED:20251009T191917Z
LAST-MODIFIED:20251009T203137Z
UID:10015028-1762374600-1762381800@www.champlain.edu
SUMMARY:The Grind
DESCRIPTION:Come check out the Grind Open Mic Coffeehouse! Hosted by Student Engagement\, the Grind is a weekly show of talent for all students to participate. Whether you want to perform or spectate\, we’d love to see you. Our show begins at 8:30 pm\, but if you want to perform\, arrive to Fireside Lounge early to sign up! Time slots are limited are on a first come\, first serve basis. \nGrab some snacks\, coffee or tea\, and enjoy the talent Champlain has to offer! See you there!
URL:https://www.champlain.edu/event/the-grind/2025-11-05/
LOCATION:Fireside Lounge\, IDX Student Life Center\, 262 S Willard St\, Burlington\, 05401
CATEGORIES:Art & Music,Student Activities
ATTACH;FMTTYPE=image/jpeg:https://www.champlain.edu/app/uploads/2025/10/students-grind-music-fireside-lounge-idx.jpg
GEO:44.4725946;-73.2044524
X-APPLE-STRUCTURED-LOCATION;VALUE=URI;X-ADDRESS=Fireside Lounge IDX Student Life Center 262 S Willard St Burlington 05401;X-APPLE-RADIUS=500;X-TITLE=262 S Willard St:geo:-73.2044524,44.4725946
END:VEVENT
BEGIN:VEVENT
DTSTART;TZID=America/New_York:20251112T203000
DTEND;TZID=America/New_York:20251112T223000
DTSTAMP:20260424T005259
CREATED:20251009T191917Z
LAST-MODIFIED:20251009T203137Z
UID:10015029-1762979400-1762986600@www.champlain.edu
SUMMARY:The Grind
DESCRIPTION:Come check out the Grind Open Mic Coffeehouse! Hosted by Student Engagement\, the Grind is a weekly show of talent for all students to participate. Whether you want to perform or spectate\, we’d love to see you. Our show begins at 8:30 pm\, but if you want to perform\, arrive to Fireside Lounge early to sign up! Time slots are limited are on a first come\, first serve basis. \nGrab some snacks\, coffee or tea\, and enjoy the talent Champlain has to offer! See you there!
URL:https://www.champlain.edu/event/the-grind/2025-11-12/
LOCATION:Fireside Lounge\, IDX Student Life Center\, 262 S Willard St\, Burlington\, 05401
CATEGORIES:Art & Music,Student Activities
ATTACH;FMTTYPE=image/jpeg:https://www.champlain.edu/app/uploads/2025/10/students-grind-music-fireside-lounge-idx.jpg
GEO:44.4725946;-73.2044524
X-APPLE-STRUCTURED-LOCATION;VALUE=URI;X-ADDRESS=Fireside Lounge IDX Student Life Center 262 S Willard St Burlington 05401;X-APPLE-RADIUS=500;X-TITLE=262 S Willard St:geo:-73.2044524,44.4725946
END:VEVENT
BEGIN:VEVENT
DTSTART;TZID=America/New_York:20251113T100000
DTEND;TZID=America/New_York:20251113T170000
DTSTAMP:20260424T005259
CREATED:20251001T155848Z
LAST-MODIFIED:20251001T155851Z
UID:10014939-1763028000-1763053200@www.champlain.edu
SUMMARY:Fall 2025 Mock Interview Days (Day 3) - In Person (CAREERtalk)
DESCRIPTION:Build your professional network and develop an essential skill by participating in our Fall 2025 Mock Interview Days. During a ONE-HOUR time block\, you’ll be paired with a volunteer guest facilitator who will conduct a mock interview and provide feedback. This is a safe opportunity to work with someone who is invested in helping you build confidence. We have a great group of volunteers including faculty\, staff\, alumni\, employers\, and industry leaders who will help you prepare for your job\, internship\, grad school\, or law school interview. \nNovember 13 mock Interviews will be conducted in person at the Career Collaborative Office\, Garden House in Finney Quad. \nTo register and select a one-hour time slot\, click here. \nTo complete the registration form\, you will need your resume. There is also an option to specify the type of position you wish to use for the mock interview and upload the job or internship posting. \nRecommended for all years and majors. \nFulfills InSight Interviewing Prep milestone or CAREERtalk milestone.
URL:https://www.champlain.edu/event/fall-2025-mock-interview-days-day-3-in-person-careertalk/
LOCATION:Career Collaborative Office\, Garden House\, 328 Maple St\, Burlington\, VT\, 05401\, United States
CATEGORIES:Career & InSight
ATTACH;FMTTYPE=image/jpeg:https://www.champlain.edu/app/uploads/2025/09/mock-interview-event-stock.jpg
ORGANIZER;CN="Career Collaborative":MAILTO:careercollaborative@champlain.edu
GEO:44.4749127;-73.2062055
X-APPLE-STRUCTURED-LOCATION;VALUE=URI;X-ADDRESS=Career Collaborative Office Garden House 328 Maple St Burlington VT 05401 United States;X-APPLE-RADIUS=500;X-TITLE=328 Maple St:geo:-73.2062055,44.4749127
END:VEVENT
BEGIN:VEVENT
DTSTART;TZID=America/New_York:20251119T203000
DTEND;TZID=America/New_York:20251119T223000
DTSTAMP:20260424T005259
CREATED:20251009T191917Z
LAST-MODIFIED:20251009T203137Z
UID:10015030-1763584200-1763591400@www.champlain.edu
SUMMARY:The Grind
DESCRIPTION:Come check out the Grind Open Mic Coffeehouse! Hosted by Student Engagement\, the Grind is a weekly show of talent for all students to participate. Whether you want to perform or spectate\, we’d love to see you. Our show begins at 8:30 pm\, but if you want to perform\, arrive to Fireside Lounge early to sign up! Time slots are limited are on a first come\, first serve basis. \nGrab some snacks\, coffee or tea\, and enjoy the talent Champlain has to offer! See you there!
URL:https://www.champlain.edu/event/the-grind/2025-11-19/
LOCATION:Fireside Lounge\, IDX Student Life Center\, 262 S Willard St\, Burlington\, 05401
CATEGORIES:Art & Music,Student Activities
ATTACH;FMTTYPE=image/jpeg:https://www.champlain.edu/app/uploads/2025/10/students-grind-music-fireside-lounge-idx.jpg
GEO:44.4725946;-73.2044524
X-APPLE-STRUCTURED-LOCATION;VALUE=URI;X-ADDRESS=Fireside Lounge IDX Student Life Center 262 S Willard St Burlington 05401;X-APPLE-RADIUS=500;X-TITLE=262 S Willard St:geo:-73.2044524,44.4725946
END:VEVENT
END:VCALENDAR