BEGIN:VCALENDAR
VERSION:2.0
PRODID:-//Champlain College - ECPv6.15.3//NONSGML v1.0//EN
CALSCALE:GREGORIAN
METHOD:PUBLISH
X-WR-CALNAME:Champlain College
X-ORIGINAL-URL:https://www.champlain.edu
X-WR-CALDESC:Events for Champlain College
REFRESH-INTERVAL;VALUE=DURATION:PT1H
X-Robots-Tag:noindex
X-PUBLISHED-TTL:PT1H
BEGIN:VTIMEZONE
TZID:America/New_York
BEGIN:DAYLIGHT
TZOFFSETFROM:-0500
TZOFFSETTO:-0400
TZNAME:EDT
DTSTART:20250309T070000
END:DAYLIGHT
BEGIN:STANDARD
TZOFFSETFROM:-0400
TZOFFSETTO:-0500
TZNAME:EST
DTSTART:20251102T060000
END:STANDARD
BEGIN:DAYLIGHT
TZOFFSETFROM:-0500
TZOFFSETTO:-0400
TZNAME:EDT
DTSTART:20260308T070000
END:DAYLIGHT
BEGIN:STANDARD
TZOFFSETFROM:-0400
TZOFFSETTO:-0500
TZNAME:EST
DTSTART:20261101T060000
END:STANDARD
END:VTIMEZONE
BEGIN:VEVENT
DTSTART;TZID=America/New_York:20251105T160000
DTEND;TZID=America/New_York:20251105T171500
DTSTAMP:20260419T202640
CREATED:20250912T121406Z
LAST-MODIFIED:20250912T121408Z
UID:10014575-1762358400-1762362900@www.champlain.edu
SUMMARY:WGC CHATS with Jordan Gechtman
DESCRIPTION:All students\, staff\, and faculty are welcome to join us for WGC CHATS- a series where we interview folks with marginalized identities about their interesting career journeys. This is an excellent opportunity to learn from professionals in their field and ask them questions about how to excel in your own career. \nJordan Gechtman (she/her) is the Assistant General Manager and Marketing Manager at Higher Ground\, a local independent music venue. After receiving her Bachelor degree in Public Relations\, Advertising\, and Applied Communication\, she’s worked everything from retail & web management at a local ski shop\, account management\, and website strategy. Come hear about her career journey and ask her questions about the industry!
URL:https://www.champlain.edu/event/wgc-chats-with-jordan-gechtman/
LOCATION:Women’s & Gender Center\, Skiff Hall Annex\, 163 S Willard St\, Burlington\, VT\, 05401\, United States
CATEGORIES:Art & Music,Career & InSight,Student Activities
ATTACH;FMTTYPE=image/png:https://www.champlain.edu/app/uploads/2025/09/The-View-Template-5.png
GEO:44.4755768;-73.2057021
X-APPLE-STRUCTURED-LOCATION;VALUE=URI;X-ADDRESS=Women’s & Gender Center Skiff Hall Annex 163 S Willard St Burlington VT 05401 United States;X-APPLE-RADIUS=500;X-TITLE=163 S Willard St:geo:-73.2057021,44.4755768
END:VEVENT
BEGIN:VEVENT
DTSTART;TZID=America/New_York:20251106T100000
DTEND;TZID=America/New_York:20260116T233000
DTSTAMP:20260419T202640
CREATED:20251112T150701Z
LAST-MODIFIED:20251112T150701Z
UID:10015627-1762423200-1768606200@www.champlain.edu
SUMMARY:19th Annual Elevator Pitch Competition: Registration is open!
DESCRIPTION:An elevator pitch is a brief\, persuasive speech that you use to spark interest in a project\, business idea\, favorite organization – or in yourself. A good elevator pitch should last no longer than a short elevator ride\, hence the name. At Champlain\, we’ve made it a competition. Students compete for cash prizes and bragging rights. Plus…participation in the E-Pitch looks great on a résumé and is a skill you’ll use over and over again. \nThe competition is open to all years and majors. Come up with your 90-second pitch message in one of these categories: \n• Job/Internship Seeker• Advocate• Entrepreneur (Business or Game) \nA volunteer coach can help you develop and polish your pitch. You can also attend an interactive Pitch Prep workshop to build confidence in delivering your message. \nYou must complete the official application form. \nThe deadline to register is January 16\, 2026. \nPrizes in each category:1st Place: $500 | 2nd Place: $300 | 3rd Place: $100 | Fan Favorite: $50 Gift Card \nParticipation fulfills InSight CAREERtalk milestone for first-years and juniors and InSight Self-pitch milestone for seniors. \n***This posting is only for prompting registration! These dates are not the actual date of the competitions\, and therefore have no location other than the registration link!
URL:https://www.champlain.edu/event/19th-annual-elevator-pitch-competition-registration-is-open/
CATEGORIES:Career & InSight
ATTACH;FMTTYPE=image/jpeg:https://www.champlain.edu/app/uploads/2024/04/230407-Elevator-Pitch-Competition.jpg
ORGANIZER;CN="Career Collaborative":MAILTO:careercollaborative@champlain.edu
END:VEVENT
BEGIN:VEVENT
DTSTART;TZID=America/New_York:20251106T173000
DTEND;TZID=America/New_York:20251106T183000
DTSTAMP:20260419T202640
CREATED:20251106T183318Z
LAST-MODIFIED:20251106T183320Z
UID:10015614-1762450200-1762453800@www.champlain.edu
SUMMARY:Graeme Davis on TTRPGS and Narrative Design (CAREERtalk)
DESCRIPTION:Join us virtually or at our viewing party for a talk by award-winning speaker Graeme Davis\, who’s done narrative design for everything from Warhammer to Total War… and some 40+ other titles! He’ll cover tabletop RPGs\, writing for games\, tell us some industry war stories\, and even share some tips and tricks.
URL:https://www.champlain.edu/event/graeme-davis-on-ttrpgs-and-narrative-design-careertalk/
LOCATION:Presentation Room\, Perry Hall\, 251 S Willard St\, Burlington\, VT\, 05401\, United States
CATEGORIES:Academic,Career & InSight
ATTACH;FMTTYPE=image/jpeg:https://www.champlain.edu/app/uploads/2024/09/microphone-mic-speak-stock.jpg
ORGANIZER;CN="Career Collaborative":MAILTO:careercollaborative@champlain.edu
GEO:44.4730996;-73.2058608
X-APPLE-STRUCTURED-LOCATION;VALUE=URI;X-ADDRESS=Presentation Room Perry Hall 251 S Willard St Burlington VT 05401 United States;X-APPLE-RADIUS=500;X-TITLE=251 S Willard St:geo:-73.2058608,44.4730996
END:VEVENT
BEGIN:VEVENT
DTSTART;TZID=America/New_York:20251107T180000
DTEND;TZID=America/New_York:20251109T123000
DTSTAMP:20260419T202640
CREATED:20251030T155014Z
LAST-MODIFIED:20251030T155016Z
UID:10015584-1762538400-1762691400@www.champlain.edu
SUMMARY:ChampJam & Hackathon
DESCRIPTION:Please complete the registration form in order to participate in the first annual ChampJam & Hackathon. \nChampJam’s mission is to challenge and inspire game makers of all skill levels to creatively solve problems through games. Over a 24 hour period\, student teams will be tasked to create a game or project inspired by the prompt given at the start of the event. Volunteer mentors will be present during jamming hours to help you if you get stuck. The goal is fun and learning\, so don’t take things too seriously :] \nStudents will be expected to bring their own laptops. Power bricks and extension cords will be provided. Hackathon students\, or other students with low computing loads\, are invited to use the Leahy Center computer lab. Meals will be provided Saturday and Sunday! \nChampJam & Hackathon Schedule \nFriday Nov 76:00 pm: Arrive & Check-in at Lakeside7:00 pm: Theme Announced; Jamming Begins9:00 pm: Lakeside Closes for the Night \nSaturday Nov 89:00 am: Lakeside Reopens9:00 pm: Jamming Ends \nSunday Nov 99:00 am: Lakeside Opens for Showcase9:30 am: Judging Begins12:00 pm: Winners Announced
URL:https://www.champlain.edu/event/champjam-hackathon/
LOCATION:Miller Center\, Lakeside Campus\, 175 Lakeside Ave\, Burlington\, VT\, 05401\, United States
CATEGORIES:Career & InSight
ATTACH;FMTTYPE=image/jpeg:https://www.champlain.edu/app/uploads/2025/08/game-on-sign-event-stock.jpg
ORGANIZER;CN="Career Collaborative":MAILTO:careercollaborative@champlain.edu
GEO:44.4609746;-73.2159685
X-APPLE-STRUCTURED-LOCATION;VALUE=URI;X-ADDRESS=Miller Center Lakeside Campus 175 Lakeside Ave Burlington VT 05401 United States;X-APPLE-RADIUS=500;X-TITLE=175 Lakeside Ave:geo:-73.2159685,44.4609746
END:VEVENT
BEGIN:VEVENT
DTSTART;TZID=America/New_York:20251110T100000
DTEND;TZID=America/New_York:20251110T170000
DTSTAMP:20260419T202640
CREATED:20251001T155950Z
LAST-MODIFIED:20251001T155952Z
UID:10014940-1762768800-1762794000@www.champlain.edu
SUMMARY:Fall 2025 Mock Interview Days (Day 1) - VIRTUAL (CAREERtalk)
DESCRIPTION:Build your professional network and develop an essential skill by participating in our Fall 2025 Mock Interview Days. During a ONE-HOUR time block\, you’ll be paired with a volunteer guest facilitator who will conduct a mock interview and provide feedback. This is a safe opportunity to work with someone who is invested in helping you build confidence. We have a great group of volunteers including faculty\, staff\, alumni\, employers\, and industry leaders who will help you prepare for your job\, internship\, grad school\, or law school interview. \nMock Interviews will be conducted virtually on Zoom on this date. Your career coach will provide the Zoom link approximately five days in advance of your interview. \nTo register and select a one-hour time slot\, click here. \nTo complete the registration form\, you will need your resume. There is also an option to specify the type of position you wish to use for the mock interview and upload the job or internship posting. \nRecommended for all years and majors. \nFulfills InSight Interviewing Prep milestone or CAREERtalk milestone.
URL:https://www.champlain.edu/event/fall-2025-mock-interview-days-day-1-virtual-careertalk/
LOCATION:Career Collaborative Office\, Garden House\, 328 Maple St\, Burlington\, VT\, 05401\, United States
CATEGORIES:Career & InSight
ATTACH;FMTTYPE=image/jpeg:https://www.champlain.edu/app/uploads/2025/09/mock-interview-event-stock.jpg
ORGANIZER;CN="Career Collaborative":MAILTO:careercollaborative@champlain.edu
GEO:44.4749127;-73.2062055
X-APPLE-STRUCTURED-LOCATION;VALUE=URI;X-ADDRESS=Career Collaborative Office Garden House 328 Maple St Burlington VT 05401 United States;X-APPLE-RADIUS=500;X-TITLE=328 Maple St:geo:-73.2062055,44.4749127
END:VEVENT
BEGIN:VEVENT
DTSTART;TZID=America/New_York:20251111T100000
DTEND;TZID=America/New_York:20251111T170000
DTSTAMP:20260419T202640
CREATED:20251001T160039Z
LAST-MODIFIED:20251001T160043Z
UID:10014941-1762855200-1762880400@www.champlain.edu
SUMMARY:Fall 2025 Mock Interview Days (Day 2) - VIRTUAL (CAREERtalk)
DESCRIPTION:Build your professional network and develop an essential skill by participating in our Fall 2025 Mock Interview Days. During a ONE-HOUR time block\, you’ll be paired with a volunteer guest facilitator who will conduct a mock interview and provide feedback. This is a safe opportunity to work with someone who is invested in helping you build confidence. We have a great group of volunteers including faculty\, staff\, alumni\, employers\, and industry leaders who will help you prepare for your job\, internship\, grad school\, or law school interview. \nMock Interviews will be conducted virtually on Zoom on this date. Your career coach will provide the Zoom link approximately five days in advance of your interview. \nTo register and select a one-hour time slot\, click here. \nTo complete the external registration form\, you will need your resume. There is also an option to specify the type of position you wish to use for the mock interview and upload the job or internship posting. \nRecommended for all years and majors. \nFulfills InSight Interviewing Prep milestone or CAREERtalk milestone.
URL:https://www.champlain.edu/event/fall-2025-mock-interview-days-day-2-virtual-careertalk/
LOCATION:Career Collaborative Office\, Garden House\, 328 Maple St\, Burlington\, VT\, 05401\, United States
CATEGORIES:Career & InSight
ATTACH;FMTTYPE=image/jpeg:https://www.champlain.edu/app/uploads/2025/09/mock-interview-event-stock.jpg
ORGANIZER;CN="Career Collaborative":MAILTO:careercollaborative@champlain.edu
GEO:44.4749127;-73.2062055
X-APPLE-STRUCTURED-LOCATION;VALUE=URI;X-ADDRESS=Career Collaborative Office Garden House 328 Maple St Burlington VT 05401 United States;X-APPLE-RADIUS=500;X-TITLE=328 Maple St:geo:-73.2062055,44.4749127
END:VEVENT
BEGIN:VEVENT
DTSTART;TZID=America/New_York:20251112T113000
DTEND;TZID=America/New_York:20251112T130000
DTSTAMP:20260419T202640
CREATED:20251106T180756Z
LAST-MODIFIED:20251106T180758Z
UID:10015598-1762947000-1762952400@www.champlain.edu
SUMMARY:Tabling: Champlain's Hula Partnership
DESCRIPTION:Did you know Champlain has a partnership with Hula\, an entrepreneurial Hub and business co-working community beautifully located on the shores of Lake Champlain (and within a few minutes’ walk of the Miller Center on Lakeside Avenue)? Come learn how you can find your next internship\, summer job\, capstone host\, mentor & more at Hula! Champlain’s Hula Liaison\, Angela Koukoulas will be tabling\, answering questions\, and handing out candy on Wednesday\, November 12th.
URL:https://www.champlain.edu/event/tabling-champlains-hula-partnership/
LOCATION:Atrium\, IDX Student Life Center\, 262 S Willard St\, Burlington\, VT\, 05401\, United States
CATEGORIES:Career & InSight
ATTACH;FMTTYPE=image/jpeg:https://www.champlain.edu/app/uploads/2024/10/hula-lakeside-building.jpg
ORGANIZER;CN="Career Collaborative":MAILTO:careercollaborative@champlain.edu
GEO:44.4725946;-73.2044524
X-APPLE-STRUCTURED-LOCATION;VALUE=URI;X-ADDRESS=Atrium IDX Student Life Center 262 S Willard St Burlington VT 05401 United States;X-APPLE-RADIUS=500;X-TITLE=262 S Willard St:geo:-73.2044524,44.4725946
END:VEVENT
BEGIN:VEVENT
DTSTART;TZID=America/New_York:20251113T100000
DTEND;TZID=America/New_York:20251113T170000
DTSTAMP:20260419T202640
CREATED:20251001T155848Z
LAST-MODIFIED:20251001T155851Z
UID:10014939-1763028000-1763053200@www.champlain.edu
SUMMARY:Fall 2025 Mock Interview Days (Day 3) - In Person (CAREERtalk)
DESCRIPTION:Build your professional network and develop an essential skill by participating in our Fall 2025 Mock Interview Days. During a ONE-HOUR time block\, you’ll be paired with a volunteer guest facilitator who will conduct a mock interview and provide feedback. This is a safe opportunity to work with someone who is invested in helping you build confidence. We have a great group of volunteers including faculty\, staff\, alumni\, employers\, and industry leaders who will help you prepare for your job\, internship\, grad school\, or law school interview. \nNovember 13 mock Interviews will be conducted in person at the Career Collaborative Office\, Garden House in Finney Quad. \nTo register and select a one-hour time slot\, click here. \nTo complete the registration form\, you will need your resume. There is also an option to specify the type of position you wish to use for the mock interview and upload the job or internship posting. \nRecommended for all years and majors. \nFulfills InSight Interviewing Prep milestone or CAREERtalk milestone.
URL:https://www.champlain.edu/event/fall-2025-mock-interview-days-day-3-in-person-careertalk/
LOCATION:Career Collaborative Office\, Garden House\, 328 Maple St\, Burlington\, VT\, 05401\, United States
CATEGORIES:Career & InSight
ATTACH;FMTTYPE=image/jpeg:https://www.champlain.edu/app/uploads/2025/09/mock-interview-event-stock.jpg
ORGANIZER;CN="Career Collaborative":MAILTO:careercollaborative@champlain.edu
GEO:44.4749127;-73.2062055
X-APPLE-STRUCTURED-LOCATION;VALUE=URI;X-ADDRESS=Career Collaborative Office Garden House 328 Maple St Burlington VT 05401 United States;X-APPLE-RADIUS=500;X-TITLE=328 Maple St:geo:-73.2062055,44.4749127
END:VEVENT
BEGIN:VEVENT
DTSTART;TZID=America/New_York:20251113T160000
DTEND;TZID=America/New_York:20251113T170000
DTSTAMP:20260419T202641
CREATED:20251024T010026Z
LAST-MODIFIED:20251024T010028Z
UID:10015565-1763049600-1763053200@www.champlain.edu
SUMMARY:Working Abroad (CAREERtalk)
DESCRIPTION:Henry Foley ’24 is a Tech Artist working in Dublin\, Ireland at Black Shamrock and Zoë Campos ’25 is a Game Designer who is returning to Japan to join the company she interned at while participating in the Freeman Program. \nCome to this virtual event to hear about their journeys including how they learned about international opportunities\, went through the visa and work permit application process\, and all the intricacies that follow. Working abroad is a challenging but rewarding opportunity\, and it may not be as out of reach as it seems! \nGoogle Meet Link.
URL:https://www.champlain.edu/event/working-abroad-careertalk/
CATEGORIES:Career & InSight
ATTACH;FMTTYPE=image/jpeg:https://www.champlain.edu/app/uploads/2025/01/travel-stock-abroad-world-map-camera.jpg
ORGANIZER;CN="Career Collaborative":MAILTO:careercollaborative@champlain.edu
END:VEVENT
BEGIN:VEVENT
DTSTART;TZID=America/New_York:20251114T120000
DTEND;TZID=America/New_York:20251114T130000
DTSTAMP:20260419T202641
CREATED:20251024T010247Z
LAST-MODIFIED:20251024T010248Z
UID:10015566-1763121600-1763125200@www.champlain.edu
SUMMARY:Alumni Virtual Office Hours with a Career Coach: Game Studio
DESCRIPTION:An allotted time for alumni to drop in\, connect with others in their industry\, tackle career challenges\, and work on professional development materials. Each session will be dedicated to a specific industry and hosted by a Career Coach from Champlain’s Career Collaborative. The November session is hosted by Connor Holtkamp\, Career Coach for the Game Studio. \nWhether you have a question about your portfolio\, are looking to meet other alumni in your industry\, or simply could use a dedicated time to get the work done (we love a good body doubling moment)\, these office hours are here to support your professional development and career journey. \nStop by or stay for the hour!
URL:https://www.champlain.edu/event/alumni-virtual-office-hours-with-a-career-coach-game-studio/
LOCATION:Webinar / Virtual\, United States
CATEGORIES:Alumni & Family Networking,Career & InSight
ATTACH;FMTTYPE=image/jpeg:https://www.champlain.edu/app/uploads/2025/10/The-View-Event-Covers-4.jpg
ORGANIZER;CN="Office of Alumni Relations":MAILTO:alumni@champlain.edu
END:VEVENT
BEGIN:VEVENT
DTSTART;TZID=America/New_York:20251114T160000
DTEND;TZID=America/New_York:20251114T170000
DTSTAMP:20260419T202641
CREATED:20251030T155517Z
LAST-MODIFIED:20251030T155524Z
UID:10015588-1763136000-1763139600@www.champlain.edu
SUMMARY:School of Visual Arts NYC Graduate Programs Info Session (CAREERtalk)
DESCRIPTION:Creative students! Ever considered graduate school? Come hear from SVA’s Graduate Programs Director\, Terrence Masson\, about the amazing graduate opportunities at SVA NYC! Ask questions and learn more about graduate school for creatives. \nSnacks provided. \n**Counts as a CAREERtalk milestone.
URL:https://www.champlain.edu/event/school-of-visual-arts-nyc-graduate-programs-info-session-careertalk/
LOCATION:Room 442\, Center for Communication & Creative Media\, 375 Maple Street\, Burlington\, 05401\, United States
CATEGORIES:Career & InSight
ATTACH;FMTTYPE=image/jpeg:https://www.champlain.edu/app/uploads/2024/02/commencement_graduate_2023-thumbs-up-smiling.jpg
ORGANIZER;CN="Career Collaborative":MAILTO:careercollaborative@champlain.edu
GEO:44.4736955;-73.2041466
X-APPLE-STRUCTURED-LOCATION;VALUE=URI;X-ADDRESS=Room 442 Center for Communication & Creative Media 375 Maple Street Burlington 05401 United States;X-APPLE-RADIUS=500;X-TITLE=375 Maple Street:geo:-73.2041466,44.4736955
END:VEVENT
BEGIN:VEVENT
DTSTART;TZID=America/New_York:20251116T090000
DTEND;TZID=America/New_York:20251116T160000
DTSTAMP:20260419T202641
CREATED:20251106T185427Z
LAST-MODIFIED:20251106T185429Z
UID:10015621-1763283600-1763308800@www.champlain.edu
SUMMARY:BETA Technologies Career Day
DESCRIPTION:Session One: 9:00-11:00 AM\nSession Two: 11:30 AM-1:30 PM\nSession Three: 2:00-4:00 PM \nExplore exciting career opportunities and meet industry professionals at BETA\, an electric aerospace company. Each session will include a Keynote Talk from BETA leadership. Register for ONE session. Registration closes at 11:30 PM on Monday\, November 10. Once registered\, you’ll get a QR code which is your ticket for entry. Bring this along with a valid photo ID to the event. You must get to this event on your own. \n***Event Location: BETA Technologies\, 154 Davinci Drive\, South Burlington\, VT 05403
URL:https://www.champlain.edu/event/beta-technologies-career-day/
CATEGORIES:Career & InSight
ATTACH;FMTTYPE=image/jpeg:https://www.champlain.edu/app/uploads/2025/10/campus_students_career-fair.jpg
ORGANIZER;CN="Career Collaborative":MAILTO:careercollaborative@champlain.edu
END:VEVENT
BEGIN:VEVENT
DTSTART;TZID=America/New_York:20251119T153000
DTEND;TZID=America/New_York:20251119T180000
DTSTAMP:20260419T202641
CREATED:20251030T155921Z
LAST-MODIFIED:20251030T155923Z
UID:10015591-1763566200-1763575200@www.champlain.edu
SUMMARY:Work Your Way: A Part-time & Seasonal Job Fair Series (CAREERtalk)
DESCRIPTION:Join us across the state for the Work Your Way Part-Time & Seasonal Job Fair Series! From 3:30 pm to 6:00 pm\, you can meet employers who are hiring for jobs that fit every age and stage of life. What are you waiting for? Polish your resume and come out! This event is completely free. Sponsored by the Vermont Department of Labor. If you have questions\, call your local American Job Center. \nLocations: \n\n5 Perry Street\, #200\, Barre\, Vermont 05641\n63 Pearl Street\, Burlington\, Vermont 05401\n88 Merchants Row\, Rutland\, Vermont 05701\n56 Main Street\, Suite 101\, Springfield\, Vermont 05156\n1197 Main Street\, Suite 1\, St. Johnsbury\, Vermont 05819\n\nAccessibility: If you need special accommodations to attend this event\, contact labor.communications@vermont.gov by 11/12/25. Requests received after that date cannot be guaranteed\, but every effort will be made to provide the accommodation requested \nThis qualifies as a CAREERtalk and CAREERfair insight milestone.
URL:https://www.champlain.edu/event/work-your-way-a-part-time-seasonal-job-fair-series-careertalk/
CATEGORIES:Career & InSight
ATTACH;FMTTYPE=image/jpeg:https://www.champlain.edu/app/uploads/2025/10/campus_student_career-fair.jpg
ORGANIZER;CN="Career Collaborative":MAILTO:careercollaborative@champlain.edu
END:VEVENT
BEGIN:VEVENT
DTSTART;TZID=America/New_York:20251120T120000
DTEND;TZID=America/New_York:20251120T133000
DTSTAMP:20260419T202641
CREATED:20251106T181413Z
LAST-MODIFIED:20251106T181415Z
UID:10015600-1763640000-1763645400@www.champlain.edu
SUMMARY:Kelley Marketing Group November Meeting on Zoom (CAREERtalk)
DESCRIPTION:Champlain College students and faculty convene with area marketing professionals to share their knowledge\, experience\, and ideas on a pro-bono basis with a different Vermont nonprofit client each month. This month’s client is the Vermont Childrens Alliance. You’ll gain some wonderful industry contacts and build relevant experience for your resume. Students will receive the client’s completed questionnaire a few days in advance of the meeting to have time to formulate ideas. Join virtually on Zoom.  \nTopic: Kelley Marketing Group November 2025 Meeting\nTime: Nov 20\, 2025 12:00 PM Eastern Time (US and Canada)\nJoin Zoom Meeting https://champlainonline.zoom.us/j/98572589487?pwd=gTrVYM7N8vNHGuxqS5jiavgio1UHMo.1   \nMeeting ID: 985 7258 9487\nPasscode: kmg  \nAbout Kelley Marketing Group: For over 40 years\, Kelley Marketing Group has met monthly to provide pro-bono marketing advice to nonprofit organizations so they may thrive and improve our community. The “consultants” who gather include just-starting-out and seasoned marketing professionals\, as well as faculty\, staff\, students\, and alumni of Champlain College and other area colleges melding the community with academia. The nonprofit client completes a questionnaire outlining the marketing topic about which they are seeking advice. Consultants get access to the questionnaire in advance of the meeting to get their creative juices flowing in anticipation of sharing out during the 90-minute session. Consultants can attend just an occasional meeting or join in the conversation every month. This is a great opportunity to network\, build experience\, and pay it forward.  \nFulfills InSight CAREERtalk milestone.
URL:https://www.champlain.edu/event/kelley-marketing-group-november-meeting-on-zoom-careertalk/
CATEGORIES:Career & InSight
ATTACH;FMTTYPE=image/jpeg:https://www.champlain.edu/app/uploads/2024/06/home_student_laptop.jpg
ORGANIZER;CN="Career Collaborative":MAILTO:careercollaborative@champlain.edu
END:VEVENT
BEGIN:VEVENT
DTSTART;TZID=America/New_York:20251120T120000
DTEND;TZID=America/New_York:20251120T140000
DTSTAMP:20260419T202641
CREATED:20251117T201009Z
LAST-MODIFIED:20251117T201011Z
UID:10015650-1763640000-1763647200@www.champlain.edu
SUMMARY:UPS is Hiring! Tabling Event in IDX
DESCRIPTION:Whether you’re interested in building a lifelong career with us or need a great short-term gig that pays well and could lead to more\, you can find exactly what you’re looking for with United Parcel Service. We are actively hiring for seasonal support drivers\, driver helpers\, and package handlers during the busy holiday season. Hourly positions range from $21 to $28 per hour plus milesge as a starting wage. We’d love to have you join us for a few weeks — or a whole career!
URL:https://www.champlain.edu/event/ups-is-hiring-tabling-event-in-idx/
LOCATION:Atrium\, IDX Student Life Center\, 262 S Willard St\, Burlington\, VT\, 05401\, United States
CATEGORIES:Career & InSight
ATTACH;FMTTYPE=image/jpeg:https://www.champlain.edu/app/uploads/2023/08/campus_mailboxes_student-center-care-packages-mail.jpg
ORGANIZER;CN="Career Collaborative":MAILTO:careercollaborative@champlain.edu
GEO:44.4725946;-73.2044524
X-APPLE-STRUCTURED-LOCATION;VALUE=URI;X-ADDRESS=Atrium IDX Student Life Center 262 S Willard St Burlington VT 05401 United States;X-APPLE-RADIUS=500;X-TITLE=262 S Willard St:geo:-73.2044524,44.4725946
END:VEVENT
END:VCALENDAR