BEGIN:VCALENDAR
VERSION:2.0
PRODID:-//Champlain College - ECPv6.15.3//NONSGML v1.0//EN
CALSCALE:GREGORIAN
METHOD:PUBLISH
X-WR-CALNAME:Champlain College
X-ORIGINAL-URL:https://www.champlain.edu
X-WR-CALDESC:Events for Champlain College
REFRESH-INTERVAL;VALUE=DURATION:PT1H
X-Robots-Tag:noindex
X-PUBLISHED-TTL:PT1H
BEGIN:VTIMEZONE
TZID:America/New_York
BEGIN:DAYLIGHT
TZOFFSETFROM:-0500
TZOFFSETTO:-0400
TZNAME:EDT
DTSTART:20260308T070000
END:DAYLIGHT
BEGIN:STANDARD
TZOFFSETFROM:-0400
TZOFFSETTO:-0500
TZNAME:EST
DTSTART:20261101T060000
END:STANDARD
END:VTIMEZONE
BEGIN:VEVENT
DTSTART;TZID=America/New_York:20260114T203000
DTEND;TZID=America/New_York:20260114T223000
DTSTAMP:20260421T051903
CREATED:20251009T191917Z
LAST-MODIFIED:20251009T203137Z
UID:10015038-1768422600-1768429800@www.champlain.edu
SUMMARY:The Grind
DESCRIPTION:Come check out the Grind Open Mic Coffeehouse! Hosted by Student Engagement\, the Grind is a weekly show of talent for all students to participate. Whether you want to perform or spectate\, we’d love to see you. Our show begins at 8:30 pm\, but if you want to perform\, arrive to Fireside Lounge early to sign up! Time slots are limited are on a first come\, first serve basis. \nGrab some snacks\, coffee or tea\, and enjoy the talent Champlain has to offer! See you there!
URL:https://www.champlain.edu/event/the-grind/2026-01-14/
LOCATION:Fireside Lounge\, IDX Student Life Center\, 262 S Willard St\, Burlington\, 05401
CATEGORIES:Art & Music,Student Activities
ATTACH;FMTTYPE=image/jpeg:https://www.champlain.edu/app/uploads/2025/10/students-grind-music-fireside-lounge-idx.jpg
GEO:44.4725946;-73.2044524
X-APPLE-STRUCTURED-LOCATION;VALUE=URI;X-ADDRESS=Fireside Lounge IDX Student Life Center 262 S Willard St Burlington 05401;X-APPLE-RADIUS=500;X-TITLE=262 S Willard St:geo:-73.2044524,44.4725946
END:VEVENT
BEGIN:VEVENT
DTSTART;TZID=America/New_York:20260120T180000
DTEND;TZID=America/New_York:20260120T190000
DTSTAMP:20260421T051903
CREATED:20251114T172259Z
LAST-MODIFIED:20251117T221630Z
UID:10015642-1768932000-1768935600@www.champlain.edu
SUMMARY:Virtual Open House '26
DESCRIPTION:Your front-row seat to everything Champlain College. \nGetting to know Champlain College doesn’t get easier than this. Virtual Open House is your opportunity to: \n\nGet answers to your most pressing questions from current students.\nGet a sense of what it’s like to live and learn on our beautiful hilltop campus.\nGet advice from our Admission team on the college search and application process.\nLearn about Burlington\, Vermont\, and what makes it one of the coolest small cities in the U.S.\nExperience our creative\, ambitious\, and tightly knit community\, along with its endless student life activities and clubs\, for yourself.
URL:https://www.champlain.edu/event/virtual-open-house-01-26/
LOCATION:Webinar / Virtual\, United States
CATEGORIES:Admissions
ATTACH;FMTTYPE=image/jpeg:https://www.champlain.edu/app/uploads/2024/10/home-student-laptop-virtual.jpg
ORGANIZER;CN="Office of Admissions":MAILTO:admission@champlain.edu
END:VEVENT
BEGIN:VEVENT
DTSTART;TZID=America/New_York:20260121T203000
DTEND;TZID=America/New_York:20260121T223000
DTSTAMP:20260421T051903
CREATED:20251009T191917Z
LAST-MODIFIED:20251009T203137Z
UID:10015039-1769027400-1769034600@www.champlain.edu
SUMMARY:The Grind
DESCRIPTION:Come check out the Grind Open Mic Coffeehouse! Hosted by Student Engagement\, the Grind is a weekly show of talent for all students to participate. Whether you want to perform or spectate\, we’d love to see you. Our show begins at 8:30 pm\, but if you want to perform\, arrive to Fireside Lounge early to sign up! Time slots are limited are on a first come\, first serve basis. \nGrab some snacks\, coffee or tea\, and enjoy the talent Champlain has to offer! See you there!
URL:https://www.champlain.edu/event/the-grind/2026-01-21/
LOCATION:Fireside Lounge\, IDX Student Life Center\, 262 S Willard St\, Burlington\, 05401
CATEGORIES:Art & Music,Student Activities
ATTACH;FMTTYPE=image/jpeg:https://www.champlain.edu/app/uploads/2025/10/students-grind-music-fireside-lounge-idx.jpg
GEO:44.4725946;-73.2044524
X-APPLE-STRUCTURED-LOCATION;VALUE=URI;X-ADDRESS=Fireside Lounge IDX Student Life Center 262 S Willard St Burlington 05401;X-APPLE-RADIUS=500;X-TITLE=262 S Willard St:geo:-73.2044524,44.4725946
END:VEVENT
BEGIN:VEVENT
DTSTART;TZID=America/New_York:20260128T203000
DTEND;TZID=America/New_York:20260128T223000
DTSTAMP:20260421T051903
CREATED:20251009T191917Z
LAST-MODIFIED:20251009T203137Z
UID:10015040-1769632200-1769639400@www.champlain.edu
SUMMARY:The Grind
DESCRIPTION:Come check out the Grind Open Mic Coffeehouse! Hosted by Student Engagement\, the Grind is a weekly show of talent for all students to participate. Whether you want to perform or spectate\, we’d love to see you. Our show begins at 8:30 pm\, but if you want to perform\, arrive to Fireside Lounge early to sign up! Time slots are limited are on a first come\, first serve basis. \nGrab some snacks\, coffee or tea\, and enjoy the talent Champlain has to offer! See you there!
URL:https://www.champlain.edu/event/the-grind/2026-01-28/
LOCATION:Fireside Lounge\, IDX Student Life Center\, 262 S Willard St\, Burlington\, 05401
CATEGORIES:Art & Music,Student Activities
ATTACH;FMTTYPE=image/jpeg:https://www.champlain.edu/app/uploads/2025/10/students-grind-music-fireside-lounge-idx.jpg
GEO:44.4725946;-73.2044524
X-APPLE-STRUCTURED-LOCATION;VALUE=URI;X-ADDRESS=Fireside Lounge IDX Student Life Center 262 S Willard St Burlington 05401;X-APPLE-RADIUS=500;X-TITLE=262 S Willard St:geo:-73.2044524,44.4725946
END:VEVENT
END:VCALENDAR