BEGIN:VCALENDAR
VERSION:2.0
PRODID:-//Champlain College - ECPv6.15.18//NONSGML v1.0//EN
CALSCALE:GREGORIAN
METHOD:PUBLISH
X-WR-CALNAME:Champlain College
X-ORIGINAL-URL:https://www.champlain.edu
X-WR-CALDESC:Events for Champlain College
REFRESH-INTERVAL;VALUE=DURATION:PT1H
X-Robots-Tag:noindex
X-PUBLISHED-TTL:PT1H
BEGIN:VTIMEZONE
TZID:America/New_York
BEGIN:DAYLIGHT
TZOFFSETFROM:-0500
TZOFFSETTO:-0400
TZNAME:EDT
DTSTART:20250309T070000
END:DAYLIGHT
BEGIN:STANDARD
TZOFFSETFROM:-0400
TZOFFSETTO:-0500
TZNAME:EST
DTSTART:20251102T060000
END:STANDARD
BEGIN:DAYLIGHT
TZOFFSETFROM:-0500
TZOFFSETTO:-0400
TZNAME:EDT
DTSTART:20260308T070000
END:DAYLIGHT
BEGIN:STANDARD
TZOFFSETFROM:-0400
TZOFFSETTO:-0500
TZNAME:EST
DTSTART:20261101T060000
END:STANDARD
BEGIN:DAYLIGHT
TZOFFSETFROM:-0500
TZOFFSETTO:-0400
TZNAME:EDT
DTSTART:20270314T070000
END:DAYLIGHT
BEGIN:STANDARD
TZOFFSETFROM:-0400
TZOFFSETTO:-0500
TZNAME:EST
DTSTART:20271107T060000
END:STANDARD
END:VTIMEZONE
BEGIN:VEVENT
DTSTART;TZID=America/New_York:20260115T180000
DTEND;TZID=America/New_York:20260115T190000
DTSTAMP:20260423T084305
CREATED:20260116T005238Z
LAST-MODIFIED:20260116T005239Z
UID:10016330-1768500000-1768503600@www.champlain.edu
SUMMARY:Students Demand Action Weekly Meeting
DESCRIPTION:We’d love to meet you! Join Champlain College Students Demand Action every Thursday as we organize\, strategize\, and take action to end gun violence in our communities! \nWhat We Do:At our weekly meetings\, we come together to plan advocacy campaigns\, organize campus and community events\, discuss gun violence prevention policy\, and build a movement of young people committed to creating safer communities. Whether you’re passionate about policy research\, event planning\, social media advocacy\, or grassroots organizing\, there’s a place for you here. In your first meeting\, you can participate by listening to ongoing projects and sharing any ideas you have. We’ll introduce you to a group leader who can answer your questions and help you find your niche in the group. \nWhat to Expect: \n\nUpdates on local and national gun violence prevention efforts\nPlanning for upcoming events\, actions\, and awareness campaigns\nSkill-building workshops on advocacy\, organizing\, and leadership\nConnection with a community of students who care about this issue\nOpportunities to make your voice heard and create real change\n\nWho Should Attend:Everyone is welcome\, and no prior experience with activism or organizing is required! Whether you’re a longtime advocate or just starting to learn about gun violence prevention\, we’d love to have you. Experienced members of our group are excited to help newcomers get oriented and make the most of their involvement. Bring your ideas\, your energy\, and your commitment to building a safer future. \nWhen: Thursdays at 6:00 PM\, meetings typically last about one hourWhere: CCM 424 \nTogether\, we can end gun violence. See you there!For any questions or to connect with us before attending\, feel free to reach out via email at sda.champlainchapter@champlain.edu or follow us on Instagram @champlain_studentsdemandaction. \nStudents Demand Action is the student-led arm of Everytown for Gun Safety\, the largest gun violence prevention organization in the country. We’re a national movement of students fighting to end gun violence in all its forms.
URL:https://www.champlain.edu/event/students-demand-action-weekly-meeting-2/2026-01-15/
LOCATION:Room 424\, Center for Communication & Creative Media (CCM)\, 375 Maple Street\, Burlington\, VT\, 05401\, United States
CATEGORIES:Service & Civic Engagement,Student Activities
ATTACH;FMTTYPE=image/jpeg:https://www.champlain.edu/app/uploads/2026/01/0D821FE8-D789-4101-A59B-47588DBB8756-scaled.jpg
GEO:44.4736955;-73.2041466
X-APPLE-STRUCTURED-LOCATION;VALUE=URI;X-ADDRESS=Room 424 Center for Communication & Creative Media (CCM) 375 Maple Street Burlington VT 05401 United States;X-APPLE-RADIUS=500;X-TITLE=375 Maple Street:geo:-73.2041466,44.4736955
END:VEVENT
BEGIN:VEVENT
DTSTART;TZID=America/New_York:20260120T150000
DTEND;TZID=America/New_York:20260120T160000
DTSTAMP:20260423T084305
CREATED:20251216T164639Z
LAST-MODIFIED:20251216T164642Z
UID:10015687-1768921200-1768924800@www.champlain.edu
SUMMARY:MLK Event: CAMPUS PEACE WALK
DESCRIPTION:Walk together toward justice. \nJoin us for a guided walk across campus\, stopping at meaningful locations to reflect on Dr. King’s legacy and vision for beloved community. Each stop features readings\, reflections\, and conversation exploring different dimensions of Dr. King’s work and its connection to today. \nRoute Highlights: \n\nStart at Fireside Lounge: Grab coffee\, hot cocoa\, hand warmers\, and make/take signs with messages of hope and resilience\nStop 1: Samuel de Champlain Statue: The journey toward justice begins\nStop 2: Perry Lawn: Opening doors and welcoming all\nStop 3: Finney Quad: Interconnected justice and intersectionality\nStop 4: Aiken Lawn: Knowledge as power; continuing the work\nFinish at the Champlain Room: Celebrate with music\, food\, open mic\, and community.\n\nDress warmly. Bring your voice. Walk toward change. \nThe route is planned with accessibility in mind. All are welcome.
URL:https://www.champlain.edu/event/mlk-event-campus-peace-walk/
LOCATION:Fireside Lounge\, IDX Student Life Center\, 262 S Willard St\, Burlington\, 05401
CATEGORIES:Academic,Career & InSight,Cultural Programming,Service & Civic Engagement
ATTACH;FMTTYPE=image/jpeg:https://www.champlain.edu/app/uploads/2025/12/Peace-Walk@4x-scaled.jpg
GEO:44.4725946;-73.2044524
X-APPLE-STRUCTURED-LOCATION;VALUE=URI;X-ADDRESS=Fireside Lounge IDX Student Life Center 262 S Willard St Burlington 05401;X-APPLE-RADIUS=500;X-TITLE=262 S Willard St:geo:-73.2044524,44.4725946
END:VEVENT
BEGIN:VEVENT
DTSTART;TZID=America/New_York:20260120T193000
DTEND;TZID=America/New_York:20260120T213000
DTSTAMP:20260423T084305
CREATED:20251216T165110Z
LAST-MODIFIED:20260107T134315Z
UID:10015690-1768937400-1768944600@www.champlain.edu
SUMMARY:MLK Event: Selma (2014) Movie Screening
DESCRIPTION:Experience the march that changed America. \nJoin us for a screening of Selma\, Ava DuVernay’s powerful film about the 1965 voting rights campaign that led to the historic march from Selma to Montgomery\, Alabama. \nWitness Dr. Martin Luther King Jr. and fellow activists as they organize against violent opposition\, from the tragedy of “Bloody Sunday” on the Edmund Pettus Bridge to the passage of the Voting Rights Act. This film reveals the strategy\, sacrifice\, and extraordinary courage required to secure a fundamental right.
URL:https://www.champlain.edu/event/mlk-event-selma-2014-movie-screening/
LOCATION:Alumni Auditorium\, Center for Communication & Creative Media (CCM)\, 375 Maple Street\, Burlington\, VT\, 05401\, United States
CATEGORIES:Cultural Programming,Service & Civic Engagement,Student Activities
ATTACH;FMTTYPE=image/jpeg:https://www.champlain.edu/app/uploads/2024/04/MLK-Web-Hero.jpg
GEO:44.4736955;-73.2041466
X-APPLE-STRUCTURED-LOCATION;VALUE=URI;X-ADDRESS=Alumni Auditorium Center for Communication & Creative Media (CCM) 375 Maple Street Burlington VT 05401 United States;X-APPLE-RADIUS=500;X-TITLE=375 Maple Street:geo:-73.2041466,44.4736955
END:VEVENT
BEGIN:VEVENT
DTSTART;TZID=America/New_York:20260122T180000
DTEND;TZID=America/New_York:20260122T190000
DTSTAMP:20260423T084305
CREATED:20260116T005238Z
LAST-MODIFIED:20260116T005239Z
UID:10016331-1769104800-1769108400@www.champlain.edu
SUMMARY:Students Demand Action Weekly Meeting
DESCRIPTION:We’d love to meet you! Join Champlain College Students Demand Action every Thursday as we organize\, strategize\, and take action to end gun violence in our communities! \nWhat We Do:At our weekly meetings\, we come together to plan advocacy campaigns\, organize campus and community events\, discuss gun violence prevention policy\, and build a movement of young people committed to creating safer communities. Whether you’re passionate about policy research\, event planning\, social media advocacy\, or grassroots organizing\, there’s a place for you here. In your first meeting\, you can participate by listening to ongoing projects and sharing any ideas you have. We’ll introduce you to a group leader who can answer your questions and help you find your niche in the group. \nWhat to Expect: \n\nUpdates on local and national gun violence prevention efforts\nPlanning for upcoming events\, actions\, and awareness campaigns\nSkill-building workshops on advocacy\, organizing\, and leadership\nConnection with a community of students who care about this issue\nOpportunities to make your voice heard and create real change\n\nWho Should Attend:Everyone is welcome\, and no prior experience with activism or organizing is required! Whether you’re a longtime advocate or just starting to learn about gun violence prevention\, we’d love to have you. Experienced members of our group are excited to help newcomers get oriented and make the most of their involvement. Bring your ideas\, your energy\, and your commitment to building a safer future. \nWhen: Thursdays at 6:00 PM\, meetings typically last about one hourWhere: CCM 424 \nTogether\, we can end gun violence. See you there!For any questions or to connect with us before attending\, feel free to reach out via email at sda.champlainchapter@champlain.edu or follow us on Instagram @champlain_studentsdemandaction. \nStudents Demand Action is the student-led arm of Everytown for Gun Safety\, the largest gun violence prevention organization in the country. We’re a national movement of students fighting to end gun violence in all its forms.
URL:https://www.champlain.edu/event/students-demand-action-weekly-meeting-2/2026-01-22/
LOCATION:Room 424\, Center for Communication & Creative Media (CCM)\, 375 Maple Street\, Burlington\, VT\, 05401\, United States
CATEGORIES:Service & Civic Engagement,Student Activities
ATTACH;FMTTYPE=image/jpeg:https://www.champlain.edu/app/uploads/2026/01/0D821FE8-D789-4101-A59B-47588DBB8756-scaled.jpg
GEO:44.4736955;-73.2041466
X-APPLE-STRUCTURED-LOCATION;VALUE=URI;X-ADDRESS=Room 424 Center for Communication & Creative Media (CCM) 375 Maple Street Burlington VT 05401 United States;X-APPLE-RADIUS=500;X-TITLE=375 Maple Street:geo:-73.2041466,44.4736955
END:VEVENT
BEGIN:VEVENT
DTSTART;TZID=America/New_York:20260129T180000
DTEND;TZID=America/New_York:20260129T190000
DTSTAMP:20260423T084305
CREATED:20260116T005238Z
LAST-MODIFIED:20260116T005239Z
UID:10016332-1769709600-1769713200@www.champlain.edu
SUMMARY:Students Demand Action Weekly Meeting
DESCRIPTION:We’d love to meet you! Join Champlain College Students Demand Action every Thursday as we organize\, strategize\, and take action to end gun violence in our communities! \nWhat We Do:At our weekly meetings\, we come together to plan advocacy campaigns\, organize campus and community events\, discuss gun violence prevention policy\, and build a movement of young people committed to creating safer communities. Whether you’re passionate about policy research\, event planning\, social media advocacy\, or grassroots organizing\, there’s a place for you here. In your first meeting\, you can participate by listening to ongoing projects and sharing any ideas you have. We’ll introduce you to a group leader who can answer your questions and help you find your niche in the group. \nWhat to Expect: \n\nUpdates on local and national gun violence prevention efforts\nPlanning for upcoming events\, actions\, and awareness campaigns\nSkill-building workshops on advocacy\, organizing\, and leadership\nConnection with a community of students who care about this issue\nOpportunities to make your voice heard and create real change\n\nWho Should Attend:Everyone is welcome\, and no prior experience with activism or organizing is required! Whether you’re a longtime advocate or just starting to learn about gun violence prevention\, we’d love to have you. Experienced members of our group are excited to help newcomers get oriented and make the most of their involvement. Bring your ideas\, your energy\, and your commitment to building a safer future. \nWhen: Thursdays at 6:00 PM\, meetings typically last about one hourWhere: CCM 424 \nTogether\, we can end gun violence. See you there!For any questions or to connect with us before attending\, feel free to reach out via email at sda.champlainchapter@champlain.edu or follow us on Instagram @champlain_studentsdemandaction. \nStudents Demand Action is the student-led arm of Everytown for Gun Safety\, the largest gun violence prevention organization in the country. We’re a national movement of students fighting to end gun violence in all its forms.
URL:https://www.champlain.edu/event/students-demand-action-weekly-meeting-2/2026-01-29/
LOCATION:Room 424\, Center for Communication & Creative Media (CCM)\, 375 Maple Street\, Burlington\, VT\, 05401\, United States
CATEGORIES:Service & Civic Engagement,Student Activities
ATTACH;FMTTYPE=image/jpeg:https://www.champlain.edu/app/uploads/2026/01/0D821FE8-D789-4101-A59B-47588DBB8756-scaled.jpg
GEO:44.4736955;-73.2041466
X-APPLE-STRUCTURED-LOCATION;VALUE=URI;X-ADDRESS=Room 424 Center for Communication & Creative Media (CCM) 375 Maple Street Burlington VT 05401 United States;X-APPLE-RADIUS=500;X-TITLE=375 Maple Street:geo:-73.2041466,44.4736955
END:VEVENT
END:VCALENDAR