BEGIN:VCALENDAR
VERSION:2.0
PRODID:-//Champlain College - ECPv6.15.18//NONSGML v1.0//EN
CALSCALE:GREGORIAN
METHOD:PUBLISH
X-WR-CALNAME:Champlain College
X-ORIGINAL-URL:https://www.champlain.edu
X-WR-CALDESC:Events for Champlain College
REFRESH-INTERVAL;VALUE=DURATION:PT1H
X-Robots-Tag:noindex
X-PUBLISHED-TTL:PT1H
BEGIN:VTIMEZONE
TZID:America/New_York
BEGIN:DAYLIGHT
TZOFFSETFROM:-0500
TZOFFSETTO:-0400
TZNAME:EDT
DTSTART:20250309T070000
END:DAYLIGHT
BEGIN:STANDARD
TZOFFSETFROM:-0400
TZOFFSETTO:-0500
TZNAME:EST
DTSTART:20251102T060000
END:STANDARD
BEGIN:DAYLIGHT
TZOFFSETFROM:-0500
TZOFFSETTO:-0400
TZNAME:EDT
DTSTART:20260308T070000
END:DAYLIGHT
BEGIN:STANDARD
TZOFFSETFROM:-0400
TZOFFSETTO:-0500
TZNAME:EST
DTSTART:20261101T060000
END:STANDARD
BEGIN:DAYLIGHT
TZOFFSETFROM:-0500
TZOFFSETTO:-0400
TZNAME:EDT
DTSTART:20270314T070000
END:DAYLIGHT
BEGIN:STANDARD
TZOFFSETFROM:-0400
TZOFFSETTO:-0500
TZNAME:EST
DTSTART:20271107T060000
END:STANDARD
END:VTIMEZONE
BEGIN:VEVENT
DTSTART;TZID=America/New_York:20260302T180000
DTEND;TZID=America/New_York:20260302T200000
DTSTAMP:20260423T010040
CREATED:20260225T193821Z
LAST-MODIFIED:20260226T154816Z
UID:10016941-1772474400-1772481600@www.champlain.edu
SUMMARY:WiCyS: Career Night!
DESCRIPTION:Join us for our upcoming Career Night! This is an event designed to help students take professional headshots and design their own business cards!
URL:https://www.champlain.edu/event/wicys-career-night/
LOCATION:Room 424\, Center for Communication & Creative Media (CCM)\, 375 Maple Street\, Burlington\, VT\, 05401\, United States
CATEGORIES:Student Activities
ATTACH;FMTTYPE=image/jpeg:https://www.champlain.edu/app/uploads/2024/10/ChamplainRoom_Presenter-WiCys_Presenting.jpg
GEO:44.4736955;-73.2041466
X-APPLE-STRUCTURED-LOCATION;VALUE=URI;X-ADDRESS=Room 424 Center for Communication & Creative Media (CCM) 375 Maple Street Burlington VT 05401 United States;X-APPLE-RADIUS=500;X-TITLE=375 Maple Street:geo:-73.2041466,44.4736955
END:VEVENT
BEGIN:VEVENT
DTSTART;TZID=America/New_York:20260303T180000
DTEND;TZID=America/New_York:20260303T220000
DTSTAMP:20260423T010040
CREATED:20251006T181322Z
LAST-MODIFIED:20251006T181325Z
UID:10013678-1772560800-1772575200@www.champlain.edu
SUMMARY:FGC Champs Locals
DESCRIPTION:Come play fighting games with our student community on Tuesdays 6-8 pm in Wick 102! We offer setups for Street Fighter 6\, Tekken 8\, Guilty Gear Strive\, and more! \nA little more about our club\, the purpose of FGC Champs is to build a community on campus with a shared love for fighting games. Whether you have just picked up the controller or played all your life\, everyone is welcome here!
URL:https://www.champlain.edu/event/fgc-champs-locals-2/2026-03-03/
LOCATION:Room 102\, Wick Hall\, 87 Summit St\, Burlington\, VT\, 05401\, United States
CATEGORIES:Student Activities
ATTACH;FMTTYPE=image/jpeg:https://www.champlain.edu/app/uploads/2025/08/The-View-Template-FGC-Champs.jpg
ORGANIZER;CN="Champlain Fighting Game Community":MAILTO:scooby.grimm@mymail.champlain.edu
GEO:44.4733787;-73.2036104
X-APPLE-STRUCTURED-LOCATION;VALUE=URI;X-ADDRESS=Room 102 Wick Hall 87 Summit St Burlington VT 05401 United States;X-APPLE-RADIUS=500;X-TITLE=87 Summit St:geo:-73.2036104,44.4733787
END:VEVENT
BEGIN:VEVENT
DTSTART;TZID=America/New_York:20260304T193000
DTEND;TZID=America/New_York:20260304T213000
DTSTAMP:20260423T010040
CREATED:20260115T235102Z
LAST-MODIFIED:20260115T235104Z
UID:10015751-1772652600-1772659800@www.champlain.edu
SUMMARY:Intramural Basketball
DESCRIPTION:Join our Intramural Basketball games every Wednesday night starting as early as 7:30 PM. League schedule varies. To sign up\, use the registration link on the Intramural Sports page. Don’t have a team yet? You can sign up as a free agent. The first two weeks of classes are drop-in play and games begin the third week of classes. Reach out to Kyra Yu at kyu@champlain.edu if you have questions. See you on the court!
URL:https://www.champlain.edu/event/intramural-basketball-3/2026-03-04/
LOCATION:Argosy Gym\, IDX Student Life Center\, 262 S Willard St\, Burlington\, VT\, United States
CATEGORIES:Fitness & Intramural Sports
ATTACH;FMTTYPE=image/jpeg:https://www.champlain.edu/app/uploads/2025/08/basketball-stock-event.jpg
GEO:44.4725946;-73.2044524
X-APPLE-STRUCTURED-LOCATION;VALUE=URI;X-ADDRESS=Argosy Gym IDX Student Life Center 262 S Willard St Burlington VT United States;X-APPLE-RADIUS=500;X-TITLE=262 S Willard St:geo:-73.2044524,44.4725946
END:VEVENT
BEGIN:VEVENT
DTSTART;TZID=America/New_York:20260305T183000
DTEND;TZID=America/New_York:20260305T203000
DTSTAMP:20260423T010040
CREATED:20260115T235237Z
LAST-MODIFIED:20260115T235341Z
UID:10015765-1772735400-1772742600@www.champlain.edu
SUMMARY:Intramural Volleyball
DESCRIPTION:Join our intramural volleyball league! This is a popular series at Champlain\, so be sure to sign up at the beginning of the semester! To sign up\, use the registration link on the Intramural Sports page. Don’t have a team yet? You can sign up as a free agent. The first two weeks of classes are drop-in play and games begin the third week of classes. Reach out to Kyra Yu at kyu@champlain.edu if you have questions. See you on the court!
URL:https://www.champlain.edu/event/intramural-volleyball-4/2026-03-05/
LOCATION:Argosy Gym\, IDX Student Life Center\, 262 S Willard St\, Burlington\, VT\, United States
CATEGORIES:Fitness & Intramural Sports
ATTACH;FMTTYPE=image/jpeg:https://www.champlain.edu/app/uploads/2024/03/students-volleyball-club-fitness-center-argosy-gym.jpg
GEO:44.4725946;-73.2044524
X-APPLE-STRUCTURED-LOCATION;VALUE=URI;X-ADDRESS=Argosy Gym IDX Student Life Center 262 S Willard St Burlington VT United States;X-APPLE-RADIUS=500;X-TITLE=262 S Willard St:geo:-73.2044524,44.4725946
END:VEVENT
BEGIN:VEVENT
DTSTART;TZID=America/New_York:20260310T180000
DTEND;TZID=America/New_York:20260310T220000
DTSTAMP:20260423T010040
CREATED:20251006T181322Z
LAST-MODIFIED:20251006T181325Z
UID:10013679-1773165600-1773180000@www.champlain.edu
SUMMARY:FGC Champs Locals
DESCRIPTION:Come play fighting games with our student community on Tuesdays 6-8 pm in Wick 102! We offer setups for Street Fighter 6\, Tekken 8\, Guilty Gear Strive\, and more! \nA little more about our club\, the purpose of FGC Champs is to build a community on campus with a shared love for fighting games. Whether you have just picked up the controller or played all your life\, everyone is welcome here!
URL:https://www.champlain.edu/event/fgc-champs-locals-2/2026-03-10/
LOCATION:Room 102\, Wick Hall\, 87 Summit St\, Burlington\, VT\, 05401\, United States
CATEGORIES:Student Activities
ATTACH;FMTTYPE=image/jpeg:https://www.champlain.edu/app/uploads/2025/08/The-View-Template-FGC-Champs.jpg
ORGANIZER;CN="Champlain Fighting Game Community":MAILTO:scooby.grimm@mymail.champlain.edu
GEO:44.4733787;-73.2036104
X-APPLE-STRUCTURED-LOCATION;VALUE=URI;X-ADDRESS=Room 102 Wick Hall 87 Summit St Burlington VT 05401 United States;X-APPLE-RADIUS=500;X-TITLE=87 Summit St:geo:-73.2036104,44.4733787
END:VEVENT
BEGIN:VEVENT
DTSTART;TZID=America/New_York:20260313T120000
DTEND;TZID=America/New_York:20260313T130000
DTSTAMP:20260423T010040
CREATED:20260225T190935Z
LAST-MODIFIED:20260226T154018Z
UID:10016938-1773403200-1773406800@www.champlain.edu
SUMMARY:Alumni Virtual Office Hours with a Career Coach: Business & Human Services
DESCRIPTION:Join us in a career support session for alumni in the business or human services industries\, hosted by Pat Boera. \nThis is an allotted time for alumni to drop in\, connect with others in their industry\, tackle career challenges\, and work on professional development materials. Each session will be dedicated to a specific industry and hosted by a Career Coach from Champlain’s Career Collaborative. The March session is hosted by Pat Boera\, Career Coach for the Stiller School of Business\, the School of Social Innovation\, and the Degree Design Lab. \nWhether you have a question about your resume\, are looking to meet other alumni in your industry\, or simply could use a dedicated time to get work done (we love a good body doubling moment)\, these office hours are here to support your professional development and career journey. \nDrop in or stay for the hour!
URL:https://www.champlain.edu/event/alumni-virtual-office-hours/
LOCATION:Webinar / Virtual\, United States
CATEGORIES:Alumni & Family Networking,Career & InSight
ATTACH;FMTTYPE=image/jpeg:https://www.champlain.edu/app/uploads/2026/02/virtual-office-hours-stock-event.jpg
ORGANIZER;CN="Office of Alumni Relations":MAILTO:alumni@champlain.edu
END:VEVENT
BEGIN:VEVENT
DTSTART;TZID=America/New_York:20260314T100000
DTEND;TZID=America/New_York:20260314T140000
DTSTAMP:20260423T010040
CREATED:20260212T235347Z
LAST-MODIFIED:20260213T160426Z
UID:10016917-1773482400-1773496800@www.champlain.edu
SUMMARY:VT Job Fair (Career Fair)
DESCRIPTION:At the VermontJobs.com Job Fair hosted at the University Mall\, you’ll have the opportunity to meet a wide range of employers from various industries—professional\, tech\, manufacturing\, healthcare\, education\, finance\, municipal\, nonprofits\, construction\, retail\, transportation\, auto\, clean energy\, homecare\, and much more. This is your chance to network and explore potential job openings that suit your skills and aspirations. \nFree admission and free parking. You must get to this event on your own. University Mall is on the city bus route. \nLooking for specific info about the event? Email Paul@vermontjobs.com\, call 802-872-9000\, or visit www.VTJobfair.com. \nFulfills the InSight Career Fair milestone.  \nYou must fill out the form in Canvas to document your attendance.
URL:https://www.champlain.edu/event/vt-job-fair-career-fair/
LOCATION:External Venue
CATEGORIES:Career & InSight
ATTACH;FMTTYPE=image/jpeg:https://www.champlain.edu/app/uploads/2023/09/campus_careerfair_students.jpg
ORGANIZER;CN="Career Collaborative":MAILTO:careercollaborative@champlain.edu
END:VEVENT
BEGIN:VEVENT
DTSTART;TZID=America/New_York:20260317T180000
DTEND;TZID=America/New_York:20260317T220000
DTSTAMP:20260423T010040
CREATED:20251006T181322Z
LAST-MODIFIED:20251006T181325Z
UID:10013680-1773770400-1773784800@www.champlain.edu
SUMMARY:FGC Champs Locals
DESCRIPTION:Come play fighting games with our student community on Tuesdays 6-8 pm in Wick 102! We offer setups for Street Fighter 6\, Tekken 8\, Guilty Gear Strive\, and more! \nA little more about our club\, the purpose of FGC Champs is to build a community on campus with a shared love for fighting games. Whether you have just picked up the controller or played all your life\, everyone is welcome here!
URL:https://www.champlain.edu/event/fgc-champs-locals-2/2026-03-17/
LOCATION:Room 102\, Wick Hall\, 87 Summit St\, Burlington\, VT\, 05401\, United States
CATEGORIES:Student Activities
ATTACH;FMTTYPE=image/jpeg:https://www.champlain.edu/app/uploads/2025/08/The-View-Template-FGC-Champs.jpg
ORGANIZER;CN="Champlain Fighting Game Community":MAILTO:scooby.grimm@mymail.champlain.edu
GEO:44.4733787;-73.2036104
X-APPLE-STRUCTURED-LOCATION;VALUE=URI;X-ADDRESS=Room 102 Wick Hall 87 Summit St Burlington VT 05401 United States;X-APPLE-RADIUS=500;X-TITLE=87 Summit St:geo:-73.2036104,44.4733787
END:VEVENT
BEGIN:VEVENT
DTSTART;TZID=America/New_York:20260318T193000
DTEND;TZID=America/New_York:20260318T213000
DTSTAMP:20260423T010040
CREATED:20260115T235102Z
LAST-MODIFIED:20260115T235104Z
UID:10015752-1773862200-1773869400@www.champlain.edu
SUMMARY:Intramural Basketball
DESCRIPTION:Join our Intramural Basketball games every Wednesday night starting as early as 7:30 PM. League schedule varies. To sign up\, use the registration link on the Intramural Sports page. Don’t have a team yet? You can sign up as a free agent. The first two weeks of classes are drop-in play and games begin the third week of classes. Reach out to Kyra Yu at kyu@champlain.edu if you have questions. See you on the court!
URL:https://www.champlain.edu/event/intramural-basketball-3/2026-03-18/
LOCATION:Argosy Gym\, IDX Student Life Center\, 262 S Willard St\, Burlington\, VT\, United States
CATEGORIES:Fitness & Intramural Sports
ATTACH;FMTTYPE=image/jpeg:https://www.champlain.edu/app/uploads/2025/08/basketball-stock-event.jpg
GEO:44.4725946;-73.2044524
X-APPLE-STRUCTURED-LOCATION;VALUE=URI;X-ADDRESS=Argosy Gym IDX Student Life Center 262 S Willard St Burlington VT United States;X-APPLE-RADIUS=500;X-TITLE=262 S Willard St:geo:-73.2044524,44.4725946
END:VEVENT
BEGIN:VEVENT
DTSTART;TZID=America/New_York:20260319T183000
DTEND;TZID=America/New_York:20260319T203000
DTSTAMP:20260423T010040
CREATED:20260115T235237Z
LAST-MODIFIED:20260115T235341Z
UID:10015766-1773945000-1773952200@www.champlain.edu
SUMMARY:Intramural Volleyball
DESCRIPTION:Join our intramural volleyball league! This is a popular series at Champlain\, so be sure to sign up at the beginning of the semester! To sign up\, use the registration link on the Intramural Sports page. Don’t have a team yet? You can sign up as a free agent. The first two weeks of classes are drop-in play and games begin the third week of classes. Reach out to Kyra Yu at kyu@champlain.edu if you have questions. See you on the court!
URL:https://www.champlain.edu/event/intramural-volleyball-4/2026-03-19/
LOCATION:Argosy Gym\, IDX Student Life Center\, 262 S Willard St\, Burlington\, VT\, United States
CATEGORIES:Fitness & Intramural Sports
ATTACH;FMTTYPE=image/jpeg:https://www.champlain.edu/app/uploads/2024/03/students-volleyball-club-fitness-center-argosy-gym.jpg
GEO:44.4725946;-73.2044524
X-APPLE-STRUCTURED-LOCATION;VALUE=URI;X-ADDRESS=Argosy Gym IDX Student Life Center 262 S Willard St Burlington VT United States;X-APPLE-RADIUS=500;X-TITLE=262 S Willard St:geo:-73.2044524,44.4725946
END:VEVENT
BEGIN:VEVENT
DTSTART;TZID=America/New_York:20260324T180000
DTEND;TZID=America/New_York:20260324T220000
DTSTAMP:20260423T010040
CREATED:20251006T181322Z
LAST-MODIFIED:20251006T181325Z
UID:10013681-1774375200-1774389600@www.champlain.edu
SUMMARY:FGC Champs Locals
DESCRIPTION:Come play fighting games with our student community on Tuesdays 6-8 pm in Wick 102! We offer setups for Street Fighter 6\, Tekken 8\, Guilty Gear Strive\, and more! \nA little more about our club\, the purpose of FGC Champs is to build a community on campus with a shared love for fighting games. Whether you have just picked up the controller or played all your life\, everyone is welcome here!
URL:https://www.champlain.edu/event/fgc-champs-locals-2/2026-03-24/
LOCATION:Room 102\, Wick Hall\, 87 Summit St\, Burlington\, VT\, 05401\, United States
CATEGORIES:Student Activities
ATTACH;FMTTYPE=image/jpeg:https://www.champlain.edu/app/uploads/2025/08/The-View-Template-FGC-Champs.jpg
ORGANIZER;CN="Champlain Fighting Game Community":MAILTO:scooby.grimm@mymail.champlain.edu
GEO:44.4733787;-73.2036104
X-APPLE-STRUCTURED-LOCATION;VALUE=URI;X-ADDRESS=Room 102 Wick Hall 87 Summit St Burlington VT 05401 United States;X-APPLE-RADIUS=500;X-TITLE=87 Summit St:geo:-73.2036104,44.4733787
END:VEVENT
BEGIN:VEVENT
DTSTART;TZID=America/New_York:20260324T193000
DTEND;TZID=America/New_York:20260324T203000
DTSTAMP:20260423T010040
CREATED:20260225T190339Z
LAST-MODIFIED:20260226T153300Z
UID:10016939-1774380600-1774384200@www.champlain.edu
SUMMARY:Alumni Book Club: March Meeting & Author Talk
DESCRIPTION:Join our next Alumni Book Club meeting! With monthly virtual meetings\, we read a new book each month\, spanning various genres. You do not have to attend every meeting to participate in the book club. March’s reading is Beyond The Lab Coats: A Journey Through Flavor\, Formulas\, and Life by José and Yelena Barbosa. \nAuthor Talk:Champlain alum José Barbosa ’17 and his wife\, Yelena Barbosa\, will be joining for the second-half of the March meeting for an Author Talk and discussion on topics such as purpose-driven careers\, entrepreneurship\, and work/life balance.
URL:https://www.champlain.edu/event/alumni-book-club-march-author-talk/
LOCATION:Webinar / Virtual\, United States
CATEGORIES:Alumni & Family Networking
ATTACH;FMTTYPE=image/jpeg:https://www.champlain.edu/app/uploads/2026/02/book-club-stock-event.jpg
ORGANIZER;CN="Office of Alumni Relations":MAILTO:alumni@champlain.edu
END:VEVENT
BEGIN:VEVENT
DTSTART;TZID=America/New_York:20260325T193000
DTEND;TZID=America/New_York:20260325T213000
DTSTAMP:20260423T010040
CREATED:20260115T235102Z
LAST-MODIFIED:20260115T235104Z
UID:10015753-1774467000-1774474200@www.champlain.edu
SUMMARY:Intramural Basketball
DESCRIPTION:Join our Intramural Basketball games every Wednesday night starting as early as 7:30 PM. League schedule varies. To sign up\, use the registration link on the Intramural Sports page. Don’t have a team yet? You can sign up as a free agent. The first two weeks of classes are drop-in play and games begin the third week of classes. Reach out to Kyra Yu at kyu@champlain.edu if you have questions. See you on the court!
URL:https://www.champlain.edu/event/intramural-basketball-3/2026-03-25/
LOCATION:Argosy Gym\, IDX Student Life Center\, 262 S Willard St\, Burlington\, VT\, United States
CATEGORIES:Fitness & Intramural Sports
ATTACH;FMTTYPE=image/jpeg:https://www.champlain.edu/app/uploads/2025/08/basketball-stock-event.jpg
GEO:44.4725946;-73.2044524
X-APPLE-STRUCTURED-LOCATION;VALUE=URI;X-ADDRESS=Argosy Gym IDX Student Life Center 262 S Willard St Burlington VT United States;X-APPLE-RADIUS=500;X-TITLE=262 S Willard St:geo:-73.2044524,44.4725946
END:VEVENT
BEGIN:VEVENT
DTSTART;TZID=America/New_York:20260326T183000
DTEND;TZID=America/New_York:20260326T203000
DTSTAMP:20260423T010040
CREATED:20260115T235237Z
LAST-MODIFIED:20260115T235341Z
UID:10015767-1774549800-1774557000@www.champlain.edu
SUMMARY:Intramural Volleyball
DESCRIPTION:Join our intramural volleyball league! This is a popular series at Champlain\, so be sure to sign up at the beginning of the semester! To sign up\, use the registration link on the Intramural Sports page. Don’t have a team yet? You can sign up as a free agent. The first two weeks of classes are drop-in play and games begin the third week of classes. Reach out to Kyra Yu at kyu@champlain.edu if you have questions. See you on the court!
URL:https://www.champlain.edu/event/intramural-volleyball-4/2026-03-26/
LOCATION:Argosy Gym\, IDX Student Life Center\, 262 S Willard St\, Burlington\, VT\, United States
CATEGORIES:Fitness & Intramural Sports
ATTACH;FMTTYPE=image/jpeg:https://www.champlain.edu/app/uploads/2024/03/students-volleyball-club-fitness-center-argosy-gym.jpg
GEO:44.4725946;-73.2044524
X-APPLE-STRUCTURED-LOCATION;VALUE=URI;X-ADDRESS=Argosy Gym IDX Student Life Center 262 S Willard St Burlington VT United States;X-APPLE-RADIUS=500;X-TITLE=262 S Willard St:geo:-73.2044524,44.4725946
END:VEVENT
BEGIN:VEVENT
DTSTART;TZID=America/New_York:20260327T110000
DTEND;TZID=America/New_York:20260327T160000
DTSTAMP:20260423T010040
CREATED:20260318T195015Z
LAST-MODIFIED:20260323T145634Z
UID:10016970-1774609200-1774627200@www.champlain.edu
SUMMARY:ITScon '26
DESCRIPTION:Champlain College’s Cybersecurity Club (CCSC) is happy to announce our 5th annual event\, ITScon! \nThe conference will offer opportunities for members of the Champlain College Community to network with fellow peers\, meet alumni\, and interact with employers with a passion for technology\, computing\, programming\, or cybersecurity. Students will also be showcasing projects that they have completed in and outside of the classroom! \nIf you are interested in attending as a prospective employer\, industry professional\, alumni\, faculty member\, or student; reserve your spot today! \nThis event fulfills the InSight Career Fair milestone. \nIf you have any questions\, please feel free to reach out to ccsc@champlain.edu. We hope to see you there!
URL:https://www.champlain.edu/event/itscon-26/
LOCATION:Champlain Room\, Center for Communication & Creative Media (CCM)\, 375 Maple Street\, Burlington\, VT\, 05401\, United States
CATEGORIES:Career & InSight,Student Activities
ATTACH;FMTTYPE=image/jpeg:https://www.champlain.edu/app/uploads/2023/08/Champlain-Room_ITS-event.jpg
GEO:44.4736955;-73.2041466
X-APPLE-STRUCTURED-LOCATION;VALUE=URI;X-ADDRESS=Champlain Room Center for Communication & Creative Media (CCM) 375 Maple Street Burlington VT 05401 United States;X-APPLE-RADIUS=500;X-TITLE=375 Maple Street:geo:-73.2041466,44.4736955
END:VEVENT
BEGIN:VEVENT
DTSTART;TZID=America/New_York:20260327T180000
DTEND;TZID=America/New_York:20260327T200000
DTSTAMP:20260423T010040
CREATED:20260319T011658Z
LAST-MODIFIED:20260319T152045Z
UID:10016981-1774634400-1774641600@www.champlain.edu
SUMMARY:Women Who Ride
DESCRIPTION:Old Spokes Home and Local Motion are celebrating Women’s History Month with an evening highlighting women cyclists from Vermont and beyond. \nJoin us for a screening of short films featuring women cyclists\, followed by a panel of local riders sharing their experiences. Panelists include staff from Old Spokes Home and Local Motion\, as well as Roxy Bombardier\, a Vermont-based cyclist and advocate featured in Claim the Lane\, whose work highlights inclusion in cycling and support for trans and gender-expansive riders; Rachel Cohen\, a Jericho\, VT-based teacher\, youth cycling advocate\, and organizer of The Ranger VT; and Zoraya Hightower\, a Burlington-based leader and advocate focused on environmental and social justice. \nThe event will take place on Friday\, March 27\, 2026 at 6:00 PM in the Champlain College Alumni Auditorium. This is a free event\, but space is limited – please reserve your spot by registering for tickets through Seven Days. \nPresented by Local Motion and Old Spokes Home\, with support from Champlain College\, Bivo\, and Radical Adventure Riders. \nQuestions? Email hpixley@champlain.edu
URL:https://www.champlain.edu/event/women-who-ride/
LOCATION:Alumni Auditorium\, Center for Communication & Creative Media (CCM)\, 375 Maple Street\, Burlington\, VT\, 05401\, United States
CATEGORIES:Fitness & Intramural Sports,Student Activities,Sustainability
ATTACH;FMTTYPE=image/jpeg:https://www.champlain.edu/app/uploads/2026/03/women-who-ride-stock-event.jpg
GEO:44.4736955;-73.2041466
X-APPLE-STRUCTURED-LOCATION;VALUE=URI;X-ADDRESS=Alumni Auditorium Center for Communication & Creative Media (CCM) 375 Maple Street Burlington VT 05401 United States;X-APPLE-RADIUS=500;X-TITLE=375 Maple Street:geo:-73.2041466,44.4736955
END:VEVENT
BEGIN:VEVENT
DTSTART;TZID=America/New_York:20260327T184500
DTEND;TZID=America/New_York:20260327T211500
DTSTAMP:20260423T010040
CREATED:20260323T155655Z
LAST-MODIFIED:20260326T165750Z
UID:10016985-1774637100-1774646100@www.champlain.edu
SUMMARY:Black Student Union Movie Night
DESCRIPTION:Ryan Coogler’s Sinners made history at the 98th Academy Awards on March 15th. To honor the Oscar winners and nominees we are going to watch the film. All students welcome!
URL:https://www.champlain.edu/event/black-student-union-movie-night/
LOCATION:Room 221\, Center for Communication & Creative Media (CCM)\, 375 Maple Street\, Burlington\, VT\, 05401\, United States
CATEGORIES:Art & Music,Cultural Programming,Student Activities
ATTACH;FMTTYPE=image/jpeg:https://www.champlain.edu/app/uploads/2026/03/sinners-bsu-event.jpg
GEO:44.4736955;-73.2041466
X-APPLE-STRUCTURED-LOCATION;VALUE=URI;X-ADDRESS=Room 221 Center for Communication & Creative Media (CCM) 375 Maple Street Burlington VT 05401 United States;X-APPLE-RADIUS=500;X-TITLE=375 Maple Street:geo:-73.2041466,44.4736955
END:VEVENT
BEGIN:VEVENT
DTSTART;TZID=America/New_York:20260331T180000
DTEND;TZID=America/New_York:20260331T220000
DTSTAMP:20260423T010040
CREATED:20251006T181322Z
LAST-MODIFIED:20251006T181325Z
UID:10013682-1774980000-1774994400@www.champlain.edu
SUMMARY:FGC Champs Locals
DESCRIPTION:Come play fighting games with our student community on Tuesdays 6-8 pm in Wick 102! We offer setups for Street Fighter 6\, Tekken 8\, Guilty Gear Strive\, and more! \nA little more about our club\, the purpose of FGC Champs is to build a community on campus with a shared love for fighting games. Whether you have just picked up the controller or played all your life\, everyone is welcome here!
URL:https://www.champlain.edu/event/fgc-champs-locals-2/2026-03-31/
LOCATION:Room 102\, Wick Hall\, 87 Summit St\, Burlington\, VT\, 05401\, United States
CATEGORIES:Student Activities
ATTACH;FMTTYPE=image/jpeg:https://www.champlain.edu/app/uploads/2025/08/The-View-Template-FGC-Champs.jpg
ORGANIZER;CN="Champlain Fighting Game Community":MAILTO:scooby.grimm@mymail.champlain.edu
GEO:44.4733787;-73.2036104
X-APPLE-STRUCTURED-LOCATION;VALUE=URI;X-ADDRESS=Room 102 Wick Hall 87 Summit St Burlington VT 05401 United States;X-APPLE-RADIUS=500;X-TITLE=87 Summit St:geo:-73.2036104,44.4733787
END:VEVENT
END:VCALENDAR