BEGIN:VCALENDAR
VERSION:2.0
PRODID:-//Champlain College - ECPv6.15.18//NONSGML v1.0//EN
CALSCALE:GREGORIAN
METHOD:PUBLISH
X-WR-CALNAME:Champlain College
X-ORIGINAL-URL:https://www.champlain.edu
X-WR-CALDESC:Events for Champlain College
REFRESH-INTERVAL;VALUE=DURATION:PT1H
X-Robots-Tag:noindex
X-PUBLISHED-TTL:PT1H
BEGIN:VTIMEZONE
TZID:America/New_York
BEGIN:DAYLIGHT
TZOFFSETFROM:-0500
TZOFFSETTO:-0400
TZNAME:EDT
DTSTART:20250309T070000
END:DAYLIGHT
BEGIN:STANDARD
TZOFFSETFROM:-0400
TZOFFSETTO:-0500
TZNAME:EST
DTSTART:20251102T060000
END:STANDARD
BEGIN:DAYLIGHT
TZOFFSETFROM:-0500
TZOFFSETTO:-0400
TZNAME:EDT
DTSTART:20260308T070000
END:DAYLIGHT
BEGIN:STANDARD
TZOFFSETFROM:-0400
TZOFFSETTO:-0500
TZNAME:EST
DTSTART:20261101T060000
END:STANDARD
BEGIN:DAYLIGHT
TZOFFSETFROM:-0500
TZOFFSETTO:-0400
TZNAME:EDT
DTSTART:20270314T070000
END:DAYLIGHT
BEGIN:STANDARD
TZOFFSETFROM:-0400
TZOFFSETTO:-0500
TZNAME:EST
DTSTART:20271107T060000
END:STANDARD
END:VTIMEZONE
BEGIN:VEVENT
DTSTART;TZID=America/New_York:20260803T180000
DTEND;TZID=America/New_York:20260803T190000
DTSTAMP:20260421T222509
CREATED:20260115T235621Z
LAST-MODIFIED:20260115T235624Z
UID:10016062-1785780000-1785783600@www.champlain.edu
SUMMARY:Monday Yoga
DESCRIPTION:Join us for yoga every Monday from 6-7 PM in the Fitness Center Studio. This class aims to help you feel better in your body! Class will include vinyasa style flows (linking breath with movement)\, multiple variations for physical postures\, gentle breathwork\, and a sprinkling of yogic philosophy. All bodies and experience levels welcome! No experience necessary.
URL:https://www.champlain.edu/event/monday-yoga-3/2026-08-03/
LOCATION:Fitness Center Studio\, IDX Student Life Center\, 262 S Willard St\, Burlington
CATEGORIES:Fitness & Intramural Sports
ATTACH;FMTTYPE=image/jpeg:https://www.champlain.edu/app/uploads/2024/08/yoga-stock.jpg
GEO:44.4725946;-73.2044524
X-APPLE-STRUCTURED-LOCATION;VALUE=URI;X-ADDRESS=Fitness Center Studio IDX Student Life Center 262 S Willard St Burlington;X-APPLE-RADIUS=500;X-TITLE=262 S Willard St:geo:-73.2044524,44.4725946
END:VEVENT
BEGIN:VEVENT
DTSTART;TZID=America/New_York:20260804T180000
DTEND;TZID=America/New_York:20260804T220000
DTSTAMP:20260421T222509
CREATED:20251006T181322Z
LAST-MODIFIED:20251006T181325Z
UID:10013700-1785866400-1785880800@www.champlain.edu
SUMMARY:FGC Champs Locals
DESCRIPTION:Come play fighting games with our student community on Tuesdays 6-8 pm in Wick 102! We offer setups for Street Fighter 6\, Tekken 8\, Guilty Gear Strive\, and more! \nA little more about our club\, the purpose of FGC Champs is to build a community on campus with a shared love for fighting games. Whether you have just picked up the controller or played all your life\, everyone is welcome here!
URL:https://www.champlain.edu/event/fgc-champs-locals-2/2026-08-04/
LOCATION:Room 102\, Wick Hall\, 87 Summit St\, Burlington\, VT\, 05401\, United States
CATEGORIES:Student Activities
ATTACH;FMTTYPE=image/jpeg:https://www.champlain.edu/app/uploads/2025/08/The-View-Template-FGC-Champs.jpg
ORGANIZER;CN="Champlain Fighting Game Community":MAILTO:scooby.grimm@mymail.champlain.edu
GEO:44.4733787;-73.2036104
X-APPLE-STRUCTURED-LOCATION;VALUE=URI;X-ADDRESS=Room 102 Wick Hall 87 Summit St Burlington VT 05401 United States;X-APPLE-RADIUS=500;X-TITLE=87 Summit St:geo:-73.2036104,44.4733787
END:VEVENT
BEGIN:VEVENT
DTSTART;TZID=America/New_York:20260805T190000
DTEND;TZID=America/New_York:20260805T200000
DTSTAMP:20260421T222509
CREATED:20260115T235516Z
LAST-MODIFIED:20260115T235517Z
UID:10015801-1785956400-1785960000@www.champlain.edu
SUMMARY:Wednesday Yoga
DESCRIPTION:Join us for yoga every Wednesday from 7-8 PM in the Fitness Center Studio. This class aims to help you feel better in your body! Class will include vinyasa style flows (linking breath with movement)\, multiple variations for physical postures\, gentle breathwork\, and a sprinkling of yogic philosophy. All bodies and experience levels welcome! No experience necessary.
URL:https://www.champlain.edu/event/wednesday-yoga-3/2026-08-05/
LOCATION:Fitness Center Studio\, IDX Student Life Center\, 262 S Willard St\, Burlington
CATEGORIES:Fitness & Intramural Sports
ATTACH;FMTTYPE=image/jpeg:https://www.champlain.edu/app/uploads/2024/09/yoga-stock-fitness-exercise.jpg
GEO:44.4725946;-73.2044524
X-APPLE-STRUCTURED-LOCATION;VALUE=URI;X-ADDRESS=Fitness Center Studio IDX Student Life Center 262 S Willard St Burlington;X-APPLE-RADIUS=500;X-TITLE=262 S Willard St:geo:-73.2044524,44.4725946
END:VEVENT
BEGIN:VEVENT
DTSTART;TZID=America/New_York:20260807T080000
DTEND;TZID=America/New_York:20260807T150000
DTSTAMP:20260421T222509
CREATED:20260325T171626Z
LAST-MODIFIED:20260325T171855Z
UID:10016969-1786089600-1786114800@www.champlain.edu
SUMMARY:August Summer Open House '26
DESCRIPTION:The ultimate way to experience Champlain College\n        \n                    \n                Register for our Summer Open House on Friday\, August 7\, and find out what makes Champlain different for yourself.\n                             \n        \n                    \n                Further details are coming soon\, but here’s what we can tell you to expect: \n\nTour campus and our Victorian-era residence halls\nGet inspired by our flexible credits and innovative Upside-Down Curriculum that starts on day one\nMeet current students and expert faculty\nFind a career-focused major that’s right for you\nCheck out our Leahy Center for Digital Forensics & Cybersecurity\, and our state-of-the-art esports arena\nExplore Burlington\, Vermont\, and make your friends jealous with lakeside sunset pics (or better yet\, just bring them with you!)\n\n            \n        \n        \n      \n\n        \n    \n  \n\n\n\n\n\n  \n    \n      \n\n        \n        \n                    \n                Great News!\nThis event qualifies you for Champlain’s $4\,000 Visit Scholarship — a $1\,000 per year scholarship distributed to students who visit campus through an official event or tour. \n            \n        \n        \n      \n\n        \n    \n  \n\n\n\n\n\n  \n    \n      \n\n        \n        \n                    \n                Plan Ahead\nHotel Options | More Resources to Plan Your Visit | Maps & Directions \nStay tuned for more information.
URL:https://www.champlain.edu/event/august-summer-open-house-26/
LOCATION:Champlain College\, 163 South Willard Street\, Burlington\, VT\, 05401\, United States
CATEGORIES:Admissions
ATTACH;FMTTYPE=image/jpeg:https://www.champlain.edu/app/uploads/2026/03/summer-open-house_campus-visit_family.jpg
ORGANIZER;CN="Office of Admissions":MAILTO:admission@champlain.edu
GEO:44.4755768;-73.2057021
X-APPLE-STRUCTURED-LOCATION;VALUE=URI;X-ADDRESS=Champlain College 163 South Willard Street Burlington VT 05401 United States;X-APPLE-RADIUS=500;X-TITLE=163 South Willard Street:geo:-73.2057021,44.4755768
END:VEVENT
BEGIN:VEVENT
DTSTART;TZID=America/New_York:20260810T180000
DTEND;TZID=America/New_York:20260810T190000
DTSTAMP:20260421T222509
CREATED:20260115T235621Z
LAST-MODIFIED:20260115T235624Z
UID:10016063-1786384800-1786388400@www.champlain.edu
SUMMARY:Monday Yoga
DESCRIPTION:Join us for yoga every Monday from 6-7 PM in the Fitness Center Studio. This class aims to help you feel better in your body! Class will include vinyasa style flows (linking breath with movement)\, multiple variations for physical postures\, gentle breathwork\, and a sprinkling of yogic philosophy. All bodies and experience levels welcome! No experience necessary.
URL:https://www.champlain.edu/event/monday-yoga-3/2026-08-10/
LOCATION:Fitness Center Studio\, IDX Student Life Center\, 262 S Willard St\, Burlington
CATEGORIES:Fitness & Intramural Sports
ATTACH;FMTTYPE=image/jpeg:https://www.champlain.edu/app/uploads/2024/08/yoga-stock.jpg
GEO:44.4725946;-73.2044524
X-APPLE-STRUCTURED-LOCATION;VALUE=URI;X-ADDRESS=Fitness Center Studio IDX Student Life Center 262 S Willard St Burlington;X-APPLE-RADIUS=500;X-TITLE=262 S Willard St:geo:-73.2044524,44.4725946
END:VEVENT
BEGIN:VEVENT
DTSTART;TZID=America/New_York:20260811T180000
DTEND;TZID=America/New_York:20260811T220000
DTSTAMP:20260421T222509
CREATED:20251006T181322Z
LAST-MODIFIED:20251006T181325Z
UID:10013701-1786471200-1786485600@www.champlain.edu
SUMMARY:FGC Champs Locals
DESCRIPTION:Come play fighting games with our student community on Tuesdays 6-8 pm in Wick 102! We offer setups for Street Fighter 6\, Tekken 8\, Guilty Gear Strive\, and more! \nA little more about our club\, the purpose of FGC Champs is to build a community on campus with a shared love for fighting games. Whether you have just picked up the controller or played all your life\, everyone is welcome here!
URL:https://www.champlain.edu/event/fgc-champs-locals-2/2026-08-11/
LOCATION:Room 102\, Wick Hall\, 87 Summit St\, Burlington\, VT\, 05401\, United States
CATEGORIES:Student Activities
ATTACH;FMTTYPE=image/jpeg:https://www.champlain.edu/app/uploads/2025/08/The-View-Template-FGC-Champs.jpg
ORGANIZER;CN="Champlain Fighting Game Community":MAILTO:scooby.grimm@mymail.champlain.edu
GEO:44.4733787;-73.2036104
X-APPLE-STRUCTURED-LOCATION;VALUE=URI;X-ADDRESS=Room 102 Wick Hall 87 Summit St Burlington VT 05401 United States;X-APPLE-RADIUS=500;X-TITLE=87 Summit St:geo:-73.2036104,44.4733787
END:VEVENT
BEGIN:VEVENT
DTSTART;TZID=America/New_York:20260812T190000
DTEND;TZID=America/New_York:20260812T200000
DTSTAMP:20260421T222509
CREATED:20260115T235516Z
LAST-MODIFIED:20260115T235517Z
UID:10015802-1786561200-1786564800@www.champlain.edu
SUMMARY:Wednesday Yoga
DESCRIPTION:Join us for yoga every Wednesday from 7-8 PM in the Fitness Center Studio. This class aims to help you feel better in your body! Class will include vinyasa style flows (linking breath with movement)\, multiple variations for physical postures\, gentle breathwork\, and a sprinkling of yogic philosophy. All bodies and experience levels welcome! No experience necessary.
URL:https://www.champlain.edu/event/wednesday-yoga-3/2026-08-12/
LOCATION:Fitness Center Studio\, IDX Student Life Center\, 262 S Willard St\, Burlington
CATEGORIES:Fitness & Intramural Sports
ATTACH;FMTTYPE=image/jpeg:https://www.champlain.edu/app/uploads/2024/09/yoga-stock-fitness-exercise.jpg
GEO:44.4725946;-73.2044524
X-APPLE-STRUCTURED-LOCATION;VALUE=URI;X-ADDRESS=Fitness Center Studio IDX Student Life Center 262 S Willard St Burlington;X-APPLE-RADIUS=500;X-TITLE=262 S Willard St:geo:-73.2044524,44.4725946
END:VEVENT
BEGIN:VEVENT
DTSTART;TZID=America/New_York:20260817T180000
DTEND;TZID=America/New_York:20260817T190000
DTSTAMP:20260421T222509
CREATED:20260115T235621Z
LAST-MODIFIED:20260115T235624Z
UID:10016064-1786989600-1786993200@www.champlain.edu
SUMMARY:Monday Yoga
DESCRIPTION:Join us for yoga every Monday from 6-7 PM in the Fitness Center Studio. This class aims to help you feel better in your body! Class will include vinyasa style flows (linking breath with movement)\, multiple variations for physical postures\, gentle breathwork\, and a sprinkling of yogic philosophy. All bodies and experience levels welcome! No experience necessary.
URL:https://www.champlain.edu/event/monday-yoga-3/2026-08-17/
LOCATION:Fitness Center Studio\, IDX Student Life Center\, 262 S Willard St\, Burlington
CATEGORIES:Fitness & Intramural Sports
ATTACH;FMTTYPE=image/jpeg:https://www.champlain.edu/app/uploads/2024/08/yoga-stock.jpg
GEO:44.4725946;-73.2044524
X-APPLE-STRUCTURED-LOCATION;VALUE=URI;X-ADDRESS=Fitness Center Studio IDX Student Life Center 262 S Willard St Burlington;X-APPLE-RADIUS=500;X-TITLE=262 S Willard St:geo:-73.2044524,44.4725946
END:VEVENT
BEGIN:VEVENT
DTSTART;TZID=America/New_York:20260818T180000
DTEND;TZID=America/New_York:20260818T220000
DTSTAMP:20260421T222509
CREATED:20251006T181322Z
LAST-MODIFIED:20251006T181325Z
UID:10013702-1787076000-1787090400@www.champlain.edu
SUMMARY:FGC Champs Locals
DESCRIPTION:Come play fighting games with our student community on Tuesdays 6-8 pm in Wick 102! We offer setups for Street Fighter 6\, Tekken 8\, Guilty Gear Strive\, and more! \nA little more about our club\, the purpose of FGC Champs is to build a community on campus with a shared love for fighting games. Whether you have just picked up the controller or played all your life\, everyone is welcome here!
URL:https://www.champlain.edu/event/fgc-champs-locals-2/2026-08-18/
LOCATION:Room 102\, Wick Hall\, 87 Summit St\, Burlington\, VT\, 05401\, United States
CATEGORIES:Student Activities
ATTACH;FMTTYPE=image/jpeg:https://www.champlain.edu/app/uploads/2025/08/The-View-Template-FGC-Champs.jpg
ORGANIZER;CN="Champlain Fighting Game Community":MAILTO:scooby.grimm@mymail.champlain.edu
GEO:44.4733787;-73.2036104
X-APPLE-STRUCTURED-LOCATION;VALUE=URI;X-ADDRESS=Room 102 Wick Hall 87 Summit St Burlington VT 05401 United States;X-APPLE-RADIUS=500;X-TITLE=87 Summit St:geo:-73.2036104,44.4733787
END:VEVENT
BEGIN:VEVENT
DTSTART;TZID=America/New_York:20260819T190000
DTEND;TZID=America/New_York:20260819T200000
DTSTAMP:20260421T222509
CREATED:20260115T235516Z
LAST-MODIFIED:20260115T235517Z
UID:10015803-1787166000-1787169600@www.champlain.edu
SUMMARY:Wednesday Yoga
DESCRIPTION:Join us for yoga every Wednesday from 7-8 PM in the Fitness Center Studio. This class aims to help you feel better in your body! Class will include vinyasa style flows (linking breath with movement)\, multiple variations for physical postures\, gentle breathwork\, and a sprinkling of yogic philosophy. All bodies and experience levels welcome! No experience necessary.
URL:https://www.champlain.edu/event/wednesday-yoga-3/2026-08-19/
LOCATION:Fitness Center Studio\, IDX Student Life Center\, 262 S Willard St\, Burlington
CATEGORIES:Fitness & Intramural Sports
ATTACH;FMTTYPE=image/jpeg:https://www.champlain.edu/app/uploads/2024/09/yoga-stock-fitness-exercise.jpg
GEO:44.4725946;-73.2044524
X-APPLE-STRUCTURED-LOCATION;VALUE=URI;X-ADDRESS=Fitness Center Studio IDX Student Life Center 262 S Willard St Burlington;X-APPLE-RADIUS=500;X-TITLE=262 S Willard St:geo:-73.2044524,44.4725946
END:VEVENT
BEGIN:VEVENT
DTSTART;TZID=America/New_York:20260824T180000
DTEND;TZID=America/New_York:20260824T190000
DTSTAMP:20260421T222509
CREATED:20260115T235621Z
LAST-MODIFIED:20260115T235624Z
UID:10016065-1787594400-1787598000@www.champlain.edu
SUMMARY:Monday Yoga
DESCRIPTION:Join us for yoga every Monday from 6-7 PM in the Fitness Center Studio. This class aims to help you feel better in your body! Class will include vinyasa style flows (linking breath with movement)\, multiple variations for physical postures\, gentle breathwork\, and a sprinkling of yogic philosophy. All bodies and experience levels welcome! No experience necessary.
URL:https://www.champlain.edu/event/monday-yoga-3/2026-08-24/
LOCATION:Fitness Center Studio\, IDX Student Life Center\, 262 S Willard St\, Burlington
CATEGORIES:Fitness & Intramural Sports
ATTACH;FMTTYPE=image/jpeg:https://www.champlain.edu/app/uploads/2024/08/yoga-stock.jpg
GEO:44.4725946;-73.2044524
X-APPLE-STRUCTURED-LOCATION;VALUE=URI;X-ADDRESS=Fitness Center Studio IDX Student Life Center 262 S Willard St Burlington;X-APPLE-RADIUS=500;X-TITLE=262 S Willard St:geo:-73.2044524,44.4725946
END:VEVENT
BEGIN:VEVENT
DTSTART;TZID=America/New_York:20260825T180000
DTEND;TZID=America/New_York:20260825T220000
DTSTAMP:20260421T222509
CREATED:20251006T181322Z
LAST-MODIFIED:20251006T181325Z
UID:10013703-1787680800-1787695200@www.champlain.edu
SUMMARY:FGC Champs Locals
DESCRIPTION:Come play fighting games with our student community on Tuesdays 6-8 pm in Wick 102! We offer setups for Street Fighter 6\, Tekken 8\, Guilty Gear Strive\, and more! \nA little more about our club\, the purpose of FGC Champs is to build a community on campus with a shared love for fighting games. Whether you have just picked up the controller or played all your life\, everyone is welcome here!
URL:https://www.champlain.edu/event/fgc-champs-locals-2/2026-08-25/
LOCATION:Room 102\, Wick Hall\, 87 Summit St\, Burlington\, VT\, 05401\, United States
CATEGORIES:Student Activities
ATTACH;FMTTYPE=image/jpeg:https://www.champlain.edu/app/uploads/2025/08/The-View-Template-FGC-Champs.jpg
ORGANIZER;CN="Champlain Fighting Game Community":MAILTO:scooby.grimm@mymail.champlain.edu
GEO:44.4733787;-73.2036104
X-APPLE-STRUCTURED-LOCATION;VALUE=URI;X-ADDRESS=Room 102 Wick Hall 87 Summit St Burlington VT 05401 United States;X-APPLE-RADIUS=500;X-TITLE=87 Summit St:geo:-73.2036104,44.4733787
END:VEVENT
BEGIN:VEVENT
DTSTART;TZID=America/New_York:20260826T190000
DTEND;TZID=America/New_York:20260826T200000
DTSTAMP:20260421T222509
CREATED:20260115T235516Z
LAST-MODIFIED:20260115T235517Z
UID:10015804-1787770800-1787774400@www.champlain.edu
SUMMARY:Wednesday Yoga
DESCRIPTION:Join us for yoga every Wednesday from 7-8 PM in the Fitness Center Studio. This class aims to help you feel better in your body! Class will include vinyasa style flows (linking breath with movement)\, multiple variations for physical postures\, gentle breathwork\, and a sprinkling of yogic philosophy. All bodies and experience levels welcome! No experience necessary.
URL:https://www.champlain.edu/event/wednesday-yoga-3/2026-08-26/
LOCATION:Fitness Center Studio\, IDX Student Life Center\, 262 S Willard St\, Burlington
CATEGORIES:Fitness & Intramural Sports
ATTACH;FMTTYPE=image/jpeg:https://www.champlain.edu/app/uploads/2024/09/yoga-stock-fitness-exercise.jpg
GEO:44.4725946;-73.2044524
X-APPLE-STRUCTURED-LOCATION;VALUE=URI;X-ADDRESS=Fitness Center Studio IDX Student Life Center 262 S Willard St Burlington;X-APPLE-RADIUS=500;X-TITLE=262 S Willard St:geo:-73.2044524,44.4725946
END:VEVENT
BEGIN:VEVENT
DTSTART;TZID=America/New_York:20260831T180000
DTEND;TZID=America/New_York:20260831T190000
DTSTAMP:20260421T222509
CREATED:20260115T235621Z
LAST-MODIFIED:20260115T235624Z
UID:10016066-1788199200-1788202800@www.champlain.edu
SUMMARY:Monday Yoga
DESCRIPTION:Join us for yoga every Monday from 6-7 PM in the Fitness Center Studio. This class aims to help you feel better in your body! Class will include vinyasa style flows (linking breath with movement)\, multiple variations for physical postures\, gentle breathwork\, and a sprinkling of yogic philosophy. All bodies and experience levels welcome! No experience necessary.
URL:https://www.champlain.edu/event/monday-yoga-3/2026-08-31/
LOCATION:Fitness Center Studio\, IDX Student Life Center\, 262 S Willard St\, Burlington
CATEGORIES:Fitness & Intramural Sports
ATTACH;FMTTYPE=image/jpeg:https://www.champlain.edu/app/uploads/2024/08/yoga-stock.jpg
GEO:44.4725946;-73.2044524
X-APPLE-STRUCTURED-LOCATION;VALUE=URI;X-ADDRESS=Fitness Center Studio IDX Student Life Center 262 S Willard St Burlington;X-APPLE-RADIUS=500;X-TITLE=262 S Willard St:geo:-73.2044524,44.4725946
END:VEVENT
END:VCALENDAR