BEGIN:VCALENDAR
VERSION:2.0
PRODID:-//Champlain College - ECPv6.15.18//NONSGML v1.0//EN
CALSCALE:GREGORIAN
METHOD:PUBLISH
X-WR-CALNAME:Champlain College
X-ORIGINAL-URL:https://www.champlain.edu
X-WR-CALDESC:Events for Champlain College
REFRESH-INTERVAL;VALUE=DURATION:PT1H
X-Robots-Tag:noindex
X-PUBLISHED-TTL:PT1H
BEGIN:VTIMEZONE
TZID:America/New_York
BEGIN:DAYLIGHT
TZOFFSETFROM:-0500
TZOFFSETTO:-0400
TZNAME:EDT
DTSTART:20250309T070000
END:DAYLIGHT
BEGIN:STANDARD
TZOFFSETFROM:-0400
TZOFFSETTO:-0500
TZNAME:EST
DTSTART:20251102T060000
END:STANDARD
BEGIN:DAYLIGHT
TZOFFSETFROM:-0500
TZOFFSETTO:-0400
TZNAME:EDT
DTSTART:20260308T070000
END:DAYLIGHT
BEGIN:STANDARD
TZOFFSETFROM:-0400
TZOFFSETTO:-0500
TZNAME:EST
DTSTART:20261101T060000
END:STANDARD
BEGIN:DAYLIGHT
TZOFFSETFROM:-0500
TZOFFSETTO:-0400
TZNAME:EDT
DTSTART:20270314T070000
END:DAYLIGHT
BEGIN:STANDARD
TZOFFSETFROM:-0400
TZOFFSETTO:-0500
TZNAME:EST
DTSTART:20271107T060000
END:STANDARD
END:VTIMEZONE
BEGIN:VEVENT
DTSTART;TZID=America/New_York:20260425T140000
DTEND;TZID=America/New_York:20260425T163000
DTSTAMP:20260425T233041
CREATED:20260423T134815Z
LAST-MODIFIED:20260423T155500Z
UID:10017566-1777125600-1777134600@www.champlain.edu
SUMMARY:Dance Team Annual Showcase
DESCRIPTION:The Champlain College Dance Team is holding their annual performance in the Alumni Auditorium\, which showcases their members’ hard work and dedication throughout the school year. The show consists of dances in various styles such as jazz\, hip hop\, lyrical\, tap\, and more!
URL:https://www.champlain.edu/event/dance-team-annual-showcase/
LOCATION:Alumni Auditorium\, Center for Communication & Creative Media (CCM)\, 375 Maple Street\, Burlington\, VT\, 05401\, United States
CATEGORIES:Art & Music
ATTACH;FMTTYPE=image/jpeg:https://www.champlain.edu/app/uploads/2026/04/dance-team-showcase-event.jpg
GEO:44.4736955;-73.2041466
X-APPLE-STRUCTURED-LOCATION;VALUE=URI;X-ADDRESS=Alumni Auditorium Center for Communication & Creative Media (CCM) 375 Maple Street Burlington VT 05401 United States;X-APPLE-RADIUS=500;X-TITLE=375 Maple Street:geo:-73.2041466,44.4736955
END:VEVENT
BEGIN:VEVENT
DTSTART;TZID=America/New_York:20260426T123000
DTEND;TZID=America/New_York:20260426T160000
DTSTAMP:20260425T233041
CREATED:20260402T212907Z
LAST-MODIFIED:20260409T160212Z
UID:10017264-1777206600-1777219200@www.champlain.edu
SUMMARY:The Sixth Semi-Annual Chauncey Awards
DESCRIPTION:As the Spring semester draws to a close\, Film Society presents The Sixth Semi-Annual Chauncey Awards: The Chaunceys Goes Punk! Featuring a new theme\, new categories\, and brand-new films submitted by YOU! \nJoin us for a night showcasing student films and vote for your favorites – all with some punk rock flair! \nSubmissions are due by April 23 at 8:00 PM. The screening will start on April 26 at 1:00 PM (mixer beforehand at 12:30 PM). \nIf you have any questions\, feel free to reach out via email to filmsociety@champlain.edu. We hope to see you there!
URL:https://www.champlain.edu/event/the-sixth-semi-annual-chauncey-awards/
LOCATION:Alumni Auditorium\, Center for Communication & Creative Media (CCM)\, 375 Maple Street\, Burlington\, VT\, 05401\, United States
CATEGORIES:Art & Music,Student Activities
ATTACH;FMTTYPE=image/jpeg:https://www.champlain.edu/app/uploads/2024/09/movie-projector-stock.jpg
GEO:44.4736955;-73.2041466
X-APPLE-STRUCTURED-LOCATION;VALUE=URI;X-ADDRESS=Alumni Auditorium Center for Communication & Creative Media (CCM) 375 Maple Street Burlington VT 05401 United States;X-APPLE-RADIUS=500;X-TITLE=375 Maple Street:geo:-73.2041466,44.4736955
END:VEVENT
BEGIN:VEVENT
DTSTART;TZID=America/New_York:20260505T180000
DTEND;TZID=America/New_York:20260505T200000
DTSTAMP:20260425T233041
CREATED:20260413T142913Z
LAST-MODIFIED:20260423T193828Z
UID:10017555-1778004000-1778011200@www.champlain.edu
SUMMARY:Champlain Connect: Burlington 2026
DESCRIPTION:Alumni & Fac/Staff Registration Class of 2026 Registration \nJoin local alumni\, soon-to-be graduates\, and members of the campus community at Fig for our annual Champlain Connect: Burlington event. Champlain Connect: Burlington is extra special as it is the first alumni networking event to which new graduates are invited! \nThe evening serves as an official welcome to the Champlain Alumni Community for the Class of 2026\, a celebration of your time\, and a chance for graduates to network with local alumni. \nRegister for an evening of community and connection with house-made cocktails\, mocktails\, and local eats at Fig in Shelburne\, VT. Drink tickets and food are included in registration. \nTransportation to and from campus will be available for Class of 2026 registrants. \nEvent Location:Fig\, 5573 Shelburne Road\, Shelburne\, VT 05482
URL:https://www.champlain.edu/event/champlain-connect-burlington-2026/
LOCATION:External Venue
CATEGORIES:Alumni & Family Networking,Student Activities
ATTACH;FMTTYPE=image/jpeg:https://www.champlain.edu/app/uploads/2025/04/alumni-connect-event-shelburne-vineyard.jpg
ORGANIZER;CN="Office of Alumni Relations":MAILTO:alumni@champlain.edu
END:VEVENT
BEGIN:VEVENT
DTSTART;TZID=America/New_York:20261023T090000
DTEND;TZID=America/New_York:20261023T143000
DTSTAMP:20260425T233041
CREATED:20260303T201015Z
LAST-MODIFIED:20260303T214943Z
UID:10016958-1792746000-1792765800@www.champlain.edu
SUMMARY:Champlain College Women in Cyber Summit 2026
DESCRIPTION:Save the date! \nChamplain College and our Women in Cybersecurity Leadership Council invite you to attend the Women in Cyber Summit 2026. This event is designed for a diverse audience\, from high school students to seasoned professionals. If you want to learn more about cybersecurity\, pursue a degree\, enter the field\, or connect with other professionals\, this summit is for you. \nCheck back soon for a registration link and full session lineup\, including our keynote speaker announcement.
URL:https://www.champlain.edu/event/champlain-college-women-in-cyber-summit-2026/
LOCATION:Champlain Room\, Center for Communication & Creative Media (CCM)\, 375 Maple Street\, Burlington\, VT\, 05401\, United States
CATEGORIES:Academic,Career & InSight
ATTACH;FMTTYPE=image/jpeg:https://www.champlain.edu/app/uploads/2026/03/women-in-cyber-summit-2025.jpg
GEO:44.4736955;-73.2041466
X-APPLE-STRUCTURED-LOCATION;VALUE=URI;X-ADDRESS=Champlain Room Center for Communication & Creative Media (CCM) 375 Maple Street Burlington VT 05401 United States;X-APPLE-RADIUS=500;X-TITLE=375 Maple Street:geo:-73.2041466,44.4736955
END:VEVENT
END:VCALENDAR