BEGIN:VCALENDAR
VERSION:2.0
PRODID:-//Champlain College - ECPv6.15.18//NONSGML v1.0//EN
CALSCALE:GREGORIAN
METHOD:PUBLISH
X-WR-CALNAME:Champlain College
X-ORIGINAL-URL:https://www.champlain.edu
X-WR-CALDESC:Events for Champlain College
REFRESH-INTERVAL;VALUE=DURATION:PT1H
X-Robots-Tag:noindex
X-PUBLISHED-TTL:PT1H
BEGIN:VTIMEZONE
TZID:America/New_York
BEGIN:DAYLIGHT
TZOFFSETFROM:-0500
TZOFFSETTO:-0400
TZNAME:EDT
DTSTART:20250309T070000
END:DAYLIGHT
BEGIN:STANDARD
TZOFFSETFROM:-0400
TZOFFSETTO:-0500
TZNAME:EST
DTSTART:20251102T060000
END:STANDARD
BEGIN:DAYLIGHT
TZOFFSETFROM:-0500
TZOFFSETTO:-0400
TZNAME:EDT
DTSTART:20260308T070000
END:DAYLIGHT
BEGIN:STANDARD
TZOFFSETFROM:-0400
TZOFFSETTO:-0500
TZNAME:EST
DTSTART:20261101T060000
END:STANDARD
BEGIN:DAYLIGHT
TZOFFSETFROM:-0500
TZOFFSETTO:-0400
TZNAME:EDT
DTSTART:20270314T070000
END:DAYLIGHT
BEGIN:STANDARD
TZOFFSETFROM:-0400
TZOFFSETTO:-0500
TZNAME:EST
DTSTART:20271107T060000
END:STANDARD
END:VTIMEZONE
BEGIN:VEVENT
DTSTART;TZID=America/New_York:20260501T100000
DTEND;TZID=America/New_York:20260501T120000
DTSTAMP:20260424T193949
CREATED:20251209T145615Z
LAST-MODIFIED:20251209T145617Z
UID:10015683-1777629600-1777636800@www.champlain.edu
SUMMARY:Bagel Friday
DESCRIPTION:Come to the WGC to enjoy good bagels and better company! All Champlain College community members are welcome to come and enjoy free bagels starting at 10 AM until we run out. Sponsored by SGA.
URL:https://www.champlain.edu/event/bagel-friday-9/2026-05-01/
LOCATION:Women’s & Gender Center\, Skiff Hall Annex\, 163 S Willard St\, Burlington\, VT\, 05401\, United States
CATEGORIES:Student Activities
ATTACH;FMTTYPE=image/jpeg:https://www.champlain.edu/app/uploads/2025/12/The-View-Template-4.jpg
GEO:44.4755768;-73.2057021
X-APPLE-STRUCTURED-LOCATION;VALUE=URI;X-ADDRESS=Women’s & Gender Center Skiff Hall Annex 163 S Willard St Burlington VT 05401 United States;X-APPLE-RADIUS=500;X-TITLE=163 S Willard St:geo:-73.2057021,44.4755768
END:VEVENT
BEGIN:VEVENT
DTSTART;TZID=America/New_York:20260505T180000
DTEND;TZID=America/New_York:20260505T200000
DTSTAMP:20260424T193949
CREATED:20260413T142913Z
LAST-MODIFIED:20260423T193828Z
UID:10017555-1778004000-1778011200@www.champlain.edu
SUMMARY:Champlain Connect: Burlington 2026
DESCRIPTION:Alumni & Fac/Staff Registration Class of 2026 Registration \nJoin local alumni\, soon-to-be graduates\, and members of the campus community at Fig for our annual Champlain Connect: Burlington event. Champlain Connect: Burlington is extra special as it is the first alumni networking event to which new graduates are invited! \nThe evening serves as an official welcome to the Champlain Alumni Community for the Class of 2026\, a celebration of your time\, and a chance for graduates to network with local alumni. \nRegister for an evening of community and connection with house-made cocktails\, mocktails\, and local eats at Fig in Shelburne\, VT. Drink tickets and food are included in registration. \nTransportation to and from campus will be available for Class of 2026 registrants. \nEvent Location:Fig\, 5573 Shelburne Road\, Shelburne\, VT 05482
URL:https://www.champlain.edu/event/champlain-connect-burlington-2026/
LOCATION:External Venue
CATEGORIES:Alumni & Family Networking,Student Activities
ATTACH;FMTTYPE=image/jpeg:https://www.champlain.edu/app/uploads/2025/04/alumni-connect-event-shelburne-vineyard.jpg
ORGANIZER;CN="Office of Alumni Relations":MAILTO:alumni@champlain.edu
END:VEVENT
BEGIN:VEVENT
DTSTART;TZID=America/New_York:20260506T170000
DTEND;TZID=America/New_York:20260506T200000
DTSTAMP:20260424T193949
CREATED:20260416T153332Z
LAST-MODIFIED:20260416T153519Z
UID:10017563-1778086800-1778097600@www.champlain.edu
SUMMARY:Magic the Gathering Club
DESCRIPTION:The Magic The Gathering Club brings together students who share an interest in the game. We aim to welcome new players\, host competitions for casual players\, and create a fun\, social space. With so many MTG fans at Champlain College\, it’s a great way to meet others and make new friends. Swing by and play a friendly game of magic every Wednesday!
URL:https://www.champlain.edu/event/magic-the-gathering-club/2026-05-06/
LOCATION:Room 442\, Center for Communication & Creative Media\, 375 Maple Street\, Burlington\, 05401\, United States
CATEGORIES:Student Activities
ATTACH;FMTTYPE=image/jpeg:https://www.champlain.edu/app/uploads/2023/08/MTG-Club.jpg
GEO:44.4736955;-73.2041466
X-APPLE-STRUCTURED-LOCATION;VALUE=URI;X-ADDRESS=Room 442 Center for Communication & Creative Media 375 Maple Street Burlington 05401 United States;X-APPLE-RADIUS=500;X-TITLE=375 Maple Street:geo:-73.2041466,44.4736955
END:VEVENT
END:VCALENDAR