BEGIN:VCALENDAR
VERSION:2.0
PRODID:-//Champlain College - ECPv6.15.3//NONSGML v1.0//EN
CALSCALE:GREGORIAN
METHOD:PUBLISH
X-WR-CALNAME:Champlain College
X-ORIGINAL-URL:https://www.champlain.edu
X-WR-CALDESC:Events for Champlain College
REFRESH-INTERVAL;VALUE=DURATION:PT1H
X-Robots-Tag:noindex
X-PUBLISHED-TTL:PT1H
BEGIN:VTIMEZONE
TZID:America/New_York
BEGIN:DAYLIGHT
TZOFFSETFROM:-0500
TZOFFSETTO:-0400
TZNAME:EDT
DTSTART:20260308T070000
END:DAYLIGHT
BEGIN:STANDARD
TZOFFSETFROM:-0400
TZOFFSETTO:-0500
TZNAME:EST
DTSTART:20261101T060000
END:STANDARD
END:VTIMEZONE
BEGIN:VEVENT
DTSTART;TZID=America/New_York:20260410T120000
DTEND;TZID=America/New_York:20260410T130000
DTSTAMP:20260419T092445
CREATED:20260312T145531Z
LAST-MODIFIED:20260312T145533Z
UID:10016965-1775822400-1775826000@www.champlain.edu
SUMMARY:Alumni Virtual Office Hours with a Career Coach: Tech Industry
DESCRIPTION:An allotted time for undergraduate alumni to drop in\, connect with others in their industry\, tackle career challenges\, and work on professional development materials. \nEach session is dedicated to a specific industry and hosted by a Career Coach from Champlain’s Career Collaborative. The April session is hosted by Kerry Shackett\, Career Coach for the Division of ITS. \nWhether you have a question about your resume\, are looking to meet other alumni in your industry\, or simply could use a dedicated time to get the work done (we love a good body doubling moment)\, these office hours are here to support your professional development and career journey. \nStop by or stay for the hour!
URL:https://www.champlain.edu/event/alumni-virtual-hours-career-coach-tech-industry/
LOCATION:Webinar / Virtual\, United States
CATEGORIES:Alumni & Family Networking,Career & InSight
ATTACH;FMTTYPE=image/jpeg:https://www.champlain.edu/app/uploads/2026/03/Virtual-Office-Hours-Event-Cover.jpg
ORGANIZER;CN="Office of Alumni Relations":MAILTO:alumni@champlain.edu
END:VEVENT
BEGIN:VEVENT
DTSTART;TZID=America/New_York:20260421T193000
DTEND;TZID=America/New_York:20260421T203000
DTSTAMP:20260419T092445
CREATED:20260402T181615Z
LAST-MODIFIED:20260402T183511Z
UID:10017267-1776799800-1776803400@www.champlain.edu
SUMMARY:Alumni Book Club: April Meeting
DESCRIPTION:Join our next Alumni Book Club meeting! With monthly virtual meetings\, we read a new book each month\, spanning various genres. You do not have to attend every meeting to participate in the book club. \nApril’s theme is New Beginnings\, and we will be reading Gingko Season by Naomi Xu Elegant. \nExplore new genres\, enjoy cocktail and mocktail pairings\, and engage in conversation driven by diverse perspectives. Whether you prefer to listen or like to lead a discussion\, there is a place for you here. \nCan’t make the April meeting? Reach out to bnewman@champlain.edu to be added to the Alumni Book Club email list for future meetings.
URL:https://www.champlain.edu/event/alumni-book-club-april-meeting/
LOCATION:Webinar / Virtual\, United States
CATEGORIES:Alumni & Family Networking
ATTACH;FMTTYPE=image/jpeg:https://www.champlain.edu/app/uploads/2026/02/book-club-stock-event.jpg
ORGANIZER;CN="Office of Alumni Relations":MAILTO:alumni@champlain.edu
END:VEVENT
BEGIN:VEVENT
DTSTART;TZID=America/New_York:20260505T180000
DTEND;TZID=America/New_York:20260505T200000
DTSTAMP:20260419T092445
CREATED:20260413T142913Z
LAST-MODIFIED:20260413T155044Z
UID:10017555-1778004000-1778011200@www.champlain.edu
SUMMARY:Champlain Connect: Burlington 2026
DESCRIPTION:Alumni Registration  Class of 2026 Registration \nJoin local alumni\, soon-to-be graduates\, and members of the campus community at Fig for our annual Champlain Connect: Burlington event. Champlain Connect: Burlington is extra special as it is the first alumni networking event to which new graduates are invited! \nThe evening serves as an official welcome to the Champlain Alumni Community for the Class of 2026\, a celebration of your time\, and a chance for graduates to network with local alumni. \nRegister for an evening of community and connection with house-made cocktails\, mocktails\, and local eats at Fig in Shelburne\, VT. Drink tickets and food are included in registration. \nTransportation to and from campus will be available for Class of 2026 registrants. \nEvent Location:Fig\, 5573 Shelburne Road\, Shelburne\, VT 05482
URL:https://www.champlain.edu/event/champlain-connect-burlington-2026/
LOCATION:External Venue
CATEGORIES:Alumni & Family Networking,Student Activities
ATTACH;FMTTYPE=image/jpeg:https://www.champlain.edu/app/uploads/2025/04/alumni-connect-event-shelburne-vineyard.jpg
ORGANIZER;CN="Office of Alumni Relations":MAILTO:alumni@champlain.edu
END:VEVENT
END:VCALENDAR